Workbook
Name AC_Target_Air: CALCULATION!$G$240
Name AC_Target_Elec: CALCULATION!$G$219
Name cf_in_cm: ASSUMPTIONS!$C$19
Name Electricity_available_on_site: Elec_on_site_T[ELECTRICITY ONSITE]
Name fdf: [1]ASSUMPTION!$G$9
Name Gas_Price: DASHBOARD!$P$14
Name Gasa_price_Table: Table7[GAS PRICE]
Name Interest_Rate: DASHBOARD!$P$16
Name Interest_Rate_table: Table6[INTEREST RATE]
Name Lifetime: ASSUMPTIONS!#REF!
Name Lifetime_P: CALCULATION!$B$161
Name Methane_Density_cf: ASSUMPTIONS!$C$18
Name Methane_Density_cm: ASSUMPTIONS!$C$17
Name Minimum_Rate_air: CALCULATION!$C$235
Name Minimum_Rate_Elec: CALCULATION!$C$214
Name Number_Days: ASSUMPTIONS!$C$15
Name Number_Hours: ASSUMPTIONS!$C$14
Name Number_Minutes: ASSUMPTIONS!$C$13
Name Numberpump: Pump_Number_T['# PUMPS]
Name Retrofit_lifetime: Table8[RETROFIT LIFETIME]
Name Retrofit_New: retrofit_new_T[NEW/RETROFIT]
Name Share_Methane: ASSUMPTIONS!$C$20
Name SupplyGas: Supply_gas_T[TYPE OF SUPPLY GAS]
Name Target: DASHBOARD!$P$20

Sheet HOME
B5: Zero emission technologies for pneumatic controllers in the USA
B6: Abatement cost tool
B11: About this Tool
B12: The abatement cost tool has been developed by Carbon Limits. The abatement cost tool is designed to complement the report "Zero emission technologies for pneumatic controllers in the USA" and provide the user with the possibility to evaluate the abatement cost for a variety of site configurations and based on a range of assumptions. The tool has been designed to evaluate the abatement cost for wide deployment of zero emission controllers. Abatement costs are always dependant on site specific considerations and should be evaluated on a case by case basis.
B14: Navigation in the Tool
B15: The Tool can be navigated through Tab system located below by clicking on the corresponding module title. The tool includes:
B17: DASHBOARD | D17: The dashboard is the central tab in the excel. The user can set the main input parameters and assumptions. Abatement costs are then presented for Electric Controllers and Instrument Air when relevant. NOTE: CATF, in consultation with Carbon Limits, has augmented the Dashboard so that it presents summary statistics relevant for calculating costs using an Annualization approach.
B19: ASSUMPTIONS | D19: Assumptions Tab contains the full list of financial and technical assumptions used in estimations.
B21: CALCULATION | D21: The user can follow calculation process of project and baseline costs, gas savings and emissions.
B23: About Carbon Limits
B24: Carbon Limits is a consulting company with long standing experience in supporting energy efficiency measures in the petroleum industry. In particular, our team works in close collaboration with industries, government, and public bodies to identify and address inefficiencies in the use of natural gas and through this to achieve reductions in greenhouse gas emissions and other air pollutants. (http://www.carbonlimits.no/)

Sheet DASHBOARD
B5: Dashboard
B7: Please provide main input parameters in the grey fields below (default values that can be changed if necessary). Results are presented based for Electric Controllers and Instrument Air depending on which of the options is applicable. Guidance are available when clicking on different cells.
B9: INPUTS
C12: 1 | E12: Site Description | K12: 2 | M12: Macro-economic assumptions
E14: Number of continuous bleed controllers | F14: 10 | M14: Gas price (in USD/Mscf) | P14: 1.87
E16: Number of intermittent vent controllers | F16: 10 | M16: Interest rate (in %) | P16: 0.0325
E18: Number of Emergency Shut Down (ESDs) | F18: 0 | M18: Remaining lifetime | P18: 10
E20: Number of Pumps | F20: 1 | M20: Social cost of Methane (in USD/tCH4) | P20: 1300
E22: Is there electricity available on-site? | F22: Electricity available on-site | K22: 3 | M22: Emission Factors assumptions
E24: Is the site new (green field) or existing (retrofit)? | F24: Retrofit | M24: Emission factor - Continuous bleed controllers (in cf/h) | P24: 5.1
E26: Quality of the gas used as supply gas for the controllers | F26: NAA gas composition | M26: Emission factor - Intermittent vent controllers (in cf/h) | P26: 3.5
M28: Emission factor - Pumps (in cf/h) | P28: 13.3
B31: RESULTS
C34: A | E34: Electronic Controllers | K34: B | M34: Instrument Air
E35: (Note: sites with more than 8 batteries or more than 3 solar panels are not presented) | M35: (Sites without electricity or less than 20 controllers are not presented)
E37: Are the zero emission options applicable in this case? | F37: =IF(CALCULATION!H77=0,"YES","NO") -> YES | M37: =IFERROR(IF(OR(SUM(F14:F18)<20,VLOOKUP(F22,LIST!E4:F5,2,FALSE)="NE"),"NO","YES"),"") -> YES
E39: Incremental CAPEX | F39: =IF($F$37="NO","",CALCULATION!G163) -> 108000 | M39: =IFERROR(IF(M37="NO","",CALCULATION!G189),"") -> 120000
F41: NOTE: ABATEMENT COSTS IN ROWS 43-49 ARE CALCULATED USING NET PRESENT VALUE. SEE ROWS 57-75 FOR VALUES CALCULATED WITH AN ANNUALIZATION APPROACH
E43: Methane abatement cost ($/metric ton) | F43: =IFERROR(IF(F37="NO","",CALCULATION!G180),"") -> 640.79834 | M43: =IFERROR(IF(M37="NO","",CALCULATION!G206),"") -> 994.81356
E45: VOC abatement cost ($/metric ton) | F45: =IFERROR(IF(F37="NO","",CALCULATION!G181),"") -> 1206.7788 | M45: =IFERROR(IF(M37="NO","",CALCULATION!G207),"") -> 1799.449
E47: VOC abatement cost ($/short ton) | F47: =IFERROR(F45/ASSUMPTIONS!C87,"") -> 1094.7726 | M47: =IFERROR(M45/ASSUMPTIONS!C87,"") -> 1632.4346
E49: Methane Abatement cost ($/short ton) | F49: =IFERROR(F43/ASSUMPTIONS!C87,"") -> 581.32317 | M49: =IFERROR(M43/ASSUMPTIONS!C87,"") -> 902.48076
E52: Annual VOC Savings (short tons) | F52: =IF($F$37="NO","",CALCULATION!H172*ASSUMPTIONS!C87) -> 5.5326464
E54: Annual Methane Savings (short tons) | F54: =IF($F$37="NO","",CALCULATION!H173*ASSUMPTIONS!C87) -> 14.766509
B57: INFORMATION ON COSTS - ANNUALIZED APPROACH
E60: Difference in equipment costs | F60: =IF($F$37="NO","",SUM(CALCULATION!F73:F79)-SUM(CALCULATION!F98:F101)) -> 90000
E61: Difference in equipment costs - Annualized | F61: =IF($F$37="NO","",(F60*Interest_Rate*(1+Interest_Rate)^$P$18)/((1+Interest_Rate)^$P$18-1)) -> 10685.797
E62: Difference in installation costs | F62: =IF($F$37="NO","",SUM(CALCULATION!F80:F81)-SUM(CALCULATION!F102:F103)) -> 18000
E63: Difference in installation costs - Annualized | F63: =IF($F$37="NO","",(F62*Interest_Rate*(1+Interest_Rate)^$P$18)/((1+Interest_Rate)^$P$18-1)) -> 2137.1593
E64: Difference in CAPEX | F64: =IF(F37="NO","",CALCULATION!G163) -> 108000
E65: Difference in CAPEX - Annualized | F65: =IF($F$37="NO","",(F64*Interest_Rate*(1+Interest_Rate)^$P$18)/((1+Interest_Rate)^$P$18-1)) -> 12822.956
E66: Difference in ongoing Cost - Annual (average) | F66: =IF(F37="NO","",AVERAGE(CALCULATION!H167:V167)) -> -2498.3453
E67: Value of Saved Gas - Annual | F67: =IF(F37="NO","",CALCULATION!H171) -> 1626.6532
E68: Total annualized Cost - Difference | F68: =IF(F37="NO","",F65+F66-F67) -> 8697.9574
E70: Annual VOC savings (short tons) | F70: =IF(F37="NO","",IFERROR(CALCULATION!H172*ASSUMPTIONS!C87,"")) -> 5.5326464
E71: VOC Abatement Cost ($/short ton) | F71: =IFERROR(F68/F70,"") -> 1572.1152
E72: Annual Methane savings (short tons) | F72: =IF(F37="NO","",IFERROR(CALCULATION!H173*ASSUMPTIONS!C87,"")) -> 14.766509
E73: Methane Abatement Cost ($/short ton) | F73: =IFERROR(F68/F72,"") -> 589.03276
E74: Annual Methane-ethane savings (Short ton) | F74: =IFERROR(F72*ASSUMPTIONS!C88,"") -> 17.143916
E75: Methane-ethane Abatement Cost ($/short ton) | F75: =IFERROR(F68/F74,"") -> 507.3495

Sheet LIST
B3: NEW/RETROFIT | E3: ELECTRICITY ONSITE | H3: # PUMPS | J3: TYPE OF SUPPLY GAS
B4: New site | C4: N | E4: Electricity available on-site | F4: E | H4: 0 | J4: NAA gas composition | K4: NAA
B5: Retrofit | C5: R | E5: No electricity available on-site | F5: NE | H5: 1 | J5: ROS gas composition | K5: ROS
H6: 2
B8: INTEREST RATE | E8: GAS PRICE | H8: RETROFIT LIFETIME | J8: Remaining Lifetime
B9: 0.03 | E9: 1 | H9: 5 | J9: 5
B10: 0.04 | E10: 2 | H10: 10 | J10: 10
B11: 0.05 | E11: 3 | H11: 15 | J11: 15
B12: 0.06 | E12: 4 | H12: 20
B13: 0.07 | E13: 5
B14: 0.08
B15: 0.09
B16: 0.1

Sheet ASSUMPTIONS
B5: Assumption sheet
B7: The full list of economic and technical assumptions used in the calculations is presented below. The values can be accessed by the user, but cannot be changed.
B9: DESCRIPTION OF THE CASE
B11: Description | C11: Assumption | D11: Unit | E11: References (The reference list is available in the appendix of the report)
B12: GENERAL ASSUMPTIONS
B13: Number of minutes per hours | C13: 60 | D13: # | E13: NA
B14: Number of hours in a day | C14: 24 | D14: # | E14: NA
B15: Number of Days in a year | C15: 365 | D15: # | E15: NA
B16: HP->MW | C16: 0.0007457 | D16: MW/HP | E16: NA
B17: Methane density | C17: 0.656 | D17: kg/m3 | E17: NA
B18: Methane density | C18: 0.018575851 | D18: kg/cf | E18: NA
B19: cf->cm | C19: 0.028316847 | D19: cm/cf | E19: NA
A20: Share methane in the Gas-ROS | B20: Share methane in the Gas | C20: 0.0163 | D20: tCH4/Mscf | E20: [15] | F20: ROS
A21: Share of VOC in the gas-ROS | B21: Share of VOC in the gas | C21: 0.0048 | D21: tVOC/Mscf | E21: [15] | F21: ROS
A22: Share methane in the Gas-NAA | B22: Share methane in the Gas | C22: 0.0154 | D22: tCH4/Mscf | E22: [15] | F22: NAA
A23: Share of VOC in the gas-NAA | B23: Share of VOC in the gas | C23: 0.00577 | D23: tVOC/Mscf | E23: [15] | F23: NAA
B24: Lifetime new sites | C24: 15 | D24: years | E24: NA
B25: ESD emission factors | C25: 0.41 | D25: cf/h | E25: [2]
B26: INSTRUMENT AIR - ENGINEERING ASSUMPTIONS
B27: Share of the air bypassed in dryer | C27: 0.17 | D27: % | E27: [14,10]
B28: Share of the utility air supply | C28: 2 | D28: % | E28: [14,10]
B29: Sizing of compressor - variable component | C29: 0.2026 | D29: HP/cfm | E29: [14,10]
B30: Sizing of compressor - constant component | C30: 4.2356 | D30: HP | E30: [14,10]
B31: Load of the compressor (main) | C31: 0.5 | D31: % | E31: [14,10]
B32: Lifetime of the compressors | C32: 6 | D32: years | E32: [14,10]
B33: ELECTRONIC CONTROLLERS - COST ASSUMPTIONS
B34: Continuous Controller (s) + control valve | C34: 4000 | D34: USD/unit | E34: [9,10]
B35: Intermittent Controller (s) + control valve | C35: 4000 | D35: USD/unit | E35: [9,10]
B36: Chemical Pump | C36: 6000 | D36: USD/unit | E36: [9,10]
B37: Control Panel | C37: 4000 | D37: USD/unit | E37: [9,10]
B38: Solar Panel | C38: 500 | D38: USD/unit | E38: [9,12]
B39: Battery | C39: 400 | D39: USD/unit | E39: [9,12]
B40: Installation Costs | C40: 0.2 | D40: of Equipment costs | E40: [9,10]
B41: Annual maintenance | C41: 80 | D41: $/controller/year | E41: [15]
B42: Electricity price US | C42: 0.1 | D42: USD/kwh | E42: [15]
B43: ELECTRONIC CONTROLLERS - ENGINEERING ASSUMPTIONS
B44: Batterry replacement frequency | C44: 4 | D44: years | E44: [9,10]
B45: Solar Panel replacement frequency | C45: 10 | D45: years | E45: [9,10]
B46: Continuous Controller (s) | C46: 0.08 | D46: Amps/unit | E46: [9]
B47: Intermittent Controller (s) | C47: 0.08 | D47: Amps/unit | E47: [9]
...

Sheet CALCULATION
B5: Calculation Sheet
B7: The calculation process of project and baseline costs, gas savings and emissions is presented below.
B9: DESCRIPTION OF THE CASE
E11: NEW/RETROFIT (N for New and R for Retrofit) | F11: ELECTRICITY_ON_SITE? (E for Electricity and NE for No Electricity) | G11: TYPE OF GAS (D fro Dry and W for Wet) | H11: Number of Continuous Controller (s) | I11: Number of Intermittent Controller (s) | J11: Number of Chemical Pumps | K11: Number of ESD(s)
E12: =VLOOKUP(DASHBOARD!F24,LIST!B4:D5,2,FALSE) -> R | F12: =VLOOKUP(DASHBOARD!F22,LIST!E4:F5,2,FALSE) -> E | G12: =VLOOKUP(DASHBOARD!F26,LIST!J4:L5,2,FALSE) -> NAA | H12: =DASHBOARD!F14 -> 10 | I12: =DASHBOARD!F16 -> 10 | J12: =DASHBOARD!F20 -> 1 | K12: =DASHBOARD!F18 -> 0
B14: EMISSIONS ESTIMATE - BASELINE (i.e. current situation)
D16: Emission Factor | E16: Number of devices | F16: Total Emissions
C17: Unit | D17: cf/h | E17: # | F17: cf/h
C18: Continuous Controller (s) | D18: =DASHBOARD!P24 -> 5.1 | E18: =H12 -> 10 | F18: =D18*E18 -> 51
C19: Intermittent Controller (s) | D19: =DASHBOARD!P26 -> 3.5 | E19: =I12 -> 10 | F19: =D19*E19 -> 35
C20: Chemical Pumps | D20: =DASHBOARD!P28 -> 13.3 | E20: =J12 -> 1 | F20: =D20*E20 -> 13.3
C21: ESD | D21: =ASSUMPTIONS!C25 -> 0.41 | E21: =K12 -> 0 | F21: =D21*E21 -> 0
C23: Total gas emissions | F23: =SUM(F18:F21) -> 99.3 | G23: =F17 -> cf/h
C24: Total gas emissions | F24: =F23*Number_Hours*Number_Days/1000 -> 869.868 | G24: Mscf/Year
B25: =C25&"-"&$G$12 -> Share methane in the Gas-NAA | C25: Share methane in the Gas | F25: =VLOOKUP(B25,ASSUMPTIONS!$A$20:$C$23,3,FALSE) -> 0.0154 | G25: tCH4/Mscf
B26: =C26&"-"&$G$12 -> Share of VOC in the gas-NAA | C26: Share of VOC in the gas | F26: =VLOOKUP(B26,ASSUMPTIONS!$A$20:$C$23,3,FALSE) -> 0.00577 | G26: tVOC/Mscf
C27: Total methane emissions | F27: =F24*F25 -> 13.395967 | G27: tCH4/year
B29: EMISSIONS ESTIMATE - ELECTRIC CONTROLER
B31: Note: It is assumed that pneumatic ESD are used
D32: Emission Factor | E32: Number of devices | F32: Total Emissions
D33: cf/h | E33: # | F33: cf/h
C34: ESD | D34: =D21 -> 0.41 | E34: =E21 -> 0 | F34: =F21 -> 0
C36: Total gas emissions | F36: =SUM(F34:F34) -> 0 | G36: =G23 -> cf/h
C37: Total gas emissions | F37: =F36*Number_Hours*Number_Days/1000 -> 0 | G37: Mscf
C38: Total methane emissions | F38: =F37*F25 -> 0 | G38: tCH4
B41: PROJECT COSTS - ELECTRONIC CONTROLLER
B43: SIZING
D44: Number of devices | E44: Requirement per unit | F44: Total
C45: Unit | D45: # | E45: Amp | F45: Amp
C46: Continuous Controller (s) | D46: =E18 -> 10 | E46: =ASSUMPTIONS!C46 -> 0.08 | F46: =D46*E46 -> 0.8
C47: Intermittent Controller (s) | D47: =E19 -> 10 | E47: =ASSUMPTIONS!C47 -> 0.08 | F47: =D47*E47 -> 0.8
C48: Chemical Pumps | D48: =E20 -> 1 | E48: =ASSUMPTIONS!C49 -> 0.17 | F48: =D48*E48 -> 0.17
C49: ESD | D49: 0 | E49: =ASSUMPTIONS!C50 -> 0.16 | F49: =D49*E49 -> 0
C50: Others requirements | D50: 1 | E50: =ASSUMPTIONS!C51 -> 0.29 | F50: =D50*E50 -> 0.29
C51: Total | F51: =SUM(F46:F50) -> 2.06
C53: Key assumptions (from assumptions sheet)
C54: =ASSUMPTIONS!B52 -> System Voltage | D54: =ASSUMPTIONS!C52 -> 12 | E54: =ASSUMPTIONS!D52 -> V
C55: =ASSUMPTIONS!B53 -> Battery Average Efficiency | D55: =ASSUMPTIONS!C53 -> 0.85 | E55: =ASSUMPTIONS!D53 -> %
C56: =ASSUMPTIONS!B54 -> Avg. Peak Sun | D56: =ASSUMPTIONS!C54 -> 4 | E56: =ASSUMPTIONS!D54 -> h/days
C57: =ASSUMPTIONS!B55 -> At Maximum Depth of Discharge | D57: =ASSUMPTIONS!C55 -> 0.8 | E57: =ASSUMPTIONS!D55 -> %
...
