Workbook

Sheet Emissions
A1: County | B1: Industry Segment | C1: Emission Source | D1: Pollutant | E1: 2020 Emissions (metric tons) | F1: Emission Source (General) | G1: Projections Commodity | H1: 2025 Growth Factor Reference Case | I1: 2025 Growth Factor High Oil Price Case | J1: 2025 Growth Factor Low Oil Price Case | K1: 2030 Growth Factor Reference Case | L1: 2030 Growth Factor High Oil Price Case | M1: 2030 Growth Factor Low Oil Price Case | N1: County Subject to Part 50? | O1: Part 50 2025 Reduction % | P1: Part 50 2030 Reduction % | Q1: 2025 Emissions Reference Case | R1: 2025 Emissions High Oil Price Case | S1: 2025 Emissions Low Oil Price Case | T1: 2030 Emissions Reference Case | U1: 2030 Emissions High Oil Price Case | V1: 2030 Emissions Low Oil Price Case | X1: Year | Y1: Pollutant | Z1: Reference Case (MT) | AA1: High Oil Price Case (MT) | AB1: Low Oil Price Case (MT) | AC1: Reference Case (% Change from 2020) | AD1: High Oil Price Case (% Change from 2020) | AE1: Low Oil Price Case (% Change from 2020)
A2: Chaves | B2: Processing | C2: Acid Gas Removal Units | D2: CO2 | E2: 62895 | F2: Acid Gas Removal Units | G2: Gas | H2: =IF(G2="Mix",'Growth Factors'!$N$7,(IF(G2="Oil",'Growth Factors'!$E$7,'Growth Factors'!$K$7))) -> 0.089570563 | I2: =IF(G2="Mix",'Growth Factors'!$O$7,(IF(G2="Oil",'Growth Factors'!$F$7,'Growth Factors'!$L$7))) -> 0.14741463 | J2: =IF(G2="Mix",'Growth Factors'!$P$7,(IF(G2="Oil",'Growth Factors'!$G$7,'Growth Factors'!$M$7))) -> -0.009784634 | K2: =IF(G2="Mix",'Growth Factors'!$N$12,(IF(G2="Oil",'Growth Factors'!$E$12,'Growth Factors'!$K$12))) -> 0.1235404 | L2: =IF(G2="Mix",'Growth Factors'!$O$12,(IF(G2="Oil",'Growth Factors'!$F$12,'Growth Factors'!$L$12))) -> 0.23183777 | M2: =IF(G2="Mix",'Growth Factors'!$P$12,(IF(G2="Oil",'Growth Factors'!$G$12,'Growth Factors'!$M$12))) -> 0.027241295 | N2: =VLOOKUP(A2,'Part 50 Counties'!$A$2:$B$34,2) -> Yes | O2: =(IF(N2="No",0,(IF(D2="CO2",0,(VLOOKUP(F2,'Rule Reductions'!$C$2:$E$75,2,FALSE)))))) -> 0 | P2: =(IF(N2="No",0,(IF(D2="CO2",0,(VLOOKUP(F2,'Rule Reductions'!$C$2:$E$75,3,FALSE)))))) -> 0 | Q2: =+$E2*(1+H2)*(1-$O2) -> 68528.541 | R2: =+$E2*(1+I2)*(1-$O2) -> 72166.643 | S2: =+$E2*(1+J2)*(1-$O2) -> 62279.595 | T2: =+$E2*(1+K2)*(1-$P2) -> 70665.074 | U2: =+$E2*(1+L2)*(1-$P2) -> 77476.437 | V2: =+$E2*(1+M2)*(1-$P2) -> 64608.341 | X2: 2020 | Y2: CH4 | Z2: =SUMIF($D$2:$E$1419,Y2,$E$2:$E$1419) -> 547212.23 | AA2: NA | AB2: NA | AC2: NA | AD2: NA | AE2: NA
A3: Eddy | B3: G&B | C3: Acid Gas Removal Units | D3: CO2 | E3: 12681.678 | F3: Acid Gas Removal Units | G3: Gas | H3: =IF(G3="Mix",'Growth Factors'!$N$7,(IF(G3="Oil",'Growth Factors'!$E$7,'Growth Factors'!$K$7))) -> 0.089570563 | I3: =IF(G3="Mix",'Growth Factors'!$O$7,(IF(G3="Oil",'Growth Factors'!$F$7,'Growth Factors'!$L$7))) -> 0.14741463 | J3: =IF(G3="Mix",'Growth Factors'!$P$7,(IF(G3="Oil",'Growth Factors'!$G$7,'Growth Factors'!$M$7))) -> -0.009784634 | K3: =IF(G3="Mix",'Growth Factors'!$N$12,(IF(G3="Oil",'Growth Factors'!$E$12,'Growth Factors'!$K$12))) -> 0.1235404 | L3: =IF(G3="Mix",'Growth Factors'!$O$12,(IF(G3="Oil",'Growth Factors'!$F$12,'Growth Factors'!$L$12))) -> 0.23183777 | M3: =IF(G3="Mix",'Growth Factors'!$P$12,(IF(G3="Oil",'Growth Factors'!$G$12,'Growth Factors'!$M$12))) -> 0.027241295 | N3: =VLOOKUP(A3,'Part 50 Counties'!$A$2:$B$34,2) -> Yes | O3: =(IF(N3="No",0,(IF(D3="CO2",0,(VLOOKUP(F3,'Rule Reductions'!$C$2:$E$75,2,FALSE)))))) -> 0 | P3: =(IF(N3="No",0,(IF(D3="CO2",0,(VLOOKUP(F3,'Rule Reductions'!$C$2:$E$75,3,FALSE)))))) -> 0 | Q3: =+$E3*(1+H3)*(1-$O3) -> 13817.583 | R3: =+$E3*(1+I3)*(1-$O3) -> 14551.143 | S3: =+$E3*(1+J3)*(1-$O3) -> 12557.592 | T3: =+$E3*(1+K3)*(1-$P3) -> 14248.377 | U3: =+$E3*(1+L3)*(1-$P3) -> 15621.77 | V3: =+$E3*(1+M3)*(1-$P3) -> 13027.143 | X3: 2020 | Y3: CO2 | Z3: =SUMIF($D$2:$E$1419,Y3,$E$2:$E$1419) -> 18177400 | AA3: NA | AB3: NA | AC3: NA | AD3: NA | AE3: NA
A4: Eddy | B4: Processing | C4: Acid Gas Removal Units | D4: CO2 | E4: 282693.5 | F4: Acid Gas Removal Units | G4: Gas | H4: =IF(G4="Mix",'Growth Factors'!$N$7,(IF(G4="Oil",'Growth Factors'!$E$7,'Growth Factors'!$K$7))) -> 0.089570563 | I4: =IF(G4="Mix",'Growth Factors'!$O$7,(IF(G4="Oil",'Growth Factors'!$F$7,'Growth Factors'!$L$7))) -> 0.14741463 | J4: =IF(G4="Mix",'Growth Factors'!$P$7,(IF(G4="Oil",'Growth Factors'!$G$7,'Growth Factors'!$M$7))) -> -0.009784634 | K4: =IF(G4="Mix",'Growth Factors'!$N$12,(IF(G4="Oil",'Growth Factors'!$E$12,'Growth Factors'!$K$12))) -> 0.1235404 | L4: =IF(G4="Mix",'Growth Factors'!$O$12,(IF(G4="Oil",'Growth Factors'!$F$12,'Growth Factors'!$L$12))) -> 0.23183777 | M4: =IF(G4="Mix",'Growth Factors'!$P$12,(IF(G4="Oil",'Growth Factors'!$G$12,'Growth Factors'!$M$12))) -> 0.027241295 | N4: =VLOOKUP(A4,'Part 50 Counties'!$A$2:$B$34,2) -> Yes | O4: =(IF(N4="No",0,(IF(D4="CO2",0,(VLOOKUP(F4,'Rule Reductions'!$C$2:$E$75,2,FALSE)))))) -> 0 | P4: =(IF(N4="No",0,(IF(D4="CO2",0,(VLOOKUP(F4,'Rule Reductions'!$C$2:$E$75,3,FALSE)))))) -> 0 | Q4: =+$E4*(1+H4)*(1-$O4) -> 308014.52 | R4: =+$E4*(1+I4)*(1-$O4) -> 324366.66 | S4: =+$E4*(1+J4)*(1-$O4) -> 279927.45 | T4: =+$E4*(1+K4)*(1-$P4) -> 317617.57 | U4: =+$E4*(1+L4)*(1-$P4) -> 348232.53 | V4: =+$E4*(1+M4)*(1-$P4) -> 290394.44 | X4: 2025 | Y4: CH4 | Z4: =SUMIF($D$2:$Q$1419,Y4,$Q$2:$Q$1419) -> 283012.58 | AA4: =SUMIF($D$2:$R$1419,Y4,$R$2:$R$1419) -> 315169.93 | AB4: =SUMIF($D$2:$S$1419,Y4,$S$2:$S$1419) -> 253740.79 | AC4: =(Z4-$Z$2)/$Z$2 -> -0.4828102 | AD4: =(AA4-$Z$2)/$Z$2 -> -0.42404442 | AE4: =(AB4-$Z$2)/$Z$2 -> -0.53630277
A5: Lea | B5: G&B | C5: Acid Gas Removal Units | D5: CO2 | E5: 84950.621 | F5: Acid Gas Removal Units | G5: Gas | H5: =IF(G5="Mix",'Growth Factors'!$N$7,(IF(G5="Oil",'Growth Factors'!$E$7,'Growth Factors'!$K$7))) -> 0.089570563 | I5: =IF(G5="Mix",'Growth Factors'!$O$7,(IF(G5="Oil",'Growth Factors'!$F$7,'Growth Factors'!$L$7))) -> 0.14741463 | J5: =IF(G5="Mix",'Growth Factors'!$P$7,(IF(G5="Oil",'Growth Factors'!$G$7,'Growth Factors'!$M$7))) -> -0.009784634 | K5: =IF(G5="Mix",'Growth Factors'!$N$12,(IF(G5="Oil",'Growth Factors'!$E$12,'Growth Factors'!$K$12))) -> 0.1235404 | L5: =IF(G5="Mix",'Growth Factors'!$O$12,(IF(G5="Oil",'Growth Factors'!$F$12,'Growth Factors'!$L$12))) -> 0.23183777 | M5: =IF(G5="Mix",'Growth Factors'!$P$12,(IF(G5="Oil",'Growth Factors'!$G$12,'Growth Factors'!$M$12))) -> 0.027241295 | N5: =VLOOKUP(A5,'Part 50 Counties'!$A$2:$B$34,2) -> Yes | O5: =(IF(N5="No",0,(IF(D5="CO2",0,(VLOOKUP(F5,'Rule Reductions'!$C$2:$E$75,2,FALSE)))))) -> 0 | P5: =(IF(N5="No",0,(IF(D5="CO2",0,(VLOOKUP(F5,'Rule Reductions'!$C$2:$E$75,3,FALSE)))))) -> 0 | Q5: =+$E5*(1+H5)*(1-$O5) -> 92559.696 | R5: =+$E5*(1+I5)*(1-$O5) -> 97473.586 | S5: =+$E5*(1+J5)*(1-$O5) -> 84119.411 | T5: =+$E5*(1+K5)*(1-$P5) -> 95445.455 | U5: =+$E5*(1+L5)*(1-$P5) -> 104645.38 | V5: =+$E5*(1+M5)*(1-$P5) -> 87264.786 | X5: 2025 | Y5: CO2 | Z5: =SUMIF($D$2:$Q$1419,Y5,$Q$2:$Q$1419) -> 20255314 | AA5: =SUMIF($D$2:$R$1419,Y5,$R$2:$R$1419) -> 22748156 | AB5: =SUMIF($D$2:$S$1419,Y5,$S$2:$S$1419) -> 18121631 | AC5: =(Z5-$Z$3)/$Z$3 -> 0.11431306 | AD5: =(AA5-$Z$3)/$Z$3 -> 0.25145266 | AE5: =(AB5-$Z$3)/$Z$3 -> -0.0030680562
A6: Lea | B6: Processing | C6: Acid Gas Removal Units | D6: CO2 | E6: 908193.88 | F6: Acid Gas Removal Units | G6: Gas | H6: =IF(G6="Mix",'Growth Factors'!$N$7,(IF(G6="Oil",'Growth Factors'!$E$7,'Growth Factors'!$K$7))) -> 0.089570563 | I6: =IF(G6="Mix",'Growth Factors'!$O$7,(IF(G6="Oil",'Growth Factors'!$F$7,'Growth Factors'!$L$7))) -> 0.14741463 | J6: =IF(G6="Mix",'Growth Factors'!$P$7,(IF(G6="Oil",'Growth Factors'!$G$7,'Growth Factors'!$M$7))) -> -0.009784634 | K6: =IF(G6="Mix",'Growth Factors'!$N$12,(IF(G6="Oil",'Growth Factors'!$E$12,'Growth Factors'!$K$12))) -> 0.1235404 | L6: =IF(G6="Mix",'Growth Factors'!$O$12,(IF(G6="Oil",'Growth Factors'!$F$12,'Growth Factors'!$L$12))) -> 0.23183777 | M6: =IF(G6="Mix",'Growth Factors'!$P$12,(IF(G6="Oil",'Growth Factors'!$G$12,'Growth Factors'!$M$12))) -> 0.027241295 | N6: =VLOOKUP(A6,'Part 50 Counties'!$A$2:$B$34,2) -> Yes | O6: =(IF(N6="No",0,(IF(D6="CO2",0,(VLOOKUP(F6,'Rule Reductions'!$C$2:$E$75,2,FALSE)))))) -> 0 | P6: =(IF(N6="No",0,(IF(D6="CO2",0,(VLOOKUP(F6,'Rule Reductions'!$C$2:$E$75,3,FALSE)))))) -> 0 | Q6: =+$E6*(1+H6)*(1-$O6) -> 989541.31 | R6: =+$E6*(1+I6)*(1-$O6) -> 1042074.9 | S6: =+$E6*(1+J6)*(1-$O6) -> 899307.53 | T6: =+$E6*(1+K6)*(1-$P6) -> 1020392.5 | U6: =+$E6*(1+L6)*(1-$P6) -> 1118747.5 | V6: =+$E6*(1+M6)*(1-$P6) -> 932934.25 | X6: 2030 | Y6: CH4 | Z6: =SUMIF($D$2:$T$1419,Y6,$T$2:$T$1419) -> 265258.12 | AA6: =SUMIF($D$2:$U$1419,Y6,$U$2:$U$1419) -> 312795.74 | AB6: =SUMIF($D$2:$V$1419,Y6,$V$2:$V$1419) -> 236092.56 | AC6: =(Z6-$Z$2)/$Z$2 -> -0.5152555 | AD6: =(AA6-$Z$2)/$Z$2 -> -0.42838312 | AE6: =(AB6-$Z$2)/$Z$2 -> -0.56855394
A7: San Juan | B7: Processing | C7: Acid Gas Removal Units | D7: CO2 | E7: 695958.9 | F7: Acid Gas Removal Units | G7: Gas | H7: =IF(G7="Mix",'Growth Factors'!$N$7,(IF(G7="Oil",'Growth Factors'!$E$7,'Growth Factors'!$K$7))) -> 0.089570563 | I7: =IF(G7="Mix",'Growth Factors'!$O$7,(IF(G7="Oil",'Growth Factors'!$F$7,'Growth Factors'!$L$7))) -> 0.14741463 | J7: =IF(G7="Mix",'Growth Factors'!$P$7,(IF(G7="Oil",'Growth Factors'!$G$7,'Growth Factors'!$M$7))) -> -0.009784634 | K7: =IF(G7="Mix",'Growth Factors'!$N$12,(IF(G7="Oil",'Growth Factors'!$E$12,'Growth Factors'!$K$12))) -> 0.1235404 | L7: =IF(G7="Mix",'Growth Factors'!$O$12,(IF(G7="Oil",'Growth Factors'!$F$12,'Growth Factors'!$L$12))) -> 0.23183777 | M7: =IF(G7="Mix",'Growth Factors'!$P$12,(IF(G7="Oil",'Growth Factors'!$G$12,'Growth Factors'!$M$12))) -> 0.027241295 | N7: =VLOOKUP(A7,'Part 50 Counties'!$A$2:$B$34,2) -> Yes | O7: =(IF(N7="No",0,(IF(D7="CO2",0,(VLOOKUP(F7,'Rule Reductions'!$C$2:$E$75,2,FALSE)))))) -> 0 | P7: =(IF(N7="No",0,(IF(D7="CO2",0,(VLOOKUP(F7,'Rule Reductions'!$C$2:$E$75,3,FALSE)))))) -> 0 | Q7: =+$E7*(1+H7)*(1-$O7) -> 758296.33 | R7: =+$E7*(1+I7)*(1-$O7) -> 798553.43 | S7: =+$E7*(1+J7)*(1-$O7) -> 689149.2 | T7: =+$E7*(1+K7)*(1-$P7) -> 781937.94 | U7: =+$E7*(1+L7)*(1-$P7) -> 857308.46 | V7: =+$E7*(1+M7)*(1-$P7) -> 714917.72 | X7: 2030 | Y7: CO2 | Z7: =SUMIF($D$2:$T$1419,Y7,$T$2:$T$1419) -> 20785260 | AA7: =SUMIF($D$2:$U$1419,Y7,$U$2:$U$1419) -> 24891312 | AB7: =SUMIF($D$2:$V$1419,Y7,$V$2:$V$1419) -> 18388353 | AC7: =(Z7-$Z$3)/$Z$3 -> 0.14346715 | AD7: =(AA7-$Z$3)/$Z$3 -> 0.36935493 | AE7: =(AB7-$Z$3)/$Z$3 -> 0.011605229
A8: Chaves | B8: Production | C8: Associated Gas | D8: CH4 | E8: 14.410218 | F8: Associated Gas | G8: Oil | H8: =IF(G8="Mix",'Growth Factors'!$N$7,(IF(G8="Oil",'Growth Factors'!$E$7,'Growth Factors'!$K$7))) -> 0.15686782 | I8: =IF(G8="Mix",'Growth Factors'!$O$7,(IF(G8="Oil",'Growth Factors'!$F$7,'Growth Factors'!$L$7))) -> 0.42947167 | J8: =IF(G8="Mix",'Growth Factors'!$P$7,(IF(G8="Oil",'Growth Factors'!$G$7,'Growth Factors'!$M$7))) -> 0.0086691922 | K8: =IF(G8="Mix",'Growth Factors'!$N$12,(IF(G8="Oil",'Growth Factors'!$E$12,'Growth Factors'!$K$12))) -> 0.17780497 | L8: =IF(G8="Mix",'Growth Factors'!$O$12,(IF(G8="Oil",'Growth Factors'!$F$12,'Growth Factors'!$L$12))) -> 0.60458389 | M8: =IF(G8="Mix",'Growth Factors'!$P$12,(IF(G8="Oil",'Growth Factors'!$G$12,'Growth Factors'!$M$12))) -> -0.014829342 | N8: =VLOOKUP(A8,'Part 50 Counties'!$A$2:$B$34,2) -> Yes | O8: =(IF(N8="No",0,(IF(D8="CO2",0,(VLOOKUP(F8,'Rule Reductions'!$C$2:$E$75,2,FALSE)))))) -> 0.95 | P8: =(IF(N8="No",0,(IF(D8="CO2",0,(VLOOKUP(F8,'Rule Reductions'!$C$2:$E$75,3,FALSE)))))) -> 0.95 | Q8: =+$E8*(1+H8)*(1-$O8) -> 0.83353589 | R8: =+$E8*(1+I8)*(1-$O8) -> 1.0299499 | S8: =+$E8*(1+J8)*(1-$O8) -> 0.72675717 | T8: =+$E8*(1+K8)*(1-$P8) -> 0.84862134 | U8: =+$E8*(1+L8)*(1-$P8) -> 1.1561202 | V8: =+$E8*(1+M8)*(1-$P8) -> 0.70982621
A9: Chaves | B9: Production | C9: Associated Gas | D9: CO2 | E9: 3081.215 | F9: Associated Gas | G9: Oil | H9: =IF(G9="Mix",'Growth Factors'!$N$7,(IF(G9="Oil",'Growth Factors'!$E$7,'Growth Factors'!$K$7))) -> 0.15686782 | I9: =IF(G9="Mix",'Growth Factors'!$O$7,(IF(G9="Oil",'Growth Factors'!$F$7,'Growth Factors'!$L$7))) -> 0.42947167 | J9: =IF(G9="Mix",'Growth Factors'!$P$7,(IF(G9="Oil",'Growth Factors'!$G$7,'Growth Factors'!$M$7))) -> 0.0086691922 | K9: =IF(G9="Mix",'Growth Factors'!$N$12,(IF(G9="Oil",'Growth Factors'!$E$12,'Growth Factors'!$K$12))) -> 0.17780497 | L9: =IF(G9="Mix",'Growth Factors'!$O$12,(IF(G9="Oil",'Growth Factors'!$F$12,'Growth Factors'!$L$12))) -> 0.60458389 | M9: =IF(G9="Mix",'Growth Factors'!$P$12,(IF(G9="Oil",'Growth Factors'!$G$12,'Growth Factors'!$M$12))) -> -0.014829342 | N9: =VLOOKUP(A9,'Part 50 Counties'!$A$2:$B$34,2) -> Yes | O9: =(IF(N9="No",0,(IF(D9="CO2",0,(VLOOKUP(F9,'Rule Reductions'!$C$2:$E$75,2,FALSE)))))) -> 0 | P9: =(IF(N9="No",0,(IF(D9="CO2",0,(VLOOKUP(F9,'Rule Reductions'!$C$2:$E$75,3,FALSE)))))) -> 0 | Q9: =+$E9*(1+H9)*(1-$O9) -> 3564.5585 | R9: =+$E9*(1+I9)*(1-$O9) -> 4404.5096 | S9: =+$E9*(1+J9)*(1-$O9) -> 3107.9267 | T9: =+$E9*(1+K9)*(1-$P9) -> 3629.0704 | U9: =+$E9*(1+L9)*(1-$P9) -> 4944.068 | V9: =+$E9*(1+M9)*(1-$P9) -> 3035.5226
A10: Colfax | B10: Production | C10: Associated Gas | D10: CH4 | E10: 0 | F10: Associated Gas | G10: Oil | H10: =IF(G10="Mix",'Growth Factors'!$N$7,(IF(G10="Oil",'Growth Factors'!$E$7,'Growth Factors'!$K$7))) -> 0.15686782 | I10: =IF(G10="Mix",'Growth Factors'!$O$7,(IF(G10="Oil",'Growth Factors'!$F$7,'Growth Factors'!$L$7))) -> 0.42947167 | J10: =IF(G10="Mix",'Growth Factors'!$P$7,(IF(G10="Oil",'Growth Factors'!$G$7,'Growth Factors'!$M$7))) -> 0.0086691922 | K10: =IF(G10="Mix",'Growth Factors'!$N$12,(IF(G10="Oil",'Growth Factors'!$E$12,'Growth Factors'!$K$12))) -> 0.17780497 | L10: =IF(G10="Mix",'Growth Factors'!$O$12,(IF(G10="Oil",'Growth Factors'!$F$12,'Growth Factors'!$L$12))) -> 0.60458389 | M10: =IF(G10="Mix",'Growth Factors'!$P$12,(IF(G10="Oil",'Growth Factors'!$G$12,'Growth Factors'!$M$12))) -> -0.014829342 | N10: =VLOOKUP(A10,'Part 50 Counties'!$A$2:$B$34,2) -> No | O10: =(IF(N10="No",0,(IF(D10="CO2",0,(VLOOKUP(F10,'Rule Reductions'!$C$2:$E$75,2,FALSE)))))) -> 0 | P10: =(IF(N10="No",0,(IF(D10="CO2",0,(VLOOKUP(F10,'Rule Reductions'!$C$2:$E$75,3,FALSE)))))) -> 0 | Q10: =+$E10*(1+H10)*(1-$O10) -> 0 | R10: =+$E10*(1+I10)*(1-$O10) -> 0 | S10: =+$E10*(1+J10)*(1-$O10) -> 0 | T10: =+$E10*(1+K10)*(1-$P10) -> 0 | U10: =+$E10*(1+L10)*(1-$P10) -> 0 | V10: =+$E10*(1+M10)*(1-$P10) -> 0
A11: Colfax | B11: Production | C11: Associated Gas | D11: CO2 | E11: 0 | F11: Associated Gas | G11: Oil | H11: =IF(G11="Mix",'Growth Factors'!$N$7,(IF(G11="Oil",'Growth Factors'!$E$7,'Growth Factors'!$K$7))) -> 0.15686782 | I11: =IF(G11="Mix",'Growth Factors'!$O$7,(IF(G11="Oil",'Growth Factors'!$F$7,'Growth Factors'!$L$7))) -> 0.42947167 | J11: =IF(G11="Mix",'Growth Factors'!$P$7,(IF(G11="Oil",'Growth Factors'!$G$7,'Growth Factors'!$M$7))) -> 0.0086691922 | K11: =IF(G11="Mix",'Growth Factors'!$N$12,(IF(G11="Oil",'Growth Factors'!$E$12,'Growth Factors'!$K$12))) -> 0.17780497 | L11: =IF(G11="Mix",'Growth Factors'!$O$12,(IF(G11="Oil",'Growth Factors'!$F$12,'Growth Factors'!$L$12))) -> 0.60458389 | M11: =IF(G11="Mix",'Growth Factors'!$P$12,(IF(G11="Oil",'Growth Factors'!$G$12,'Growth Factors'!$M$12))) -> -0.014829342 | N11: =VLOOKUP(A11,'Part 50 Counties'!$A$2:$B$34,2) -> No | O11: =(IF(N11="No",0,(IF(D11="CO2",0,(VLOOKUP(F11,'Rule Reductions'!$C$2:$E$75,2,FALSE)))))) -> 0 | P11: =(IF(N11="No",0,(IF(D11="CO2",0,(VLOOKUP(F11,'Rule Reductions'!$C$2:$E$75,3,FALSE)))))) -> 0 | Q11: =+$E11*(1+H11)*(1-$O11) -> 0 | R11: =+$E11*(1+I11)*(1-$O11) -> 0 | S11: =+$E11*(1+J11)*(1-$O11) -> 0 | T11: =+$E11*(1+K11)*(1-$P11) -> 0 | U11: =+$E11*(1+L11)*(1-$P11) -> 0 | V11: =+$E11*(1+M11)*(1-$P11) -> 0
A12: Eddy | B12: Production | C12: Associated Gas | D12: CH4 | E12: 1847.7266 | F12: Associated Gas | G12: Oil | H12: =IF(G12="Mix",'Growth Factors'!$N$7,(IF(G12="Oil",'Growth Factors'!$E$7,'Growth Factors'!$K$7))) -> 0.15686782 | I12: =IF(G12="Mix",'Growth Factors'!$O$7,(IF(G12="Oil",'Growth Factors'!$F$7,'Growth Factors'!$L$7))) -> 0.42947167 | J12: =IF(G12="Mix",'Growth Factors'!$P$7,(IF(G12="Oil",'Growth Factors'!$G$7,'Growth Factors'!$M$7))) -> 0.0086691922 | K12: =IF(G12="Mix",'Growth Factors'!$N$12,(IF(G12="Oil",'Growth Factors'!$E$12,'Growth Factors'!$K$12))) -> 0.17780497 | L12: =IF(G12="Mix",'Growth Factors'!$O$12,(IF(G12="Oil",'Growth Factors'!$F$12,'Growth Factors'!$L$12))) -> 0.60458389 | M12: =IF(G12="Mix",'Growth Factors'!$P$12,(IF(G12="Oil",'Growth Factors'!$G$12,'Growth Factors'!$M$12))) -> -0.014829342 | N12: =VLOOKUP(A12,'Part 50 Counties'!$A$2:$B$34,2) -> Yes | O12: =(IF(N12="No",0,(IF(D12="CO2",0,(VLOOKUP(F12,'Rule Reductions'!$C$2:$E$75,2,FALSE)))))) -> 0.95 | P12: =(IF(N12="No",0,(IF(D12="CO2",0,(VLOOKUP(F12,'Rule Reductions'!$C$2:$E$75,3,FALSE)))))) -> 0.95 | Q12: =+$E12*(1+H12)*(1-$O12) -> 106.87877 | R12: =+$E12*(1+I12)*(1-$O12) -> 132.06364 | S12: =+$E12*(1+J12)*(1-$O12) -> 93.187243 | T12: =+$E12*(1+K12)*(1-$P12) -> 108.81308 | U12: =+$E12*(1+L12)*(1-$P12) -> 148.24161 | V12: =+$E12*(1+M12)*(1-$P12) -> 91.0163
A13: Eddy | B13: Production | C13: Associated Gas | D13: CO2 | E13: 404421.73 | F13: Associated Gas | G13: Oil | H13: =IF(G13="Mix",'Growth Factors'!$N$7,(IF(G13="Oil",'Growth Factors'!$E$7,'Growth Factors'!$K$7))) -> 0.15686782 | I13: =IF(G13="Mix",'Growth Factors'!$O$7,(IF(G13="Oil",'Growth Factors'!$F$7,'Growth Factors'!$L$7))) -> 0.42947167 | J13: =IF(G13="Mix",'Growth Factors'!$P$7,(IF(G13="Oil",'Growth Factors'!$G$7,'Growth Factors'!$M$7))) -> 0.0086691922 | K13: =IF(G13="Mix",'Growth Factors'!$N$12,(IF(G13="Oil",'Growth Factors'!$E$12,'Growth Factors'!$K$12))) -> 0.17780497 | L13: =IF(G13="Mix",'Growth Factors'!$O$12,(IF(G13="Oil",'Growth Factors'!$F$12,'Growth Factors'!$L$12))) -> 0.60458389 | M13: =IF(G13="Mix",'Growth Factors'!$P$12,(IF(G13="Oil",'Growth Factors'!$G$12,'Growth Factors'!$M$12))) -> -0.014829342 | N13: =VLOOKUP(A13,'Part 50 Counties'!$A$2:$B$34,2) -> Yes | O13: =(IF(N13="No",0,(IF(D13="CO2",0,(VLOOKUP(F13,'Rule Reductions'!$C$2:$E$75,2,FALSE)))))) -> 0 | P13: =(IF(N13="No",0,(IF(D13="CO2",0,(VLOOKUP(F13,'Rule Reductions'!$C$2:$E$75,3,FALSE)))))) -> 0 | Q13: =+$E13*(1+H13)*(1-$O13) -> 467862.48 | R13: =+$E13*(1+I13)*(1-$O13) -> 578109.4 | S13: =+$E13*(1+J13)*(1-$O13) -> 407927.74 | T13: =+$E13*(1+K13)*(1-$P13) -> 476329.92 | U13: =+$E13*(1+L13)*(1-$P13) -> 648928.59 | V13: =+$E13*(1+M13)*(1-$P13) -> 398424.42
A14: Harding | B14: Production | C14: Associated Gas | D14: CH4 | E14: 0 | F14: Associated Gas | G14: Oil | H14: =IF(G14="Mix",'Growth Factors'!$N$7,(IF(G14="Oil",'Growth Factors'!$E$7,'Growth Factors'!$K$7))) -> 0.15686782 | I14: =IF(G14="Mix",'Growth Factors'!$O$7,(IF(G14="Oil",'Growth Factors'!$F$7,'Growth Factors'!$L$7))) -> 0.42947167 | J14: =IF(G14="Mix",'Growth Factors'!$P$7,(IF(G14="Oil",'Growth Factors'!$G$7,'Growth Factors'!$M$7))) -> 0.0086691922 | K14: =IF(G14="Mix",'Growth Factors'!$N$12,(IF(G14="Oil",'Growth Factors'!$E$12,'Growth Factors'!$K$12))) -> 0.17780497 | L14: =IF(G14="Mix",'Growth Factors'!$O$12,(IF(G14="Oil",'Growth Factors'!$F$12,'Growth Factors'!$L$12))) -> 0.60458389 | M14: =IF(G14="Mix",'Growth Factors'!$P$12,(IF(G14="Oil",'Growth Factors'!$G$12,'Growth Factors'!$M$12))) -> -0.014829342 | N14: =VLOOKUP(A14,'Part 50 Counties'!$A$2:$B$34,2) -> No | O14: =(IF(N14="No",0,(IF(D14="CO2",0,(VLOOKUP(F14,'Rule Reductions'!$C$2:$E$75,2,FALSE)))))) -> 0 | P14: =(IF(N14="No",0,(IF(D14="CO2",0,(VLOOKUP(F14,'Rule Reductions'!$C$2:$E$75,3,FALSE)))))) -> 0 | Q14: =+$E14*(1+H14)*(1-$O14) -> 0 | R14: =+$E14*(1+I14)*(1-$O14) -> 0 | S14: =+$E14*(1+J14)*(1-$O14) -> 0 | T14: =+$E14*(1+K14)*(1-$P14) -> 0 | U14: =+$E14*(1+L14)*(1-$P14) -> 0 | V14: =+$E14*(1+M14)*(1-$P14) -> 0
A15: Harding | B15: Production | C15: Associated Gas | D15: CO2 | E15: 0 | F15: Associated Gas | G15: Oil | H15: =IF(G15="Mix",'Growth Factors'!$N$7,(IF(G15="Oil",'Growth Factors'!$E$7,'Growth Factors'!$K$7))) -> 0.15686782 | I15: =IF(G15="Mix",'Growth Factors'!$O$7,(IF(G15="Oil",'Growth Factors'!$F$7,'Growth Factors'!$L$7))) -> 0.42947167 | J15: =IF(G15="Mix",'Growth Factors'!$P$7,(IF(G15="Oil",'Growth Factors'!$G$7,'Growth Factors'!$M$7))) -> 0.0086691922 | K15: =IF(G15="Mix",'Growth Factors'!$N$12,(IF(G15="Oil",'Growth Factors'!$E$12,'Growth Factors'!$K$12))) -> 0.17780497 | L15: =IF(G15="Mix",'Growth Factors'!$O$12,(IF(G15="Oil",'Growth Factors'!$F$12,'Growth Factors'!$L$12))) -> 0.60458389 | M15: =IF(G15="Mix",'Growth Factors'!$P$12,(IF(G15="Oil",'Growth Factors'!$G$12,'Growth Factors'!$M$12))) -> -0.014829342 | N15: =VLOOKUP(A15,'Part 50 Counties'!$A$2:$B$34,2) -> No | O15: =(IF(N15="No",0,(IF(D15="CO2",0,(VLOOKUP(F15,'Rule Reductions'!$C$2:$E$75,2,FALSE)))))) -> 0 | P15: =(IF(N15="No",0,(IF(D15="CO2",0,(VLOOKUP(F15,'Rule Reductions'!$C$2:$E$75,3,FALSE)))))) -> 0 | Q15: =+$E15*(1+H15)*(1-$O15) -> 0 | R15: =+$E15*(1+I15)*(1-$O15) -> 0 | S15: =+$E15*(1+J15)*(1-$O15) -> 0 | T15: =+$E15*(1+K15)*(1-$P15) -> 0 | U15: =+$E15*(1+L15)*(1-$P15) -> 0 | V15: =+$E15*(1+M15)*(1-$P15) -> 0
A16: Lea | B16: Production | C16: Associated Gas | D16: CH4 | E16: 1415.9335 | F16: Associated Gas | G16: Oil | H16: =IF(G16="Mix",'Growth Factors'!$N$7,(IF(G16="Oil",'Growth Factors'!$E$7,'Growth Factors'!$K$7))) -> 0.15686782 | I16: =IF(G16="Mix",'Growth Factors'!$O$7,(IF(G16="Oil",'Growth Factors'!$F$7,'Growth Factors'!$L$7))) -> 0.42947167 | J16: =IF(G16="Mix",'Growth Factors'!$P$7,(IF(G16="Oil",'Growth Factors'!$G$7,'Growth Factors'!$M$7))) -> 0.0086691922 | K16: =IF(G16="Mix",'Growth Factors'!$N$12,(IF(G16="Oil",'Growth Factors'!$E$12,'Growth Factors'!$K$12))) -> 0.17780497 | L16: =IF(G16="Mix",'Growth Factors'!$O$12,(IF(G16="Oil",'Growth Factors'!$F$12,'Growth Factors'!$L$12))) -> 0.60458389 | M16: =IF(G16="Mix",'Growth Factors'!$P$12,(IF(G16="Oil",'Growth Factors'!$G$12,'Growth Factors'!$M$12))) -> -0.014829342 | N16: =VLOOKUP(A16,'Part 50 Counties'!$A$2:$B$34,2) -> Yes | O16: =(IF(N16="No",0,(IF(D16="CO2",0,(VLOOKUP(F16,'Rule Reductions'!$C$2:$E$75,2,FALSE)))))) -> 0.95 | P16: =(IF(N16="No",0,(IF(D16="CO2",0,(VLOOKUP(F16,'Rule Reductions'!$C$2:$E$75,3,FALSE)))))) -> 0.95 | Q16: =+$E16*(1+H16)*(1-$O16) -> 81.902396 | R16: =+$E16*(1+I16)*(1-$O16) -> 101.20184 | S16: =+$E16*(1+J16)*(1-$O16) -> 71.410426 | T16: =+$E16*(1+K16)*(1-$P16) -> 83.384676 | U16: =+$E16*(1+L16)*(1-$P16) -> 113.59921 | V16: =+$E16*(1+M16)*(1-$P16) -> 69.746807
A17: Lea | B17: Production | C17: Associated Gas | D17: CO2 | E17: 285521.09 | F17: Associated Gas | G17: Oil | H17: =IF(G17="Mix",'Growth Factors'!$N$7,(IF(G17="Oil",'Growth Factors'!$E$7,'Growth Factors'!$K$7))) -> 0.15686782 | I17: =IF(G17="Mix",'Growth Factors'!$O$7,(IF(G17="Oil",'Growth Factors'!$F$7,'Growth Factors'!$L$7))) -> 0.42947167 | J17: =IF(G17="Mix",'Growth Factors'!$P$7,(IF(G17="Oil",'Growth Factors'!$G$7,'Growth Factors'!$M$7))) -> 0.0086691922 | K17: =IF(G17="Mix",'Growth Factors'!$N$12,(IF(G17="Oil",'Growth Factors'!$E$12,'Growth Factors'!$K$12))) -> 0.17780497 | L17: =IF(G17="Mix",'Growth Factors'!$O$12,(IF(G17="Oil",'Growth Factors'!$F$12,'Growth Factors'!$L$12))) -> 0.60458389 | M17: =IF(G17="Mix",'Growth Factors'!$P$12,(IF(G17="Oil",'Growth Factors'!$G$12,'Growth Factors'!$M$12))) -> -0.014829342 | N17: =VLOOKUP(A17,'Part 50 Counties'!$A$2:$B$34,2) -> Yes | O17: =(IF(N17="No",0,(IF(D17="CO2",0,(VLOOKUP(F17,'Rule Reductions'!$C$2:$E$75,2,FALSE)))))) -> 0 | P17: =(IF(N17="No",0,(IF(D17="CO2",0,(VLOOKUP(F17,'Rule Reductions'!$C$2:$E$75,3,FALSE)))))) -> 0 | Q17: =+$E17*(1+H17)*(1-$O17) -> 330310.16 | R17: =+$E17*(1+I17)*(1-$O17) -> 408144.31 | S17: =+$E17*(1+J17)*(1-$O17) -> 287996.33 | T17: =+$E17*(1+K17)*(1-$P17) -> 336288.16 | U17: =+$E17*(1+L17)*(1-$P17) -> 458142.55 | V17: =+$E17*(1+M17)*(1-$P17) -> 281287
A18: McKinley | B18: Production | C18: Associated Gas | D18: CH4 | E18: 0.453738 | F18: Associated Gas | G18: Oil | H18: =IF(G18="Mix",'Growth Factors'!$N$7,(IF(G18="Oil",'Growth Factors'!$E$7,'Growth Factors'!$K$7))) -> 0.15686782 | I18: =IF(G18="Mix",'Growth Factors'!$O$7,(IF(G18="Oil",'Growth Factors'!$F$7,'Growth Factors'!$L$7))) -> 0.42947167 | J18: =IF(G18="Mix",'Growth Factors'!$P$7,(IF(G18="Oil",'Growth Factors'!$G$7,'Growth Factors'!$M$7))) -> 0.0086691922 | K18: =IF(G18="Mix",'Growth Factors'!$N$12,(IF(G18="Oil",'Growth Factors'!$E$12,'Growth Factors'!$K$12))) -> 0.17780497 | L18: =IF(G18="Mix",'Growth Factors'!$O$12,(IF(G18="Oil",'Growth Factors'!$F$12,'Growth Factors'!$L$12))) -> 0.60458389 | M18: =IF(G18="Mix",'Growth Factors'!$P$12,(IF(G18="Oil",'Growth Factors'!$G$12,'Growth Factors'!$M$12))) -> -0.014829342 | N18: =VLOOKUP(A18,'Part 50 Counties'!$A$2:$B$34,2) -> No | O18: =(IF(N18="No",0,(IF(D18="CO2",0,(VLOOKUP(F18,'Rule Reductions'!$C$2:$E$75,2,FALSE)))))) -> 0 | P18: =(IF(N18="No",0,(IF(D18="CO2",0,(VLOOKUP(F18,'Rule Reductions'!$C$2:$E$75,3,FALSE)))))) -> 0 | Q18: =+$E18*(1+H18)*(1-$O18) -> 0.52491489 | R18: =+$E18*(1+I18)*(1-$O18) -> 0.64860561 | S18: =+$E18*(1+J18)*(1-$O18) -> 0.45767154 | T18: =+$E18*(1+K18)*(1-$P18) -> 0.53441487 | U18: =+$E18*(1+L18)*(1-$P18) -> 0.72806068 | V18: =+$E18*(1+M18)*(1-$P18) -> 0.44700936
A19: McKinley | B19: Production | C19: Associated Gas | D19: CO2 | E19: 1.2183348 | F19: Associated Gas | G19: Oil | H19: =IF(G19="Mix",'Growth Factors'!$N$7,(IF(G19="Oil",'Growth Factors'!$E$7,'Growth Factors'!$K$7))) -> 0.15686782 | I19: =IF(G19="Mix",'Growth Factors'!$O$7,(IF(G19="Oil",'Growth Factors'!$F$7,'Growth Factors'!$L$7))) -> 0.42947167 | J19: =IF(G19="Mix",'Growth Factors'!$P$7,(IF(G19="Oil",'Growth Factors'!$G$7,'Growth Factors'!$M$7))) -> 0.0086691922 | K19: =IF(G19="Mix",'Growth Factors'!$N$12,(IF(G19="Oil",'Growth Factors'!$E$12,'Growth Factors'!$K$12))) -> 0.17780497 | L19: =IF(G19="Mix",'Growth Factors'!$O$12,(IF(G19="Oil",'Growth Factors'!$F$12,'Growth Factors'!$L$12))) -> 0.60458389 | M19: =IF(G19="Mix",'Growth Factors'!$P$12,(IF(G19="Oil",'Growth Factors'!$G$12,'Growth Factors'!$M$12))) -> -0.014829342 | N19: =VLOOKUP(A19,'Part 50 Counties'!$A$2:$B$34,2) -> No | O19: =(IF(N19="No",0,(IF(D19="CO2",0,(VLOOKUP(F19,'Rule Reductions'!$C$2:$E$75,2,FALSE)))))) -> 0 | P19: =(IF(N19="No",0,(IF(D19="CO2",0,(VLOOKUP(F19,'Rule Reductions'!$C$2:$E$75,3,FALSE)))))) -> 0 | Q19: =+$E19*(1+H19)*(1-$O19) -> 1.4094523 | R19: =+$E19*(1+I19)*(1-$O19) -> 1.7415751 | S19: =+$E19*(1+J19)*(1-$O19) -> 1.2288968 | T19: =+$E19*(1+K19)*(1-$P19) -> 1.4349608 | U19: =+$E19*(1+L19)*(1-$P19) -> 1.9549204 | V19: =+$E19*(1+M19)*(1-$P19) -> 1.2002677
... A396: McKinley | B396: Production | C396: HF Workovers | D396: CH4 | E396: 0 | F396: HF Workovers | G396: Mix | H396: =IF(G396="Mix",'Growth Factors'!$N$7,(IF(G396="Oil",'Growth Factors'!$E$7,'Growth Factors'!$K$7))) -> 0.12321919 | I396: =IF(G396="Mix",'Growth Factors'!$O$7,(IF(G396="Oil",'Growth Factors'!$F$7,'Growth Factors'!$L$7))) -> 0.28844315 | J396: =IF(G396="Mix",'Growth Factors'!$P$7,(IF(G396="Oil",'Growth Factors'!$G$7,'Growth Factors'!$M$7))) -> -0.00055772089 | K396: =IF(G396="Mix",'Growth Factors'!$N$12,(IF(G396="Oil",'Growth Factors'!$E$12,'Growth Factors'!$K$12))) -> 0.15067268 | L396: =IF(G396="Mix",'Growth Factors'!$O$12,(IF(G396="Oil",'Growth Factors'!$F$12,'Growth Factors'!$L$12))) -> 0.41821083 | M396: =IF(G396="Mix",'Growth Factors'!$P$12,(IF(G396="Oil",'Growth Factors'!$G$12,'Growth Factors'!$M$12))) -> 0.0062059761 | N396: =VLOOKUP(A396,'Part 50 Counties'!$A$2:$B$34,2) -> No | O396: =(IF(N396="No",0,(IF(D396="CO2",0,(VLOOKUP(F396,'Rule Reductions'!$C$2:$E$75,2,FALSE)))))) -> 0 | P396: =(IF(N396="No",0,(IF(D396="CO2",0,(VLOOKUP(F396,'Rule Reductions'!$C$2:$E$75,3,FALSE)))))) -> 0 | Q396: =+$E396*(1+H396)*(1-$O396) -> 0 | R396: =+$E396*(1+I396)*(1-$O396) -> 0 | S396: =+$E396*(1+J396)*(1-$O396) -> 0 | T396: =+$E396*(1+K396)*(1-$P396) -> 0 | U396: =+$E396*(1+L396)*(1-$P396) -> 0 | V396: =+$E396*(1+M396)*(1-$P396) -> 0
A397: McKinley | B397: Production | C397: HF Workovers | D397: CO2 | E397: 0 | F397: HF Workovers | G397: Mix | H397: =IF(G397="Mix",'Growth Factors'!$N$7,(IF(G397="Oil",'Growth Factors'!$E$7,'Growth Factors'!$K$7))) -> 0.12321919 | I397: =IF(G397="Mix",'Growth Factors'!$O$7,(IF(G397="Oil",'Growth Factors'!$F$7,'Growth Factors'!$L$7))) -> 0.28844315 | J397: =IF(G397="Mix",'Growth Factors'!$P$7,(IF(G397="Oil",'Growth Factors'!$G$7,'Growth Factors'!$M$7))) -> -0.00055772089 | K397: =IF(G397="Mix",'Growth Factors'!$N$12,(IF(G397="Oil",'Growth Factors'!$E$12,'Growth Factors'!$K$12))) -> 0.15067268 | L397: =IF(G397="Mix",'Growth Factors'!$O$12,(IF(G397="Oil",'Growth Factors'!$F$12,'Growth Factors'!$L$12))) -> 0.41821083 | M397: =IF(G397="Mix",'Growth Factors'!$P$12,(IF(G397="Oil",'Growth Factors'!$G$12,'Growth Factors'!$M$12))) -> 0.0062059761 | N397: =VLOOKUP(A397,'Part 50 Counties'!$A$2:$B$34,2) -> No | O397: 0.95 | P397: 0.95 | Q397: =+$E397*(1+H397)*(1-$O397) -> 0 | R397: =+$E397*(1+I397)*(1-$O397) -> 0 | S397: =+$E397*(1+J397)*(1-$O397) -> 0 | T397: =+$E397*(1+K397)*(1-$P397) -> 0 | U397: =+$E397*(1+L397)*(1-$P397) -> 0 | V397: =+$E397*(1+M397)*(1-$P397) -> 0
A398: Rio Arriba | B398: Production | C398: HF Workovers | D398: CH4 | E398: 0 | F398: HF Workovers | G398: Mix | H398: =IF(G398="Mix",'Growth Factors'!$N$7,(IF(G398="Oil",'Growth Factors'!$E$7,'Growth Factors'!$K$7))) -> 0.12321919 | I398: =IF(G398="Mix",'Growth Factors'!$O$7,(IF(G398="Oil",'Growth Factors'!$F$7,'Growth Factors'!$L$7))) -> 0.28844315 | J398: =IF(G398="Mix",'Growth Factors'!$P$7,(IF(G398="Oil",'Growth Factors'!$G$7,'Growth Factors'!$M$7))) -> -0.00055772089 | K398: =IF(G398="Mix",'Growth Factors'!$N$12,(IF(G398="Oil",'Growth Factors'!$E$12,'Growth Factors'!$K$12))) -> 0.15067268 | L398: =IF(G398="Mix",'Growth Factors'!$O$12,(IF(G398="Oil",'Growth Factors'!$F$12,'Growth Factors'!$L$12))) -> 0.41821083 | M398: =IF(G398="Mix",'Growth Factors'!$P$12,(IF(G398="Oil",'Growth Factors'!$G$12,'Growth Factors'!$M$12))) -> 0.0062059761 | N398: =VLOOKUP(A398,'Part 50 Counties'!$A$2:$B$34,2) -> Yes | O398: =(IF(N398="No",0,(IF(D398="CO2",0,(VLOOKUP(F398,'Rule Reductions'!$C$2:$E$75,2,FALSE)))))) -> 0 | P398: =(IF(N398="No",0,(IF(D398="CO2",0,(VLOOKUP(F398,'Rule Reductions'!$C$2:$E$75,3,FALSE)))))) -> 0 | Q398: =+$E398*(1+H398)*(1-$O398) -> 0 | R398: =+$E398*(1+I398)*(1-$O398) -> 0 | S398: =+$E398*(1+J398)*(1-$O398) -> 0 | T398: =+$E398*(1+K398)*(1-$P398) -> 0 | U398: =+$E398*(1+L398)*(1-$P398) -> 0 | V398: =+$E398*(1+M398)*(1-$P398) -> 0
A399: Rio Arriba | B399: Production | C399: HF Workovers | D399: CO2 | E399: 0 | F399: HF Workovers | G399: Mix | H399: =IF(G399="Mix",'Growth Factors'!$N$7,(IF(G399="Oil",'Growth Factors'!$E$7,'Growth Factors'!$K$7))) -> 0.12321919 | I399: =IF(G399="Mix",'Growth Factors'!$O$7,(IF(G399="Oil",'Growth Factors'!$F$7,'Growth Factors'!$L$7))) -> 0.28844315 | J399: =IF(G399="Mix",'Growth Factors'!$P$7,(IF(G399="Oil",'Growth Factors'!$G$7,'Growth Factors'!$M$7))) -> -0.00055772089 | K399: =IF(G399="Mix",'Growth Factors'!$N$12,(IF(G399="Oil",'Growth Factors'!$E$12,'Growth Factors'!$K$12))) -> 0.15067268 | L399: =IF(G399="Mix",'Growth Factors'!$O$12,(IF(G399="Oil",'Growth Factors'!$F$12,'Growth Factors'!$L$12))) -> 0.41821083 | M399: =IF(G399="Mix",'Growth Factors'!$P$12,(IF(G399="Oil",'Growth Factors'!$G$12,'Growth Factors'!$M$12))) -> 0.0062059761 | N399: =VLOOKUP(A399,'Part 50 Counties'!$A$2:$B$34,2) -> Yes | O399: =(IF(N399="No",0,(IF(D399="CO2",0,(VLOOKUP(F399,'Rule Reductions'!$C$2:$E$75,2,FALSE)))))) -> 0 | P399: =(IF(N399="No",0,(IF(D399="CO2",0,(VLOOKUP(F399,'Rule Reductions'!$C$2:$E$75,3,FALSE)))))) -> 0 | Q399: =+$E399*(1+H399)*(1-$O399) -> 0 | R399: =+$E399*(1+I399)*(1-$O399) -> 0 | S399: =+$E399*(1+J399)*(1-$O399) -> 0 | T399: =+$E399*(1+K399)*(1-$P399) -> 0 | U399: =+$E399*(1+L399)*(1-$P399) -> 0 | V399: =+$E399*(1+M399)*(1-$P399) -> 0
A400: Roosevelt | B400: Production | C400: HF Workovers | D400: CH4 | E400: 0 | F400: HF Workovers | G400: Mix | H400: =IF(G400="Mix",'Growth Factors'!$N$7,(IF(G400="Oil",'Growth Factors'!$E$7,'Growth Factors'!$K$7))) -> 0.12321919 | I400: =IF(G400="Mix",'Growth Factors'!$O$7,(IF(G400="Oil",'Growth Factors'!$F$7,'Growth Factors'!$L$7))) -> 0.28844315 | J400: =IF(G400="Mix",'Growth Factors'!$P$7,(IF(G400="Oil",'Growth Factors'!$G$7,'Growth Factors'!$M$7))) -> -0.00055772089 | K400: =IF(G400="Mix",'Growth Factors'!$N$12,(IF(G400="Oil",'Growth Factors'!$E$12,'Growth Factors'!$K$12))) -> 0.15067268 | L400: =IF(G400="Mix",'Growth Factors'!$O$12,(IF(G400="Oil",'Growth Factors'!$F$12,'Growth Factors'!$L$12))) -> 0.41821083 | M400: =IF(G400="Mix",'Growth Factors'!$P$12,(IF(G400="Oil",'Growth Factors'!$G$12,'Growth Factors'!$M$12))) -> 0.0062059761 | N400: =VLOOKUP(A400,'Part 50 Counties'!$A$2:$B$34,2) -> No | O400: =(IF(N400="No",0,(IF(D400="CO2",0,(VLOOKUP(F400,'Rule Reductions'!$C$2:$E$75,2,FALSE)))))) -> 0 | P400: =(IF(N400="No",0,(IF(D400="CO2",0,(VLOOKUP(F400,'Rule Reductions'!$C$2:$E$75,3,FALSE)))))) -> 0 | Q400: =+$E400*(1+H400)*(1-$O400) -> 0 | R400: =+$E400*(1+I400)*(1-$O400) -> 0 | S400: =+$E400*(1+J400)*(1-$O400) -> 0 | T400: =+$E400*(1+K400)*(1-$P400) -> 0 | U400: =+$E400*(1+L400)*(1-$P400) -> 0 | V400: =+$E400*(1+M400)*(1-$P400) -> 0
A401: Roosevelt | B401: Production | C401: HF Workovers | D401: CO2 | E401: 0 | F401: HF Workovers | G401: Mix | H401: =IF(G401="Mix",'Growth Factors'!$N$7,(IF(G401="Oil",'Growth Factors'!$E$7,'Growth Factors'!$K$7))) -> 0.12321919 | I401: =IF(G401="Mix",'Growth Factors'!$O$7,(IF(G401="Oil",'Growth Factors'!$F$7,'Growth Factors'!$L$7))) -> 0.28844315 | J401: =IF(G401="Mix",'Growth Factors'!$P$7,(IF(G401="Oil",'Growth Factors'!$G$7,'Growth Factors'!$M$7))) -> -0.00055772089 | K401: =IF(G401="Mix",'Growth Factors'!$N$12,(IF(G401="Oil",'Growth Factors'!$E$12,'Growth Factors'!$K$12))) -> 0.15067268 | L401: =IF(G401="Mix",'Growth Factors'!$O$12,(IF(G401="Oil",'Growth Factors'!$F$12,'Growth Factors'!$L$12))) -> 0.41821083 | M401: =IF(G401="Mix",'Growth Factors'!$P$12,(IF(G401="Oil",'Growth Factors'!$G$12,'Growth Factors'!$M$12))) -> 0.0062059761 | N401: =VLOOKUP(A401,'Part 50 Counties'!$A$2:$B$34,2) -> No | O401: =(IF(N401="No",0,(IF(D401="CO2",0,(VLOOKUP(F401,'Rule Reductions'!$C$2:$E$75,2,FALSE)))))) -> 0 | P401: =(IF(N401="No",0,(IF(D401="CO2",0,(VLOOKUP(F401,'Rule Reductions'!$C$2:$E$75,3,FALSE)))))) -> 0 | Q401: =+$E401*(1+H401)*(1-$O401) -> 0 | R401: =+$E401*(1+I401)*(1-$O401) -> 0 | S401: =+$E401*(1+J401)*(1-$O401) -> 0 | T401: =+$E401*(1+K401)*(1-$P401) -> 0 | U401: =+$E401*(1+L401)*(1-$P401) -> 0 | V401: =+$E401*(1+M401)*(1-$P401) -> 0
A402: San Juan | B402: Production | C402: HF Workovers | D402: CH4 | E402: 0 | F402: HF Workovers | G402: Mix | H402: =IF(G402="Mix",'Growth Factors'!$N$7,(IF(G402="Oil",'Growth Factors'!$E$7,'Growth Factors'!$K$7))) -> 0.12321919 | I402: =IF(G402="Mix",'Growth Factors'!$O$7,(IF(G402="Oil",'Growth Factors'!$F$7,'Growth Factors'!$L$7))) -> 0.28844315 | J402: =IF(G402="Mix",'Growth Factors'!$P$7,(IF(G402="Oil",'Growth Factors'!$G$7,'Growth Factors'!$M$7))) -> -0.00055772089 | K402: =IF(G402="Mix",'Growth Factors'!$N$12,(IF(G402="Oil",'Growth Factors'!$E$12,'Growth Factors'!$K$12))) -> 0.15067268 | L402: =IF(G402="Mix",'Growth Factors'!$O$12,(IF(G402="Oil",'Growth Factors'!$F$12,'Growth Factors'!$L$12))) -> 0.41821083 | M402: =IF(G402="Mix",'Growth Factors'!$P$12,(IF(G402="Oil",'Growth Factors'!$G$12,'Growth Factors'!$M$12))) -> 0.0062059761 | N402: =VLOOKUP(A402,'Part 50 Counties'!$A$2:$B$34,2) -> Yes | O402: =(IF(N402="No",0,(IF(D402="CO2",0,(VLOOKUP(F402,'Rule Reductions'!$C$2:$E$75,2,FALSE)))))) -> 0 | P402: =(IF(N402="No",0,(IF(D402="CO2",0,(VLOOKUP(F402,'Rule Reductions'!$C$2:$E$75,3,FALSE)))))) -> 0 | Q402: =+$E402*(1+H402)*(1-$O402) -> 0 | R402: =+$E402*(1+I402)*(1-$O402) -> 0 | S402: =+$E402*(1+J402)*(1-$O402) -> 0 | T402: =+$E402*(1+K402)*(1-$P402) -> 0 | U402: =+$E402*(1+L402)*(1-$P402) -> 0 | V402: =+$E402*(1+M402)*(1-$P402) -> 0
A403: San Juan | B403: Production | C403: HF Workovers | D403: CO2 | E403: 0 | F403: HF Workovers | G403: Mix | H403: =IF(G403="Mix",'Growth Factors'!$N$7,(IF(G403="Oil",'Growth Factors'!$E$7,'Growth Factors'!$K$7))) -> 0.12321919 | I403: =IF(G403="Mix",'Growth Factors'!$O$7,(IF(G403="Oil",'Growth Factors'!$F$7,'Growth Factors'!$L$7))) -> 0.28844315 | J403: =IF(G403="Mix",'Growth Factors'!$P$7,(IF(G403="Oil",'Growth Factors'!$G$7,'Growth Factors'!$M$7))) -> -0.00055772089 | K403: =IF(G403="Mix",'Growth Factors'!$N$12,(IF(G403="Oil",'Growth Factors'!$E$12,'Growth Factors'!$K$12))) -> 0.15067268 | L403: =IF(G403="Mix",'Growth Factors'!$O$12,(IF(G403="Oil",'Growth Factors'!$F$12,'Growth Factors'!$L$12))) -> 0.41821083 | M403: =IF(G403="Mix",'Growth Factors'!$P$12,(IF(G403="Oil",'Growth Factors'!$G$12,'Growth Factors'!$M$12))) -> 0.0062059761 | N403: =VLOOKUP(A403,'Part 50 Counties'!$A$2:$B$34,2) -> Yes | O403: =(IF(N403="No",0,(IF(D403="CO2",0,(VLOOKUP(F403,'Rule Reductions'!$C$2:$E$75,2,FALSE)))))) -> 0 | P403: =(IF(N403="No",0,(IF(D403="CO2",0,(VLOOKUP(F403,'Rule Reductions'!$C$2:$E$75,3,FALSE)))))) -> 0 | Q403: =+$E403*(1+H403)*(1-$O403) -> 0 | R403: =+$E403*(1+I403)*(1-$O403) -> 0 | S403: =+$E403*(1+J403)*(1-$O403) -> 0 | T403: =+$E403*(1+K403)*(1-$P403) -> 0 | U403: =+$E403*(1+L403)*(1-$P403) -> 0 | V403: =+$E403*(1+M403)*(1-$P403) -> 0
A404: Sandoval | B404: Production | C404: HF Workovers | D404: CH4 | E404: 0 | F404: HF Workovers | G404: Mix | H404: =IF(G404="Mix",'Growth Factors'!$N$7,(IF(G404="Oil",'Growth Factors'!$E$7,'Growth Factors'!$K$7))) -> 0.12321919 | I404: =IF(G404="Mix",'Growth Factors'!$O$7,(IF(G404="Oil",'Growth Factors'!$F$7,'Growth Factors'!$L$7))) -> 0.28844315 | J404: =IF(G404="Mix",'Growth Factors'!$P$7,(IF(G404="Oil",'Growth Factors'!$G$7,'Growth Factors'!$M$7))) -> -0.00055772089 | K404: =IF(G404="Mix",'Growth Factors'!$N$12,(IF(G404="Oil",'Growth Factors'!$E$12,'Growth Factors'!$K$12))) -> 0.15067268 | L404: =IF(G404="Mix",'Growth Factors'!$O$12,(IF(G404="Oil",'Growth Factors'!$F$12,'Growth Factors'!$L$12))) -> 0.41821083 | M404: =IF(G404="Mix",'Growth Factors'!$P$12,(IF(G404="Oil",'Growth Factors'!$G$12,'Growth Factors'!$M$12))) -> 0.0062059761 | N404: =VLOOKUP(A404,'Part 50 Counties'!$A$2:$B$34,2) -> Yes | O404: =(IF(N404="No",0,(IF(D404="CO2",0,(VLOOKUP(F404,'Rule Reductions'!$C$2:$E$75,2,FALSE)))))) -> 0 | P404: =(IF(N404="No",0,(IF(D404="CO2",0,(VLOOKUP(F404,'Rule Reductions'!$C$2:$E$75,3,FALSE)))))) -> 0 | Q404: =+$E404*(1+H404)*(1-$O404) -> 0 | R404: =+$E404*(1+I404)*(1-$O404) -> 0 | S404: =+$E404*(1+J404)*(1-$O404) -> 0 | T404: =+$E404*(1+K404)*(1-$P404) -> 0 | U404: =+$E404*(1+L404)*(1-$P404) -> 0 | V404: =+$E404*(1+M404)*(1-$P404) -> 0
A405: Sandoval | B405: Production | C405: HF Workovers | D405: CO2 | E405: 0 | F405: HF Workovers | G405: Mix | H405: =IF(G405="Mix",'Growth Factors'!$N$7,(IF(G405="Oil",'Growth Factors'!$E$7,'Growth Factors'!$K$7))) -> 0.12321919 | I405: =IF(G405="Mix",'Growth Factors'!$O$7,(IF(G405="Oil",'Growth Factors'!$F$7,'Growth Factors'!$L$7))) -> 0.28844315 | J405: =IF(G405="Mix",'Growth Factors'!$P$7,(IF(G405="Oil",'Growth Factors'!$G$7,'Growth Factors'!$M$7))) -> -0.00055772089 | K405: =IF(G405="Mix",'Growth Factors'!$N$12,(IF(G405="Oil",'Growth Factors'!$E$12,'Growth Factors'!$K$12))) -> 0.15067268 | L405: =IF(G405="Mix",'Growth Factors'!$O$12,(IF(G405="Oil",'Growth Factors'!$F$12,'Growth Factors'!$L$12))) -> 0.41821083 | M405: =IF(G405="Mix",'Growth Factors'!$P$12,(IF(G405="Oil",'Growth Factors'!$G$12,'Growth Factors'!$M$12))) -> 0.0062059761 | N405: =VLOOKUP(A405,'Part 50 Counties'!$A$2:$B$34,2) -> Yes | O405: =(IF(N405="No",0,(IF(D405="CO2",0,(VLOOKUP(F405,'Rule Reductions'!$C$2:$E$75,2,FALSE)))))) -> 0 | P405: =(IF(N405="No",0,(IF(D405="CO2",0,(VLOOKUP(F405,'Rule Reductions'!$C$2:$E$75,3,FALSE)))))) -> 0 | Q405: =+$E405*(1+H405)*(1-$O405) -> 0 | R405: =+$E405*(1+I405)*(1-$O405) -> 0 | S405: =+$E405*(1+J405)*(1-$O405) -> 0 | T405: =+$E405*(1+K405)*(1-$P405) -> 0 | U405: =+$E405*(1+L405)*(1-$P405) -> 0 | V405: =+$E405*(1+M405)*(1-$P405) -> 0
A406: Union | B406: Production | C406: HF Workovers | D406: CH4 | E406: 0 | F406: HF Workovers | G406: Mix | H406: =IF(G406="Mix",'Growth Factors'!$N$7,(IF(G406="Oil",'Growth Factors'!$E$7,'Growth Factors'!$K$7))) -> 0.12321919 | I406: =IF(G406="Mix",'Growth Factors'!$O$7,(IF(G406="Oil",'Growth Factors'!$F$7,'Growth Factors'!$L$7))) -> 0.28844315 | J406: =IF(G406="Mix",'Growth Factors'!$P$7,(IF(G406="Oil",'Growth Factors'!$G$7,'Growth Factors'!$M$7))) -> -0.00055772089 | K406: =IF(G406="Mix",'Growth Factors'!$N$12,(IF(G406="Oil",'Growth Factors'!$E$12,'Growth Factors'!$K$12))) -> 0.15067268 | L406: =IF(G406="Mix",'Growth Factors'!$O$12,(IF(G406="Oil",'Growth Factors'!$F$12,'Growth Factors'!$L$12))) -> 0.41821083 | M406: =IF(G406="Mix",'Growth Factors'!$P$12,(IF(G406="Oil",'Growth Factors'!$G$12,'Growth Factors'!$M$12))) -> 0.0062059761 | N406: =VLOOKUP(A406,'Part 50 Counties'!$A$2:$B$34,2) -> No | O406: =(IF(N406="No",0,(IF(D406="CO2",0,(VLOOKUP(F406,'Rule Reductions'!$C$2:$E$75,2,FALSE)))))) -> 0 | P406: =(IF(N406="No",0,(IF(D406="CO2",0,(VLOOKUP(F406,'Rule Reductions'!$C$2:$E$75,3,FALSE)))))) -> 0 | Q406: =+$E406*(1+H406)*(1-$O406) -> 0 | R406: =+$E406*(1+I406)*(1-$O406) -> 0 | S406: =+$E406*(1+J406)*(1-$O406) -> 0 | T406: =+$E406*(1+K406)*(1-$P406) -> 0 | U406: =+$E406*(1+L406)*(1-$P406) -> 0 | V406: =+$E406*(1+M406)*(1-$P406) -> 0
A407: Union | B407: Production | C407: HF Workovers | D407: CO2 | E407: 0 | F407: HF Workovers | G407: Mix | H407: =IF(G407="Mix",'Growth Factors'!$N$7,(IF(G407="Oil",'Growth Factors'!$E$7,'Growth Factors'!$K$7))) -> 0.12321919 | I407: =IF(G407="Mix",'Growth Factors'!$O$7,(IF(G407="Oil",'Growth Factors'!$F$7,'Growth Factors'!$L$7))) -> 0.28844315 | J407: =IF(G407="Mix",'Growth Factors'!$P$7,(IF(G407="Oil",'Growth Factors'!$G$7,'Growth Factors'!$M$7))) -> -0.00055772089 | K407: =IF(G407="Mix",'Growth Factors'!$N$12,(IF(G407="Oil",'Growth Factors'!$E$12,'Growth Factors'!$K$12))) -> 0.15067268 | L407: =IF(G407="Mix",'Growth Factors'!$O$12,(IF(G407="Oil",'Growth Factors'!$F$12,'Growth Factors'!$L$12))) -> 0.41821083 | M407: =IF(G407="Mix",'Growth Factors'!$P$12,(IF(G407="Oil",'Growth Factors'!$G$12,'Growth Factors'!$M$12))) -> 0.0062059761 | N407: =VLOOKUP(A407,'Part 50 Counties'!$A$2:$B$34,2) -> No | O407: =(IF(N407="No",0,(IF(D407="CO2",0,(VLOOKUP(F407,'Rule Reductions'!$C$2:$E$75,2,FALSE)))))) -> 0 | P407: =(IF(N407="No",0,(IF(D407="CO2",0,(VLOOKUP(F407,'Rule Reductions'!$C$2:$E$75,3,FALSE)))))) -> 0 | Q407: =+$E407*(1+H407)*(1-$O407) -> 0 | R407: =+$E407*(1+I407)*(1-$O407) -> 0 | S407: =+$E407*(1+J407)*(1-$O407) -> 0 | T407: =+$E407*(1+K407)*(1-$P407) -> 0 | U407: =+$E407*(1+L407)*(1-$P407) -> 0 | V407: =+$E407*(1+M407)*(1-$P407) -> 0
A408: Chaves | B408: G&B | C408: High Bleed Pneumatic Controllers | D408: CH4 | E408: 38.73 | F408: Pneumatic Controllers | G408: Mix | H408: =IF(G408="Mix",'Growth Factors'!$N$7,(IF(G408="Oil",'Growth Factors'!$E$7,'Growth Factors'!$K$7))) -> 0.12321919 | I408: =IF(G408="Mix",'Growth Factors'!$O$7,(IF(G408="Oil",'Growth Factors'!$F$7,'Growth Factors'!$L$7))) -> 0.28844315 | J408: =IF(G408="Mix",'Growth Factors'!$P$7,(IF(G408="Oil",'Growth Factors'!$G$7,'Growth Factors'!$M$7))) -> -0.00055772089 | K408: =IF(G408="Mix",'Growth Factors'!$N$12,(IF(G408="Oil",'Growth Factors'!$E$12,'Growth Factors'!$K$12))) -> 0.15067268 | L408: =IF(G408="Mix",'Growth Factors'!$O$12,(IF(G408="Oil",'Growth Factors'!$F$12,'Growth Factors'!$L$12))) -> 0.41821083 | M408: =IF(G408="Mix",'Growth Factors'!$P$12,(IF(G408="Oil",'Growth Factors'!$G$12,'Growth Factors'!$M$12))) -> 0.0062059761 | N408: =VLOOKUP(A408,'Part 50 Counties'!$A$2:$B$34,2) -> Yes | O408: =(IF(N408="No",0,(IF(D408="CO2",0,(VLOOKUP(F408,'Rule Reductions'!$C$2:$E$75,2,FALSE)))))) -> 0.8 | P408: =(IF(N408="No",0,(IF(D408="CO2",0,(VLOOKUP(F408,'Rule Reductions'!$C$2:$E$75,3,FALSE)))))) -> 0.90578983 | Q408: =+$E408*(1+H408)*(1-$O408) -> 8.7004558 | R408: =+$E408*(1+I408)*(1-$O408) -> 9.9802806 | S408: =+$E408*(1+J408)*(1-$O408) -> 7.7416799 | T408: =+$E408*(1+K408)*(1-$P408) -> 4.1985282 | U408: =+$E408*(1+L408)*(1-$P408) -> 5.1747107 | V408: =+$E408*(1+M408)*(1-$P408) -> 3.6714039
A409: Chaves | B409: G&B | C409: High Bleed Pneumatic Controllers | D409: CO2 | E409: 0.2 | F409: Pneumatic Controllers | G409: Mix | H409: =IF(G409="Mix",'Growth Factors'!$N$7,(IF(G409="Oil",'Growth Factors'!$E$7,'Growth Factors'!$K$7))) -> 0.12321919 | I409: =IF(G409="Mix",'Growth Factors'!$O$7,(IF(G409="Oil",'Growth Factors'!$F$7,'Growth Factors'!$L$7))) -> 0.28844315 | J409: =IF(G409="Mix",'Growth Factors'!$P$7,(IF(G409="Oil",'Growth Factors'!$G$7,'Growth Factors'!$M$7))) -> -0.00055772089 | K409: =IF(G409="Mix",'Growth Factors'!$N$12,(IF(G409="Oil",'Growth Factors'!$E$12,'Growth Factors'!$K$12))) -> 0.15067268 | L409: =IF(G409="Mix",'Growth Factors'!$O$12,(IF(G409="Oil",'Growth Factors'!$F$12,'Growth Factors'!$L$12))) -> 0.41821083 | M409: =IF(G409="Mix",'Growth Factors'!$P$12,(IF(G409="Oil",'Growth Factors'!$G$12,'Growth Factors'!$M$12))) -> 0.0062059761 | N409: =VLOOKUP(A409,'Part 50 Counties'!$A$2:$B$34,2) -> Yes | O409: =(IF(N409="No",0,(IF(D409="CO2",0,(VLOOKUP(F409,'Rule Reductions'!$C$2:$E$75,2,FALSE)))))) -> 0 | P409: =(IF(N409="No",0,(IF(D409="CO2",0,(VLOOKUP(F409,'Rule Reductions'!$C$2:$E$75,3,FALSE)))))) -> 0 | Q409: =+$E409*(1+H409)*(1-$O409) -> 0.22464384 | R409: =+$E409*(1+I409)*(1-$O409) -> 0.25768863 | S409: =+$E409*(1+J409)*(1-$O409) -> 0.19988846 | T409: =+$E409*(1+K409)*(1-$P409) -> 0.23013454 | U409: =+$E409*(1+L409)*(1-$P409) -> 0.28364217 | V409: =+$E409*(1+M409)*(1-$P409) -> 0.2012412
... A454: Eddy | B454: G&B | C454: Intermittent Bleed Pneumatic Controllers | D454: CH4 | E454: 3503.5747 | F454: Pneumatic Controllers | G454: Mix | H454: =IF(G454="Mix",'Growth Factors'!$N$7,(IF(G454="Oil",'Growth Factors'!$E$7,'Growth Factors'!$K$7))) -> 0.12321919 | I454: =IF(G454="Mix",'Growth Factors'!$O$7,(IF(G454="Oil",'Growth Factors'!$F$7,'Growth Factors'!$L$7))) -> 0.28844315 | J454: =IF(G454="Mix",'Growth Factors'!$P$7,(IF(G454="Oil",'Growth Factors'!$G$7,'Growth Factors'!$M$7))) -> -0.00055772089 | K454: =IF(G454="Mix",'Growth Factors'!$N$12,(IF(G454="Oil",'Growth Factors'!$E$12,'Growth Factors'!$K$12))) -> 0.15067268 | L454: =IF(G454="Mix",'Growth Factors'!$O$12,(IF(G454="Oil",'Growth Factors'!$F$12,'Growth Factors'!$L$12))) -> 0.41821083 | M454: =IF(G454="Mix",'Growth Factors'!$P$12,(IF(G454="Oil",'Growth Factors'!$G$12,'Growth Factors'!$M$12))) -> 0.0062059761 | N454: =VLOOKUP(A454,'Part 50 Counties'!$A$2:$B$34,2) -> Yes | O454: =(IF(N454="No",0,(IF(D454="CO2",0,(VLOOKUP(F454,'Rule Reductions'!$C$2:$E$75,2,FALSE)))))) -> 0.8 | P454: =(IF(N454="No",0,(IF(D454="CO2",0,(VLOOKUP(F454,'Rule Reductions'!$C$2:$E$75,3,FALSE)))))) -> 0.90578983 | Q454: =+$E454*(1+H454)*(1-$O454) -> 787.05646 | R454: =+$E454*(1+I454)*(1-$O454) -> 902.83136 | S454: =+$E454*(1+J454)*(1-$O454) -> 700.32413 | T454: =+$E454*(1+K454)*(1-$P454) -> 379.80525 | U454: =+$E454*(1+L454)*(1-$P454) -> 468.11219 | V454: =+$E454*(1+M454)*(1-$P454) -> 332.12078
A455: Eddy | B455: G&B | C455: Intermittent Bleed Pneumatic Controllers | D455: CO2 | E455: 593.56282 | F455: Pneumatic Controllers | G455: Mix | H455: =IF(G455="Mix",'Growth Factors'!$N$7,(IF(G455="Oil",'Growth Factors'!$E$7,'Growth Factors'!$K$7))) -> 0.12321919 | I455: =IF(G455="Mix",'Growth Factors'!$O$7,(IF(G455="Oil",'Growth Factors'!$F$7,'Growth Factors'!$L$7))) -> 0.28844315 | J455: =IF(G455="Mix",'Growth Factors'!$P$7,(IF(G455="Oil",'Growth Factors'!$G$7,'Growth Factors'!$M$7))) -> -0.00055772089 | K455: =IF(G455="Mix",'Growth Factors'!$N$12,(IF(G455="Oil",'Growth Factors'!$E$12,'Growth Factors'!$K$12))) -> 0.15067268 | L455: =IF(G455="Mix",'Growth Factors'!$O$12,(IF(G455="Oil",'Growth Factors'!$F$12,'Growth Factors'!$L$12))) -> 0.41821083 | M455: =IF(G455="Mix",'Growth Factors'!$P$12,(IF(G455="Oil",'Growth Factors'!$G$12,'Growth Factors'!$M$12))) -> 0.0062059761 | N455: =VLOOKUP(A455,'Part 50 Counties'!$A$2:$B$34,2) -> Yes | O455: 0.95 | P455: 0.95 | Q455: =+$E455*(1+H455)*(1-$O455) -> 33.335058 | R455: =+$E455*(1+I455)*(1-$O455) -> 38.238598 | S455: =+$E455*(1+J455)*(1-$O455) -> 29.661589 | T455: =+$E455*(1+K455)*(1-$P455) -> 34.149826 | U455: =+$E455*(1+L455)*(1-$P455) -> 42.089861 | V455: =+$E455*(1+M455)*(1-$P455) -> 29.862323
A456: Eddy | B456: Production | C456: Intermittent Bleed Pneumatic Controllers | D456: CH4 | E456: 13249.567 | F456: Pneumatic Controllers | G456: Mix | H456: =IF(G456="Mix",'Growth Factors'!$N$7,(IF(G456="Oil",'Growth Factors'!$E$7,'Growth Factors'!$K$7))) -> 0.12321919 | I456: =IF(G456="Mix",'Growth Factors'!$O$7,(IF(G456="Oil",'Growth Factors'!$F$7,'Growth Factors'!$L$7))) -> 0.28844315 | J456: =IF(G456="Mix",'Growth Factors'!$P$7,(IF(G456="Oil",'Growth Factors'!$G$7,'Growth Factors'!$M$7))) -> -0.00055772089 | K456: =IF(G456="Mix",'Growth Factors'!$N$12,(IF(G456="Oil",'Growth Factors'!$E$12,'Growth Factors'!$K$12))) -> 0.15067268 | L456: =IF(G456="Mix",'Growth Factors'!$O$12,(IF(G456="Oil",'Growth Factors'!$F$12,'Growth Factors'!$L$12))) -> 0.41821083 | M456: =IF(G456="Mix",'Growth Factors'!$P$12,(IF(G456="Oil",'Growth Factors'!$G$12,'Growth Factors'!$M$12))) -> 0.0062059761 | N456: =VLOOKUP(A456,'Part 50 Counties'!$A$2:$B$34,2) -> Yes | O456: =(IF(N456="No",0,(IF(D456="CO2",0,(VLOOKUP(F456,'Rule Reductions'!$C$2:$E$75,2,FALSE)))))) -> 0.8 | P456: =(IF(N456="No",0,(IF(D456="CO2",0,(VLOOKUP(F456,'Rule Reductions'!$C$2:$E$75,3,FALSE)))))) -> 0.90578983 | Q456: =+$E456*(1+H456)*(1-$O456) -> 2976.4337 | R456: =+$E456*(1+I456)*(1-$O456) -> 3414.2629 | S456: =+$E456*(1+J456)*(1-$O456) -> 2648.4356 | T456: =+$E456*(1+K456)*(1-$P456) -> 1436.3202 | U456: =+$E456*(1+L456)*(1-$P456) -> 1770.2731 | V456: =+$E456*(1+M456)*(1-$P456) -> 1255.9905
A457: Eddy | B457: Production | C457: Intermittent Bleed Pneumatic Controllers | D457: CO2 | E457: 1350.0133 | F457: Pneumatic Controllers | G457: Mix | H457: =IF(G457="Mix",'Growth Factors'!$N$7,(IF(G457="Oil",'Growth Factors'!$E$7,'Growth Factors'!$K$7))) -> 0.12321919 | I457: =IF(G457="Mix",'Growth Factors'!$O$7,(IF(G457="Oil",'Growth Factors'!$F$7,'Growth Factors'!$L$7))) -> 0.28844315 | J457: =IF(G457="Mix",'Growth Factors'!$P$7,(IF(G457="Oil",'Growth Factors'!$G$7,'Growth Factors'!$M$7))) -> -0.00055772089 | K457: =IF(G457="Mix",'Growth Factors'!$N$12,(IF(G457="Oil",'Growth Factors'!$E$12,'Growth Factors'!$K$12))) -> 0.15067268 | L457: =IF(G457="Mix",'Growth Factors'!$O$12,(IF(G457="Oil",'Growth Factors'!$F$12,'Growth Factors'!$L$12))) -> 0.41821083 | M457: =IF(G457="Mix",'Growth Factors'!$P$12,(IF(G457="Oil",'Growth Factors'!$G$12,'Growth Factors'!$M$12))) -> 0.0062059761 | N457: =VLOOKUP(A457,'Part 50 Counties'!$A$2:$B$34,2) -> Yes | O457: =(IF(N457="No",0,(IF(D457="CO2",0,(VLOOKUP(F457,'Rule Reductions'!$C$2:$E$75,2,FALSE)))))) -> 0 | P457: =(IF(N457="No",0,(IF(D457="CO2",0,(VLOOKUP(F457,'Rule Reductions'!$C$2:$E$75,3,FALSE)))))) -> 0 | Q457: =+$E457*(1+H457)*(1-$O457) -> 1516.3608 | R457: =+$E457*(1+I457)*(1-$O457) -> 1739.4153 | S457: =+$E457*(1+J457)*(1-$O457) -> 1349.2603 | T457: =+$E457*(1+K457)*(1-$P457) -> 1553.4234 | U457: =+$E457*(1+L457)*(1-$P457) -> 1914.6034 | V457: =+$E457*(1+M457)*(1-$P457) -> 1358.3914
A458: Harding | B458: Production | C458: Intermittent Bleed Pneumatic Controllers | D458: CH4 | E458: 1317.2905 | F458: Pneumatic Controllers | G458: Mix | H458: =IF(G458="Mix",'Growth Factors'!$N$7,(IF(G458="Oil",'Growth Factors'!$E$7,'Growth Factors'!$K$7))) -> 0.12321919 | I458: =IF(G458="Mix",'Growth Factors'!$O$7,(IF(G458="Oil",'Growth Factors'!$F$7,'Growth Factors'!$L$7))) -> 0.28844315 | J458: =IF(G458="Mix",'Growth Factors'!$P$7,(IF(G458="Oil",'Growth Factors'!$G$7,'Growth Factors'!$M$7))) -> -0.00055772089 | K458: =IF(G458="Mix",'Growth Factors'!$N$12,(IF(G458="Oil",'Growth Factors'!$E$12,'Growth Factors'!$K$12))) -> 0.15067268 | L458: =IF(G458="Mix",'Growth Factors'!$O$12,(IF(G458="Oil",'Growth Factors'!$F$12,'Growth Factors'!$L$12))) -> 0.41821083 | M458: =IF(G458="Mix",'Growth Factors'!$P$12,(IF(G458="Oil",'Growth Factors'!$G$12,'Growth Factors'!$M$12))) -> 0.0062059761 | N458: =VLOOKUP(A458,'Part 50 Counties'!$A$2:$B$34,2) -> No | O458: =(IF(N458="No",0,(IF(D458="CO2",0,(VLOOKUP(F458,'Rule Reductions'!$C$2:$E$75,2,FALSE)))))) -> 0 | P458: =(IF(N458="No",0,(IF(D458="CO2",0,(VLOOKUP(F458,'Rule Reductions'!$C$2:$E$75,3,FALSE)))))) -> 0 | Q458: =+$E458*(1+H458)*(1-$O458) -> 1479.606 | R458: =+$E458*(1+I458)*(1-$O458) -> 1697.2539 | S458: =+$E458*(1+J458)*(1-$O458) -> 1316.5558 | T458: =+$E458*(1+K458)*(1-$P458) -> 1515.7702 | U458: =+$E458*(1+L458)*(1-$P458) -> 1868.1957 | V458: =+$E458*(1+M458)*(1-$P458) -> 1325.4656
A459: Harding | B459: Production | C459: Intermittent Bleed Pneumatic Controllers | D459: CO2 | E459: 868.31079 | F459: Pneumatic Controllers | G459: Mix | H459: =IF(G459="Mix",'Growth Factors'!$N$7,(IF(G459="Oil",'Growth Factors'!$E$7,'Growth Factors'!$K$7))) -> 0.12321919 | I459: =IF(G459="Mix",'Growth Factors'!$O$7,(IF(G459="Oil",'Growth Factors'!$F$7,'Growth Factors'!$L$7))) -> 0.28844315 | J459: =IF(G459="Mix",'Growth Factors'!$P$7,(IF(G459="Oil",'Growth Factors'!$G$7,'Growth Factors'!$M$7))) -> -0.00055772089 | K459: =IF(G459="Mix",'Growth Factors'!$N$12,(IF(G459="Oil",'Growth Factors'!$E$12,'Growth Factors'!$K$12))) -> 0.15067268 | L459: =IF(G459="Mix",'Growth Factors'!$O$12,(IF(G459="Oil",'Growth Factors'!$F$12,'Growth Factors'!$L$12))) -> 0.41821083 | M459: =IF(G459="Mix",'Growth Factors'!$P$12,(IF(G459="Oil",'Growth Factors'!$G$12,'Growth Factors'!$M$12))) -> 0.0062059761 | N459: =VLOOKUP(A459,'Part 50 Counties'!$A$2:$B$34,2) -> No | O459: =(IF(N459="No",0,(IF(D459="CO2",0,(VLOOKUP(F459,'Rule Reductions'!$C$2:$E$75,2,FALSE)))))) -> 0 | P459: =(IF(N459="No",0,(IF(D459="CO2",0,(VLOOKUP(F459,'Rule Reductions'!$C$2:$E$75,3,FALSE)))))) -> 0 | Q459: =+$E459*(1+H459)*(1-$O459) -> 975.30335 | R459: =+$E459*(1+I459)*(1-$O459) -> 1118.7691 | S459: =+$E459*(1+J459)*(1-$O459) -> 867.82652 | T459: =+$E459*(1+K459)*(1-$P459) -> 999.14151 | U459: =+$E459*(1+L459)*(1-$P459) -> 1231.4478 | V459: =+$E459*(1+M459)*(1-$P459) -> 873.69951
A460: Lea | B460: G&B | C460: Intermittent Bleed Pneumatic Controllers | D460: CH4 | E460: 1166.5931 | F460: Pneumatic Controllers | G460: Mix | H460: =IF(G460="Mix",'Growth Factors'!$N$7,(IF(G460="Oil",'Growth Factors'!$E$7,'Growth Factors'!$K$7))) -> 0.12321919 | I460: =IF(G460="Mix",'Growth Factors'!$O$7,(IF(G460="Oil",'Growth Factors'!$F$7,'Growth Factors'!$L$7))) -> 0.28844315 | J460: =IF(G460="Mix",'Growth Factors'!$P$7,(IF(G460="Oil",'Growth Factors'!$G$7,'Growth Factors'!$M$7))) -> -0.00055772089 | K460: =IF(G460="Mix",'Growth Factors'!$N$12,(IF(G460="Oil",'Growth Factors'!$E$12,'Growth Factors'!$K$12))) -> 0.15067268 | L460: =IF(G460="Mix",'Growth Factors'!$O$12,(IF(G460="Oil",'Growth Factors'!$F$12,'Growth Factors'!$L$12))) -> 0.41821083 | M460: =IF(G460="Mix",'Growth Factors'!$P$12,(IF(G460="Oil",'Growth Factors'!$G$12,'Growth Factors'!$M$12))) -> 0.0062059761 | N460: =VLOOKUP(A460,'Part 50 Counties'!$A$2:$B$34,2) -> Yes | O460: =(IF(N460="No",0,(IF(D460="CO2",0,(VLOOKUP(F460,'Rule Reductions'!$C$2:$E$75,2,FALSE)))))) -> 0.8 | P460: =(IF(N460="No",0,(IF(D460="CO2",0,(VLOOKUP(F460,'Rule Reductions'!$C$2:$E$75,3,FALSE)))))) -> 0.90578983 | Q460: =+$E460*(1+H460)*(1-$O460) -> 262.06795 | R460: =+$E460*(1+I460)*(1-$O460) -> 300.61778 | S460: =+$E460*(1+J460)*(1-$O460) -> 233.18849 | T460: =+$E460*(1+K460)*(1-$P460) -> 126.4646 | U460: =+$E460*(1+L460)*(1-$P460) -> 155.86837 | V460: =+$E460*(1+M460)*(1-$P460) -> 110.587
...

Sheet Growth Factors
A1: Year | B1: Oil Reference Case Production | C1: Oil High Oil Price Production | D1: Oil Low Oil Price Production | E1: Oil Reference Case Change From base year (2020) | F1: Oil High Oil Price Case Change From base year (2020) | G1: Oil Low Oil Price Case Change From base year (2020) | H1: Gas Reference Case Production | I1: Gas High Oil Price Production | J1: Gas Low Oil Price Production | K1: Gas Reference Case Change From base year (2020) | L1: Gas High Oil Price Case Change From base year (2020) | M1: Gas Low Oil Price Case Change From base year (2020) | N1: Mix Reference Case Change From base year (2020) | O1: Mix High Oil Price Case Change From base year (2020) | P1: Mix Low Oil Price Case Change From base year (2020)
A2: 2020 | B2: 11.282959 | C2: 11.282959 | D2: 11.282959 | E2: =(B2-$B$2)/$B$2 -> 0 | F2: =(C2-$C$2)/$C$2 -> 0 | G2: =(D2-$D$2)/$D$2 -> 0 | H2: 33.485264 | I2: 33.485264 | J2: 33.485264 | K2: =(H2-$H$2)/$H$2 -> 0 | L2: =(I2-$I$2)/$I$2 -> 0 | M2: =(J2-$J$2)/$J$2 -> 0 | N2: =+(K2+E2)/2 -> 0 | O2: =+(L2+F2)/2 -> 0 | P2: =+(M2+G2)/2 -> 0
A3: 2021 | B3: 11.13137 | C3: 11.13137 | D3: 11.13137 | E3: =(B3-$B$2)/$B$2 -> -0.013435205 | F3: =(C3-$C$2)/$C$2 -> -0.013435205 | G3: =(D3-$D$2)/$D$2 -> -0.013435205 | H3: 34.40416 | I3: 34.409939 | J3: 34.415951 | K3: =(H3-$H$2)/$H$2 -> 0.027441801 | L3: =(I3-$I$2)/$I$2 -> 0.027614384 | M3: =(J3-$J$2)/$J$2 -> 0.027793926 | N3: =+(K3+E3)/2 -> 0.0070032981 | O3: =+(L3+F3)/2 -> 0.0070895898 | P3: =+(M3+G3)/2 -> 0.0071793606
A4: 2022 | B4: 11.890215 | C4: 12.395033 | D4: 10.596515 | E4: =(B4-$B$2)/$B$2 -> 0.053820646 | F4: =(C4-$C$2)/$C$2 -> 0.098562279 | G4: =(D4-$D$2)/$D$2 -> -0.060838993 | H4: 35.685917 | I4: 36.043201 | J4: 31.922022 | K4: =(H4-$H$2)/$H$2 -> 0.065720042 | L4: =(I4-$I$2)/$I$2 -> 0.076389929 | M4: =(J4-$J$2)/$J$2 -> -0.046684477 | N4: =+(K4+E4)/2 -> 0.059770344 | O4: =+(L4+F4)/2 -> 0.087476104 | P4: =+(M4+G4)/2 -> -0.053761735
A5: 2023 | B5: 12.277072 | C5: 14.743806 | D5: 11.375623 | E5: =(B5-$B$2)/$B$2 -> 0.088107486 | F5: =(C5-$C$2)/$C$2 -> 0.30673223 | G5: =(D5-$D$2)/$D$2 -> 0.0082127517 | H5: 36.052288 | I5: 37.540092 | J5: 32.134312 | K5: =(H5-$H$2)/$H$2 -> 0.076661302 | L5: =(I5-$I$2)/$I$2 -> 0.12109291 | M5: =(J5-$J$2)/$J$2 -> -0.040344674 | N5: =+(K5+E5)/2 -> 0.082384394 | O5: =+(L5+F5)/2 -> 0.21391257 | P5: =+(M5+G5)/2 -> -0.016065961
A6: 2024 | B6: 12.60923 | C6: 15.707987 | D6: 11.238279 | E6: =(B6-$B$2)/$B$2 -> 0.1175464 | F6: =(C6-$C$2)/$C$2 -> 0.39218685 | G6: =(D6-$D$2)/$D$2 -> -0.0039599418 | H6: 36.409576 | I6: 37.982395 | J6: 31.819265 | K6: =(H6-$H$2)/$H$2 -> 0.087331309 | L6: =(I6-$I$2)/$I$2 -> 0.13430179 | M6: =(J6-$J$2)/$J$2 -> -0.0497532 | N6: =+(K6+E6)/2 -> 0.10243885 | O6: =+(L6+F6)/2 -> 0.26324432 | P6: =+(M6+G6)/2 -> -0.026856571
A7: 2025 | B7: 13.052892 | C7: 16.12867 | D7: 11.380773 | E7: =(B7-$B$2)/$B$2 -> 0.15686782 | F7: =(C7-$C$2)/$C$2 -> 0.42947167 | G7: =(D7-$D$2)/$D$2 -> 0.0086691922 | H7: 36.484558 | I7: 38.421482 | J7: 33.157623 | K7: =(H7-$H$2)/$H$2 -> 0.089570563 | L7: =(I7-$I$2)/$I$2 -> 0.14741463 | M7: =(J7-$J$2)/$J$2 -> -0.009784634 | N7: =+(K7+E7)/2 -> 0.12321919 | O7: =+(L7+F7)/2 -> 0.28844315 | P7: =+(M7+G7)/2 -> -0.00055772089
A8: 2026 | B8: 13.243161 | C8: 16.568733 | D8: 11.375468 | E8: =(B8-$B$2)/$B$2 -> 0.17373121 | F8: =(C8-$C$2)/$C$2 -> 0.46847411 | G8: =(D8-$D$2)/$D$2 -> 0.0081990141 | H8: 36.570492 | I8: 38.48378 | J8: 33.868839 | K8: =(H8-$H$2)/$H$2 -> 0.092136886 | L8: =(I8-$I$2)/$I$2 -> 0.14927509 | M8: =(J8-$J$2)/$J$2 -> 0.011455037 | N8: =+(K8+E8)/2 -> 0.13293405 | O8: =+(L8+F8)/2 -> 0.3088746 | P8: =+(M8+G8)/2 -> 0.0098270257
A9: 2027 | B9: 13.200738 | C9: 16.804802 | D9: 11.256226 | E9: =(B9-$B$2)/$B$2 -> 0.1699713 | F9: =(C9-$C$2)/$C$2 -> 0.48939673 | G9: =(D9-$D$2)/$D$2 -> -0.002369313 | H9: 36.719749 | I9: 38.902111 | J9: 34.028431 | K9: =(H9-$H$2)/$H$2 -> 0.096594279 | L9: =(I9-$I$2)/$I$2 -> 0.16176808 | M9: =(J9-$J$2)/$J$2 -> 0.016221074 | N9: =+(K9+E9)/2 -> 0.13328279 | O9: =+(L9+F9)/2 -> 0.3255824 | P9: =+(M9+G9)/2 -> 0.0069258805
A10: 2028 | B10: 13.394472 | C10: 17.269243 | D10: 11.274733 | E10: =(B10-$B$2)/$B$2 -> 0.18714179 | F10: =(C10-$C$2)/$C$2 -> 0.53055978 | G10: =(D10-$D$2)/$D$2 -> -0.00072905173 | H10: 37.260258 | I10: 39.723751 | J10: 34.290558 | K10: =(H10-$H$2)/$H$2 -> 0.11273598 | L10: =(I10-$I$2)/$I$2 -> 0.18630544 | M10: =(J10-$J$2)/$J$2 -> 0.024049204 | N10: =+(K10+E10)/2 -> 0.14993888 | O10: =+(L10+F10)/2 -> 0.35843261 | P10: =+(M10+G10)/2 -> 0.011660076
