Workbook

Sheet Emissions
A1: County | B1: Industry Segment | C1: Emission Source | D1: Pollutant | E1: 2020 Emissions (metric tons) | F1: Emission Source (General) | G1: Projections Commodity | H1: 2025 Growth Factor Reference Case | I1: 2025 Growth Factor High Oil Price Case | J1: 2025 Growth Factor Low Oil Price Case | K1: 2030 Growth Factor Reference Case | L1: 2030 Growth Factor High Oil Price Case | M1: 2030 Growth Factor Low Oil Price Case | N1: County Subject to Part 50? | O1: Part 50 2025 Reduction % | P1: Part 50 2030 Reduction % | Q1: 2025 Emissions Reference Case | R1: 2025 Emissions High Oil Price Case | S1: 2025 Emissions Low Oil Price Case | T1: 2030 Emissions Reference Case | U1: 2030 Emissions High Oil Price Case | V1: 2030 Emissions Low Oil Price Case | X1: Year | Y1: Pollutant | Z1: Reference Case (MT) | AA1: High Oil Price Case (MT) | AB1: Low Oil Price Case (MT) | AC1: Reference Case (% Change from 2020) | AD1: High Oil Price Case (% Change from 2020) | AE1: Low Oil Price Case (% Change from 2020)
A2: Chaves | B2: Processing | C2: Acid Gas Removal Units | D2: CO2 | E2: 62895 | F2: Acid Gas Removal Units | G2: Gas | H2: =IF(G2="Mix",'Growth Factors'!$N$7,(IF(G2="Oil",'Growth Factors'!$E$7,'Growth Factors'!$K$7))) -> 0.089570563 | I2: =IF(G2="Mix",'Growth Factors'!$O$7,(IF(G2="Oil",'Growth Factors'!$F$7,'Growth Factors'!$L$7))) -> 0.14741463 | J2: =IF(G2="Mix",'Growth Factors'!$P$7,(IF(G2="Oil",'Growth Factors'!$G$7,'Growth Factors'!$M$7))) -> -0.009784634 | K2: =IF(G2="Mix",'Growth Factors'!$N$12,(IF(G2="Oil",'Growth Factors'!$E$12,'Growth Factors'!$K$12))) -> 0.1235404 | L2: =IF(G2="Mix",'Growth Factors'!$O$12,(IF(G2="Oil",'Growth Factors'!$F$12,'Growth Factors'!$L$12))) -> 0.23183777 | M2: =IF(G2="Mix",'Growth Factors'!$P$12,(IF(G2="Oil",'Growth Factors'!$G$12,'Growth Factors'!$M$12))) -> 0.027241295 | N2: =VLOOKUP(A2,'Part 50 Counties'!$A$2:$B$34,2) -> Yes | O2: =(IF(N2="No",0,(IF(D2="CO2",0,(VLOOKUP(F2,'Rule Reductions'!$C$2:$E$75,2,FALSE)))))) -> 0 | P2: =(IF(N2="No",0,(IF(D2="CO2",0,(VLOOKUP(F2,'Rule Reductions'!$C$2:$E$75,3,FALSE)))))) -> 0 | Q2: =+$E2*(1+H2)*(1-$O2) -> 68528.541 | R2: =+$E2*(1+I2)*(1-$O2) -> 72166.643 | S2: =+$E2*(1+J2)*(1-$O2) -> 62279.595 | T2: =+$E2*(1+K2)*(1-$P2) -> 70665.074 | U2: =+$E2*(1+L2)*(1-$P2) -> 77476.437 | V2: =+$E2*(1+M2)*(1-$P2) -> 64608.341 | X2: 2020 | Y2: CH4 | Z2: =SUMIF($D$2:$E$1419,Y2,$E$2:$E$1419) -> 547212.23 | AA2: NA | AB2: NA | AC2: NA | AD2: NA | AE2: NA
A3: Eddy | B3: G&B | C3: Acid Gas Removal Units | D3: CO2 | E3: 12681.678 | F3: Acid Gas Removal Units | G3: Gas | H3: =IF(G3="Mix",'Growth Factors'!$N$7,(IF(G3="Oil",'Growth Factors'!$E$7,'Growth Factors'!$K$7))) -> 0.089570563 | I3: =IF(G3="Mix",'Growth Factors'!$O$7,(IF(G3="Oil",'Growth Factors'!$F$7,'Growth Factors'!$L$7))) -> 0.14741463 | J3: =IF(G3="Mix",'Growth Factors'!$P$7,(IF(G3="Oil",'Growth Factors'!$G$7,'Growth Factors'!$M$7))) -> -0.009784634 | K3: =IF(G3="Mix",'Growth Factors'!$N$12,(IF(G3="Oil",'Growth Factors'!$E$12,'Growth Factors'!$K$12))) -> 0.1235404 | L3: =IF(G3="Mix",'Growth Factors'!$O$12,(IF(G3="Oil",'Growth Factors'!$F$12,'Growth Factors'!$L$12))) -> 0.23183777 | M3: =IF(G3="Mix",'Growth Factors'!$P$12,(IF(G3="Oil",'Growth Factors'!$G$12,'Growth Factors'!$M$12))) -> 0.027241295 | N3: =VLOOKUP(A3,'Part 50 Counties'!$A$2:$B$34,2) -> Yes | O3: =(IF(N3="No",0,(IF(D3="CO2",0,(VLOOKUP(F3,'Rule Reductions'!$C$2:$E$75,2,FALSE)))))) -> 0 | P3: =(IF(N3="No",0,(IF(D3="CO2",0,(VLOOKUP(F3,'Rule Reductions'!$C$2:$E$75,3,FALSE)))))) -> 0 | Q3: =+$E3*(1+H3)*(1-$O3) -> 13817.583 | R3: =+$E3*(1+I3)*(1-$O3) -> 14551.143 | S3: =+$E3*(1+J3)*(1-$O3) -> 12557.592 | T3: =+$E3*(1+K3)*(1-$P3) -> 14248.377 | U3: =+$E3*(1+L3)*(1-$P3) -> 15621.77 | V3: =+$E3*(1+M3)*(1-$P3) -> 13027.143 | X3: 2020 | Y3: CO2 | Z3: =SUMIF($D$2:$E$1419,Y3,$E$2:$E$1419) -> 18177400 | AA3: NA | AB3: NA | AC3: NA | AD3: NA | AE3: NA
A4: Eddy | B4: Processing | C4: Acid Gas Removal Units | D4: CO2 | E4: 282693.5 | F4: Acid Gas Removal Units | G4: Gas | H4: =IF(G4="Mix",'Growth Factors'!$N$7,(IF(G4="Oil",'Growth Factors'!$E$7,'Growth Factors'!$K$7))) -> 0.089570563 | I4: =IF(G4="Mix",'Growth Factors'!$O$7,(IF(G4="Oil",'Growth Factors'!$F$7,'Growth Factors'!$L$7))) -> 0.14741463 | J4: =IF(G4="Mix",'Growth Factors'!$P$7,(IF(G4="Oil",'Growth Factors'!$G$7,'Growth Factors'!$M$7))) -> -0.009784634 | K4: =IF(G4="Mix",'Growth Factors'!$N$12,(IF(G4="Oil",'Growth Factors'!$E$12,'Growth Factors'!$K$12))) -> 0.1235404 | L4: =IF(G4="Mix",'Growth Factors'!$O$12,(IF(G4="Oil",'Growth Factors'!$F$12,'Growth Factors'!$L$12))) -> 0.23183777 | M4: =IF(G4="Mix",'Growth Factors'!$P$12,(IF(G4="Oil",'Growth Factors'!$G$12,'Growth Factors'!$M$12))) -> 0.027241295 | N4: =VLOOKUP(A4,'Part 50 Counties'!$A$2:$B$34,2) -> Yes | O4: =(IF(N4="No",0,(IF(D4="CO2",0,(VLOOKUP(F4,'Rule Reductions'!$C$2:$E$75,2,FALSE)))))) -> 0 | P4: =(IF(N4="No",0,(IF(D4="CO2",0,(VLOOKUP(F4,'Rule Reductions'!$C$2:$E$75,3,FALSE)))))) -> 0 | Q4: =+$E4*(1+H4)*(1-$O4) -> 308014.52 | R4: =+$E4*(1+I4)*(1-$O4) -> 324366.66 | S4: =+$E4*(1+J4)*(1-$O4) -> 279927.45 | T4: =+$E4*(1+K4)*(1-$P4) -> 317617.57 | U4: =+$E4*(1+L4)*(1-$P4) -> 348232.53 | V4: =+$E4*(1+M4)*(1-$P4) -> 290394.44 | X4: 2025 | Y4: CH4 | Z4: =SUMIF($D$2:$Q$1419,Y4,$Q$2:$Q$1419) -> 283012.58 | AA4: =SUMIF($D$2:$R$1419,Y4,$R$2:$R$1419) -> 315169.93 | AB4: =SUMIF($D$2:$S$1419,Y4,$S$2:$S$1419) -> 253740.79 | AC4: =(Z4-$Z$2)/$Z$2 -> -0.4828102 | AD4: =(AA4-$Z$2)/$Z$2 -> -0.42404442 | AE4: =(AB4-$Z$2)/$Z$2 -> -0.53630277
A5: Lea | B5: G&B | C5: Acid Gas Removal Units | D5: CO2 | E5: 84950.621 | F5: Acid Gas Removal Units | G5: Gas | H5: =IF(G5="Mix",'Growth Factors'!$N$7,(IF(G5="Oil",'Growth Factors'!$E$7,'Growth Factors'!$K$7))) -> 0.089570563 | I5: =IF(G5="Mix",'Growth Factors'!$O$7,(IF(G5="Oil",'Growth Factors'!$F$7,'Growth Factors'!$L$7))) -> 0.14741463 | J5: =IF(G5="Mix",'Growth Factors'!$P$7,(IF(G5="Oil",'Growth Factors'!$G$7,'Growth Factors'!$M$7))) -> -0.009784634 | K5: =IF(G5="Mix",'Growth Factors'!$N$12,(IF(G5="Oil",'Growth Factors'!$E$12,'Growth Factors'!$K$12))) -> 0.1235404 | L5: =IF(G5="Mix",'Growth Factors'!$O$12,(IF(G5="Oil",'Growth Factors'!$F$12,'Growth Factors'!$L$12))) -> 0.23183777 | M5: =IF(G5="Mix",'Growth Factors'!$P$12,(IF(G5="Oil",'Growth Factors'!$G$12,'Growth Factors'!$M$12))) -> 0.027241295 | N5: =VLOOKUP(A5,'Part 50 Counties'!$A$2:$B$34,2) -> Yes | O5: =(IF(N5="No",0,(IF(D5="CO2",0,(VLOOKUP(F5,'Rule Reductions'!$C$2:$E$75,2,FALSE)))))) -> 0 | P5: =(IF(N5="No",0,(IF(D5="CO2",0,(VLOOKUP(F5,'Rule Reductions'!$C$2:$E$75,3,FALSE)))))) -> 0 | Q5: =+$E5*(1+H5)*(1-$O5) -> 92559.696 | R5: =+$E5*(1+I5)*(1-$O5) -> 97473.586 | S5: =+$E5*(1+J5)*(1-$O5) -> 84119.411 | T5: =+$E5*(1+K5)*(1-$P5) -> 95445.455 | U5: =+$E5*(1+L5)*(1-$P5) -> 104645.38 | V5: =+$E5*(1+M5)*(1-$P5) -> 87264.786 | X5: 2025 | Y5: CO2 | Z5: =SUMIF($D$2:$Q$1419,Y5,$Q$2:$Q$1419) -> 20255314 | AA5: =SUMIF($D$2:$R$1419,Y5,$R$2:$R$1419) -> 22748156 | AB5: =SUMIF($D$2:$S$1419,Y5,$S$2:$S$1419) -> 18121631 | AC5: =(Z5-$Z$3)/$Z$3 -> 0.11431306 | AD5: =(AA5-$Z$3)/$Z$3 -> 0.25145266 | AE5: =(AB5-$Z$3)/$Z$3 -> -0.0030680562
A6: Lea | B6: Processing | C6: Acid Gas Removal Units | D6: CO2 | E6: 908193.88 | F6: Acid Gas Removal Units | G6: Gas | H6: =IF(G6="Mix",'Growth Factors'!$N$7,(IF(G6="Oil",'Growth Factors'!$E$7,'Growth Factors'!$K$7))) -> 0.089570563 | I6: =IF(G6="Mix",'Growth Factors'!$O$7,(IF(G6="Oil",'Growth Factors'!$F$7,'Growth Factors'!$L$7))) -> 0.14741463 | J6: =IF(G6="Mix",'Growth Factors'!$P$7,(IF(G6="Oil",'Growth Factors'!$G$7,'Growth Factors'!$M$7))) -> -0.009784634 | K6: =IF(G6="Mix",'Growth Factors'!$N$12,(IF(G6="Oil",'Growth Factors'!$E$12,'Growth Factors'!$K$12))) -> 0.1235404 | L6: =IF(G6="Mix",'Growth Factors'!$O$12,(IF(G6="Oil",'Growth Factors'!$F$12,'Growth Factors'!$L$12))) -> 0.23183777 | M6: =IF(G6="Mix",'Growth Factors'!$P$12,(IF(G6="Oil",'Growth Factors'!$G$12,'Growth Factors'!$M$12))) -> 0.027241295 | N6: =VLOOKUP(A6,'Part 50 Counties'!$A$2:$B$34,2) -> Yes | O6: =(IF(N6="No",0,(IF(D6="CO2",0,(VLOOKUP(F6,'Rule Reductions'!$C$2:$E$75,2,FALSE)))))) -> 0 | P6: =(IF(N6="No",0,(IF(D6="CO2",0,(VLOOKUP(F6,'Rule Reductions'!$C$2:$E$75,3,FALSE)))))) -> 0 | Q6: =+$E6*(1+H6)*(1-$O6) -> 989541.31 | R6: =+$E6*(1+I6)*(1-$O6) -> 1042074.9 | S6: =+$E6*(1+J6)*(1-$O6) -> 899307.53 | T6: =+$E6*(1+K6)*(1-$P6) -> 1020392.5 | U6: =+$E6*(1+L6)*(1-$P6) -> 1118747.5 | V6: =+$E6*(1+M6)*(1-$P6) -> 932934.25 | X6: 2030 | Y6: CH4 | Z6: =SUMIF($D$2:$T$1419,Y6,$T$2:$T$1419) -> 265258.12 | AA6: =SUMIF($D$2:$U$1419,Y6,$U$2:$U$1419) -> 312795.74 | AB6: =SUMIF($D$2:$V$1419,Y6,$V$2:$V$1419) -> 236092.56 | AC6: =(Z6-$Z$2)/$Z$2 -> -0.5152555 | AD6: =(AA6-$Z$2)/$Z$2 -> -0.42838312 | AE6: =(AB6-$Z$2)/$Z$2 -> -0.56855394
A7: San Juan | B7: Processing | C7: Acid Gas Removal Units | D7: CO2 | E7: 695958.9 | F7: Acid Gas Removal Units | G7: Gas | H7: =IF(G7="Mix",'Growth Factors'!$N$7,(IF(G7="Oil",'Growth Factors'!$E$7,'Growth Factors'!$K$7))) -> 0.089570563 | I7: =IF(G7="Mix",'Growth Factors'!$O$7,(IF(G7="Oil",'Growth Factors'!$F$7,'Growth Factors'!$L$7))) -> 0.14741463 | J7: =IF(G7="Mix",'Growth Factors'!$P$7,(IF(G7="Oil",'Growth Factors'!$G$7,'Growth Factors'!$M$7))) -> -0.009784634 | K7: =IF(G7="Mix",'Growth Factors'!$N$12,(IF(G7="Oil",'Growth Factors'!$E$12,'Growth Factors'!$K$12))) -> 0.1235404 | L7: =IF(G7="Mix",'Growth Factors'!$O$12,(IF(G7="Oil",'Growth Factors'!$F$12,'Growth Factors'!$L$12))) -> 0.23183777 | M7: =IF(G7="Mix",'Growth Factors'!$P$12,(IF(G7="Oil",'Growth Factors'!$G$12,'Growth Factors'!$M$12))) -> 0.027241295 | N7: =VLOOKUP(A7,'Part 50 Counties'!$A$2:$B$34,2) -> Yes | O7: =(IF(N7="No",0,(IF(D7="CO2",0,(VLOOKUP(F7,'Rule Reductions'!$C$2:$E$75,2,FALSE)))))) -> 0 | P7: =(IF(N7="No",0,(IF(D7="CO2",0,(VLOOKUP(F7,'Rule Reductions'!$C$2:$E$75,3,FALSE)))))) -> 0 | Q7: =+$E7*(1+H7)*(1-$O7) -> 758296.33 | R7: =+$E7*(1+I7)*(1-$O7) -> 798553.43 | S7: =+$E7*(1+J7)*(1-$O7) -> 689149.2 | T7: =+$E7*(1+K7)*(1-$P7) -> 781937.94 | U7: =+$E7*(1+L7)*(1-$P7) -> 857308.46 | V7: =+$E7*(1+M7)*(1-$P7) -> 714917.72 | X7: 2030 | Y7: CO2 | Z7: =SUMIF($D$2:$T$1419,Y7,$T$2:$T$1419) -> 20785260 | AA7: =SUMIF($D$2:$U$1419,Y7,$U$2:$U$1419) -> 24891312 | AB7: =SUMIF($D$2:$V$1419,Y7,$V$2:$V$1419) -> 18388353 | AC7: =(Z7-$Z$3)/$Z$3 -> 0.14346715 | AD7: =(AA7-$Z$3)/$Z$3 -> 0.36935493 | AE7: =(AB7-$Z$3)/$Z$3 -> 0.011605229
A8: Chaves | B8: Production | C8: Associated Gas | D8: CH4 | E8: 14.410218 | F8: Associated Gas | G8: Oil | H8: =IF(G8="Mix",'Growth Factors'!$N$7,(IF(G8="Oil",'Growth Factors'!$E$7,'Growth Factors'!$K$7))) -> 0.15686782 | I8: =IF(G8="Mix",'Growth Factors'!$O$7,(IF(G8="Oil",'Growth Factors'!$F$7,'Growth Factors'!$L$7))) -> 0.42947167 | J8: =IF(G8="Mix",'Growth Factors'!$P$7,(IF(G8="Oil",'Growth Factors'!$G$7,'Growth Factors'!$M$7))) -> 0.0086691922 | K8: =IF(G8="Mix",'Growth Factors'!$N$12,(IF(G8="Oil",'Growth Factors'!$E$12,'Growth Factors'!$K$12))) -> 0.17780497 | L8: =IF(G8="Mix",'Growth Factors'!$O$12,(IF(G8="Oil",'Growth Factors'!$F$12,'Growth Factors'!$L$12))) -> 0.60458389 | M8: =IF(G8="Mix",'Growth Factors'!$P$12,(IF(G8="Oil",'Growth Factors'!$G$12,'Growth Factors'!$M$12))) -> -0.014829342 | N8: =VLOOKUP(A8,'Part 50 Counties'!$A$2:$B$34,2) -> Yes | O8: =(IF(N8="No",0,(IF(D8="CO2",0,(VLOOKUP(F8,'Rule Reductions'!$C$2:$E$75,2,FALSE)))))) -> 0.95 | P8: =(IF(N8="No",0,(IF(D8="CO2",0,(VLOOKUP(F8,'Rule Reductions'!$C$2:$E$75,3,FALSE)))))) -> 0.95 | Q8: =+$E8*(1+H8)*(1-$O8) -> 0.83353589 | R8: =+$E8*(1+I8)*(1-$O8) -> 1.0299499 | S8: =+$E8*(1+J8)*(1-$O8) -> 0.72675717 | T8: =+$E8*(1+K8)*(1-$P8) -> 0.84862134 | U8: =+$E8*(1+L8)*(1-$P8) -> 1.1561202 | V8: =+$E8*(1+M8)*(1-$P8) -> 0.70982621
A9: Chaves | B9: Production | C9: Associated Gas | D9: CO2 | E9: 3081.215 | F9: Associated Gas | G9: Oil | H9: =IF(G9="Mix",'Growth Factors'!$N$7,(IF(G9="Oil",'Growth Factors'!$E$7,'Growth Factors'!$K$7))) -> 0.15686782 | I9: =IF(G9="Mix",'Growth Factors'!$O$7,(IF(G9="Oil",'Growth Factors'!$F$7,'Growth Factors'!$L$7))) -> 0.42947167 | J9: =IF(G9="Mix",'Growth Factors'!$P$7,(IF(G9="Oil",'Growth Factors'!$G$7,'Growth Factors'!$M$7))) -> 0.0086691922 | K9: =IF(G9="Mix",'Growth Factors'!$N$12,(IF(G9="Oil",'Growth Factors'!$E$12,'Growth Factors'!$K$12))) -> 0.17780497 | L9: =IF(G9="Mix",'Growth Factors'!$O$12,(IF(G9="Oil",'Growth Factors'!$F$12,'Growth Factors'!$L$12))) -> 0.60458389 | M9: =IF(G9="Mix",'Growth Factors'!$P$12,(IF(G9="Oil",'Growth Factors'!$G$12,'Growth Factors'!$M$12))) -> -0.014829342 | N9: =VLOOKUP(A9,'Part 50 Counties'!$A$2:$B$34,2) -> Yes | O9: =(IF(N9="No",0,(IF(D9="CO2",0,(VLOOKUP(F9,'Rule Reductions'!$C$2:$E$75,2,FALSE)))))) -> 0 | P9: =(IF(N9="No",0,(IF(D9="CO2",0,(VLOOKUP(F9,'Rule Reductions'!$C$2:$E$75,3,FALSE)))))) -> 0 | Q9: =+$E9*(1+H9)*(1-$O9) -> 3564.5585 | R9: =+$E9*(1+I9)*(1-$O9) -> 4404.5096 | S9: =+$E9*(1+J9)*(1-$O9) -> 3107.9267 | T9: =+$E9*(1+K9)*(1-$P9) -> 3629.0704 | U9: =+$E9*(1+L9)*(1-$P9) -> 4944.068 | V9: =+$E9*(1+M9)*(1-$P9) -> 3035.5226
A10: Colfax | B10: Production | C10: Associated Gas | D10: CH4 | E10: 0 | F10: Associated Gas | G10: Oil | H10: =IF(G10="Mix",'Growth Factors'!$N$7,(IF(G10="Oil",'Growth Factors'!$E$7,'Growth Factors'!$K$7))) -> 0.15686782 | I10: =IF(G10="Mix",'Growth Factors'!$O$7,(IF(G10="Oil",'Growth Factors'!$F$7,'Growth Factors'!$L$7))) -> 0.42947167 | J10: =IF(G10="Mix",'Growth Factors'!$P$7,(IF(G10="Oil",'Growth Factors'!$G$7,'Growth Factors'!$M$7))) -> 0.0086691922 | K10: =IF(G10="Mix",'Growth Factors'!$N$12,(IF(G10="Oil",'Growth Factors'!$E$12,'Growth Factors'!$K$12))) -> 0.17780497 | L10: =IF(G10="Mix",'Growth Factors'!$O$12,(IF(G10="Oil",'Growth Factors'!$F$12,'Growth Factors'!$L$12))) -> 0.60458389 | M10: =IF(G10="Mix",'Growth Factors'!$P$12,(IF(G10="Oil",'Growth Factors'!$G$12,'Growth Factors'!$M$12))) -> -0.014829342 | N10: =VLOOKUP(A10,'Part 50 Counties'!$A$2:$B$34,2) -> No | O10: =(IF(N10="No",0,(IF(D10="CO2",0,(VLOOKUP(F10,'Rule Reductions'!$C$2:$E$75,2,FALSE)))))) -> 0 | P10: =(IF(N10="No",0,(IF(D10="CO2",0,(VLOOKUP(F10,'Rule Reductions'!$C$2:$E$75,3,FALSE)))))) -> 0 | Q10: =+$E10*(1+H10)*(1-$O10) -> 0 | R10: =+$E10*(1+I10)*(1-$O10) -> 0 | S10: =+$E10*(1+J10)*(1-$O10) -> 0 | T10: =+$E10*(1+K10)*(1-$P10) -> 0 | U10: =+$E10*(1+L10)*(1-$P10) -> 0 | V10: =+$E10*(1+M10)*(1-$P10) -> 0
A11: Colfax | B11: Production | C11: Associated Gas | D11: CO2 | E11: 0 | F11: Associated Gas | G11: Oil | H11: =IF(G11="Mix",'Growth Factors'!$N$7,(IF(G11="Oil",'Growth Factors'!$E$7,'Growth Factors'!$K$7))) -> 0.15686782 | I11: =IF(G11="Mix",'Growth Factors'!$O$7,(IF(G11="Oil",'Growth Factors'!$F$7,'Growth Factors'!$L$7))) -> 0.42947167 | J11: =IF(G11="Mix",'Growth Factors'!$P$7,(IF(G11="Oil",'Growth Factors'!$G$7,'Growth Factors'!$M$7))) -> 0.0086691922 | K11: =IF(G11="Mix",'Growth Factors'!$N$12,(IF(G11="Oil",'Growth Factors'!$E$12,'Growth Factors'!$K$12))) -> 0.17780497 | L11: =IF(G11="Mix",'Growth Factors'!$O$12,(IF(G11="Oil",'Growth Factors'!$F$12,'Growth Factors'!$L$12))) -> 0.60458389 | M11: =IF(G11="Mix",'Growth Factors'!$P$12,(IF(G11="Oil",'Growth Factors'!$G$12,'Growth Factors'!$M$12))) -> -0.014829342 | N11: =VLOOKUP(A11,'Part 50 Counties'!$A$2:$B$34,2) -> No | O11: =(IF(N11="No",0,(IF(D11="CO2",0,(VLOOKUP(F11,'Rule Reductions'!$C$2:$E$75,2,FALSE)))))) -> 0 | P11: =(IF(N11="No",0,(IF(D11="CO2",0,(VLOOKUP(F11,'Rule Reductions'!$C$2:$E$75,3,FALSE)))))) -> 0 | Q11: =+$E11*(1+H11)*(1-$O11) -> 0 | R11: =+$E11*(1+I11)*(1-$O11) -> 0 | S11: =+$E11*(1+J11)*(1-$O11) -> 0 | T11: =+$E11*(1+K11)*(1-$P11) -> 0 | U11: =+$E11*(1+L11)*(1-$P11) -> 0 | V11: =+$E11*(1+M11)*(1-$P11) -> 0
A12: Eddy | B12: Production | C12: Associated Gas | D12: CH4 | E12: 1847.7266 | F12: Associated Gas | G12: Oil | H12: =IF(G12="Mix",'Growth Factors'!$N$7,(IF(G12="Oil",'Growth Factors'!$E$7,'Growth Factors'!$K$7))) -> 0.15686782 | I12: =IF(G12="Mix",'Growth Factors'!$O$7,(IF(G12="Oil",'Growth Factors'!$F$7,'Growth Factors'!$L$7))) -> 0.42947167 | J12: =IF(G12="Mix",'Growth Factors'!$P$7,(IF(G12="Oil",'Growth Factors'!$G$7,'Growth Factors'!$M$7))) -> 0.0086691922 | K12: =IF(G12="Mix",'Growth Factors'!$N$12,(IF(G12="Oil",'Growth Factors'!$E$12,'Growth Factors'!$K$12))) -> 0.17780497 | L12: =IF(G12="Mix",'Growth Factors'!$O$12,(IF(G12="Oil",'Growth Factors'!$F$12,'Growth Factors'!$L$12))) -> 0.60458389 | M12: =IF(G12="Mix",'Growth Factors'!$P$12,(IF(G12="Oil",'Growth Factors'!$G$12,'Growth Factors'!$M$12))) -> -0.014829342 | N12: =VLOOKUP(A12,'Part 50 Counties'!$A$2:$B$34,2) -> Yes | O12: =(IF(N12="No",0,(IF(D12="CO2",0,(VLOOKUP(F12,'Rule Reductions'!$C$2:$E$75,2,FALSE)))))) -> 0.95 | P12: =(IF(N12="No",0,(IF(D12="CO2",0,(VLOOKUP(F12,'Rule Reductions'!$C$2:$E$75,3,FALSE)))))) -> 0.95 | Q12: =+$E12*(1+H12)*(1-$O12) -> 106.87877 | R12: =+$E12*(1+I12)*(1-$O12) -> 132.06364 | S12: =+$E12*(1+J12)*(1-$O12) -> 93.187243 | T12: =+$E12*(1+K12)*(1-$P12) -> 108.81308 | U12: =+$E12*(1+L12)*(1-$P12) -> 148.24161 | V12: =+$E12*(1+M12)*(1-$P12) -> 91.0163
A13: Eddy | B13: Production | C13: Associated Gas | D13: CO2 | E13: 404421.73 | F13: Associated Gas | G13: Oil | H13: =IF(G13="Mix",'Growth Factors'!$N$7,(IF(G13="Oil",'Growth Factors'!$E$7,'Growth Factors'!$K$7))) -> 0.15686782 | I13: =IF(G13="Mix",'Growth Factors'!$O$7,(IF(G13="Oil",'Growth Factors'!$F$7,'Growth Factors'!$L$7))) -> 0.42947167 | J13: =IF(G13="Mix",'Growth Factors'!$P$7,(IF(G13="Oil",'Growth Factors'!$G$7,'Growth Factors'!$M$7))) -> 0.0086691922 | K13: =IF(G13="Mix",'Growth Factors'!$N$12,(IF(G13="Oil",'Growth Factors'!$E$12,'Growth Factors'!$K$12))) -> 0.17780497 | L13: =IF(G13="Mix",'Growth Factors'!$O$12,(IF(G13="Oil",'Growth Factors'!$F$12,'Growth Factors'!$L$12))) -> 0.60458389 | M13: =IF(G13="Mix",'Growth Factors'!$P$12,(IF(G13="Oil",'Growth Factors'!$G$12,'Growth Factors'!$M$12))) -> -0.014829342 | N13: =VLOOKUP(A13,'Part 50 Counties'!$A$2:$B$34,2) -> Yes | O13: =(IF(N13="No",0,(IF(D13="CO2",0,(VLOOKUP(F13,'Rule Reductions'!$C$2:$E$75,2,FALSE)))))) -> 0 | P13: =(IF(N13="No",0,(IF(D13="CO2",0,(VLOOKUP(F13,'Rule Reductions'!$C$2:$E$75,3,FALSE)))))) -> 0 | Q13: =+$E13*(1+H13)*(1-$O13) -> 467862.48 | R13: =+$E13*(1+I13)*(1-$O13) -> 578109.4 | S13: =+$E13*(1+J13)*(1-$O13) -> 407927.74 | T13: =+$E13*(1+K13)*(1-$P13) -> 476329.92 | U13: =+$E13*(1+L13)*(1-$P13) -> 648928.59 | V13: =+$E13*(1+M13)*(1-$P13) -> 398424.42
A14: Harding | B14: Production | C14: Associated Gas | D14: CH4 | E14: 0 | F14: Associated Gas | G14: Oil | H14: =IF(G14="Mix",'Growth Factors'!$N$7,(IF(G14="Oil",'Growth Factors'!$E$7,'Growth Factors'!$K$7))) -> 0.15686782 | I14: =IF(G14="Mix",'Growth Factors'!$O$7,(IF(G14="Oil",'Growth Factors'!$F$7,'Growth Factors'!$L$7))) -> 0.42947167 | J14: =IF(G14="Mix",'Growth Factors'!$P$7,(IF(G14="Oil",'Growth Factors'!$G$7,'Growth Factors'!$M$7))) -> 0.0086691922 | K14: =IF(G14="Mix",'Growth Factors'!$N$12,(IF(G14="Oil",'Growth Factors'!$E$12,'Growth Factors'!$K$12))) -> 0.17780497 | L14: =IF(G14="Mix",'Growth Factors'!$O$12,(IF(G14="Oil",'Growth Factors'!$F$12,'Growth Factors'!$L$12))) -> 0.60458389 | M14: =IF(G14="Mix",'Growth Factors'!$P$12,(IF(G14="Oil",'Growth Factors'!$G$12,'Growth Factors'!$M$12))) -> -0.014829342 | N14: =VLOOKUP(A14,'Part 50 Counties'!$A$2:$B$34,2) -> No | O14: =(IF(N14="No",0,(IF(D14="CO2",0,(VLOOKUP(F14,'Rule Reductions'!$C$2:$E$75,2,FALSE)))))) -> 0 | P14: =(IF(N14="No",0,(IF(D14="CO2",0,(VLOOKUP(F14,'Rule Reductions'!$C$2:$E$75,3,FALSE)))))) -> 0 | Q14: =+$E14*(1+H14)*(1-$O14) -> 0 | R14: =+$E14*(1+I14)*(1-$O14) -> 0 | S14: =+$E14*(1+J14)*(1-$O14) -> 0 | T14: =+$E14*(1+K14)*(1-$P14) -> 0 | U14: =+$E14*(1+L14)*(1-$P14) -> 0 | V14: =+$E14*(1+M14)*(1-$P14) -> 0
A15: Harding | B15: Production | C15: Associated Gas | D15: CO2 | E15: 0 | F15: Associated Gas | G15: Oil | H15: =IF(G15="Mix",'Growth Factors'!$N$7,(IF(G15="Oil",'Growth Factors'!$E$7,'Growth Factors'!$K$7))) -> 0.15686782 | I15: =IF(G15="Mix",'Growth Factors'!$O$7,(IF(G15="Oil",'Growth Factors'!$F$7,'Growth Factors'!$L$7))) -> 0.42947167 | J15: =IF(G15="Mix",'Growth Factors'!$P$7,(IF(G15="Oil",'Growth Factors'!$G$7,'Growth Factors'!$M$7))) -> 0.0086691922 | K15: =IF(G15="Mix",'Growth Factors'!$N$12,(IF(G15="Oil",'Growth Factors'!$E$12,'Growth Factors'!$K$12))) -> 0.17780497 | L15: =IF(G15="Mix",'Growth Factors'!$O$12,(IF(G15="Oil",'Growth Factors'!$F$12,'Growth Factors'!$L$12))) -> 0.60458389 | M15: =IF(G15="Mix",'Growth Factors'!$P$12,(IF(G15="Oil",'Growth Factors'!$G$12,'Growth Factors'!$M$12))) -> -0.014829342 | N15: =VLOOKUP(A15,'Part 50 Counties'!$A$2:$B$34,2) -> No | O15: =(IF(N15="No",0,(IF(D15="CO2",0,(VLOOKUP(F15,'Rule Reductions'!$C$2:$E$75,2,FALSE)))))) -> 0 | P15: =(IF(N15="No",0,(IF(D15="CO2",0,(VLOOKUP(F15,'Rule Reductions'!$C$2:$E$75,3,FALSE)))))) -> 0 | Q15: =+$E15*(1+H15)*(1-$O15) -> 0 | R15: =+$E15*(1+I15)*(1-$O15) -> 0 | S15: =+$E15*(1+J15)*(1-$O15) -> 0 | T15: =+$E15*(1+K15)*(1-$P15) -> 0 | U15: =+$E15*(1+L15)*(1-$P15) -> 0 | V15: =+$E15*(1+M15)*(1-$P15) -> 0
A16: Lea | B16: Production | C16: Associated Gas | D16: CH4 | E16: 1415.9335 | F16: Associated Gas | G16: Oil | H16: =IF(G16="Mix",'Growth Factors'!$N$7,(IF(G16="Oil",'Growth Factors'!$E$7,'Growth Factors'!$K$7))) -> 0.15686782 | I16: =IF(G16="Mix",'Growth Factors'!$O$7,(IF(G16="Oil",'Growth Factors'!$F$7,'Growth Factors'!$L$7))) -> 0.42947167 | J16: =IF(G16="Mix",'Growth Factors'!$P$7,(IF(G16="Oil",'Growth Factors'!$G$7,'Growth Factors'!$M$7))) -> 0.0086691922 | K16: =IF(G16="Mix",'Growth Factors'!$N$12,(IF(G16="Oil",'Growth Factors'!$E$12,'Growth Factors'!$K$12))) -> 0.17780497 | L16: =IF(G16="Mix",'Growth Factors'!$O$12,(IF(G16="Oil",'Growth Factors'!$F$12,'Growth Factors'!$L$12))) -> 0.60458389 | M16: =IF(G16="Mix",'Growth Factors'!$P$12,(IF(G16="Oil",'Growth Factors'!$G$12,'Growth Factors'!$M$12))) -> -0.014829342 | N16: =VLOOKUP(A16,'Part 50 Counties'!$A$2:$B$34,2) -> Yes | O16: =(IF(N16="No",0,(IF(D16="CO2",0,(VLOOKUP(F16,'Rule Reductions'!$C$2:$E$75,2,FALSE)))))) -> 0.95 | P16: =(IF(N16="No",0,(IF(D16="CO2",0,(VLOOKUP(F16,'Rule Reductions'!$C$2:$E$75,3,FALSE)))))) -> 0.95 | Q16: =+$E16*(1+H16)*(1-$O16) -> 81.902396 | R16: =+$E16*(1+I16)*(1-$O16) -> 101.20184 | S16: =+$E16*(1+J16)*(1-$O16) -> 71.410426 | T16: =+$E16*(1+K16)*(1-$P16) -> 83.384676 | U16: =+$E16*(1+L16)*(1-$P16) -> 113.59921 | V16: =+$E16*(1+M16)*(1-$P16) -> 69.746807
A17: Lea | B17: Production | C17: Associated Gas | D17: CO2 | E17: 285521.09 | F17: Associated Gas | G17: Oil | H17: =IF(G17="Mix",'Growth Factors'!$N$7,(IF(G17="Oil",'Growth Factors'!$E$7,'Growth Factors'!$K$7))) -> 0.15686782 | I17: =IF(G17="Mix",'Growth Factors'!$O$7,(IF(G17="Oil",'Growth Factors'!$F$7,'Growth Factors'!$L$7))) -> 0.42947167 | J17: =IF(G17="Mix",'Growth Factors'!$P$7,(IF(G17="Oil",'Growth Factors'!$G$7,'Growth Factors'!$M$7))) -> 0.0086691922 | K17: =IF(G17="Mix",'Growth Factors'!$N$12,(IF(G17="Oil",'Growth Factors'!$E$12,'Growth Factors'!$K$12))) -> 0.17780497 | L17: =IF(G17="Mix",'Growth Factors'!$O$12,(IF(G17="Oil",'Growth Factors'!$F$12,'Growth Factors'!$L$12))) -> 0.60458389 | M17: =IF(G17="Mix",'Growth Factors'!$P$12,(IF(G17="Oil",'Growth Factors'!$G$12,'Growth Factors'!$M$12))) -> -0.014829342 | N17: =VLOOKUP(A17,'Part 50 Counties'!$A$2:$B$34,2) -> Yes | O17: =(IF(N17="No",0,(IF(D17="CO2",0,(VLOOKUP(F17,'Rule Reductions'!$C$2:$E$75,2,FALSE)))))) -> 0 | P17: =(IF(N17="No",0,(IF(D17="CO2",0,(VLOOKUP(F17,'Rule Reductions'!$C$2:$E$75,3,FALSE)))))) -> 0 | Q17: =+$E17*(1+H17)*(1-$O17) -> 330310.16 | R17: =+$E17*(1+I17)*(1-$O17) -> 408144.31 | S17: =+$E17*(1+J17)*(1-$O17) -> 287996.33 | T17: =+$E17*(1+K17)*(1-$P17) -> 336288.16 | U17: =+$E17*(1+L17)*(1-$P17) -> 458142.55 | V17: =+$E17*(1+M17)*(1-$P17) -> 281287
A18: McKinley | B18: Production | C18: Associated Gas | D18: CH4 | E18: 0.453738 | F18: Associated Gas | G18: Oil | H18: =IF(G18="Mix",'Growth Factors'!$N$7,(IF(G18="Oil",'Growth Factors'!$E$7,'Growth Factors'!$K$7))) -> 0.15686782 | I18: =IF(G18="Mix",'Growth Factors'!$O$7,(IF(G18="Oil",'Growth Factors'!$F$7,'Growth Factors'!$L$7))) -> 0.42947167 | J18: =IF(G18="Mix",'Growth Factors'!$P$7,(IF(G18="Oil",'Growth Factors'!$G$7,'Growth Factors'!$M$7))) -> 0.0086691922 | K18: =IF(G18="Mix",'Growth Factors'!$N$12,(IF(G18="Oil",'Growth Factors'!$E$12,'Growth Factors'!$K$12))) -> 0.17780497 | L18: =IF(G18="Mix",'Growth Factors'!$O$12,(IF(G18="Oil",'Growth Factors'!$F$12,'Growth Factors'!$L$12))) -> 0.60458389 | M18: =IF(G18="Mix",'Growth Factors'!$P$12,(IF(G18="Oil",'Growth Factors'!$G$12,'Growth Factors'!$M$12))) -> -0.014829342 | N18: =VLOOKUP(A18,'Part 50 Counties'!$A$2:$B$34,2) -> No | O18: =(IF(N18="No",0,(IF(D18="CO2",0,(VLOOKUP(F18,'Rule Reductions'!$C$2:$E$75,2,FALSE)))))) -> 0 | P18: =(IF(N18="No",0,(IF(D18="CO2",0,(VLOOKUP(F18,'Rule Reductions'!$C$2:$E$75,3,FALSE)))))) -> 0 | Q18: =+$E18*(1+H18)*(1-$O18) -> 0.52491489 | R18: =+$E18*(1+I18)*(1-$O18) -> 0.64860561 | S18: =+$E18*(1+J18)*(1-$O18) -> 0.45767154 | T18: =+$E18*(1+K18)*(1-$P18) -> 0.53441487 | U18: =+$E18*(1+L18)*(1-$P18) -> 0.72806068 | V18: =+$E18*(1+M18)*(1-$P18) -> 0.44700936
A19: McKinley | B19: Production | C19: Associated Gas | D19: CO2 | E19: 1.2183348 | F19: Associated Gas | G19: Oil | H19: =IF(G19="Mix",'Growth Factors'!$N$7,(IF(G19="Oil",'Growth Factors'!$E$7,'Growth Factors'!$K$7))) -> 0.15686782 | I19: =IF(G19="Mix",'Growth Factors'!$O$7,(IF(G19="Oil",'Growth Factors'!$F$7,'Growth Factors'!$L$7))) -> 0.42947167 | J19: =IF(G19="Mix",'Growth Factors'!$P$7,(IF(G19="Oil",'Growth Factors'!$G$7,'Growth Factors'!$M$7))) -> 0.0086691922 | K19: =IF(G19="Mix",'Growth Factors'!$N$12,(IF(G19="Oil",'Growth Factors'!$E$12,'Growth Factors'!$K$12))) -> 0.17780497 | L19: =IF(G19="Mix",'Growth Factors'!$O$12,(IF(G19="Oil",'Growth Factors'!$F$12,'Growth Factors'!$L$12))) -> 0.60458389 | M19: =IF(G19="Mix",'Growth Factors'!$P$12,(IF(G19="Oil",'Growth Factors'!$G$12,'Growth Factors'!$M$12))) -> -0.014829342 | N19: =VLOOKUP(A19,'Part 50 Counties'!$A$2:$B$34,2) -> No | O19: =(IF(N19="No",0,(IF(D19="CO2",0,(VLOOKUP(F19,'Rule Reductions'!$C$2:$E$75,2,FALSE)))))) -> 0 | P19: =(IF(N19="No",0,(IF(D19="CO2",0,(VLOOKUP(F19,'Rule Reductions'!$C$2:$E$75,3,FALSE)))))) -> 0 | Q19: =+$E19*(1+H19)*(1-$O19) -> 1.4094523 | R19: =+$E19*(1+I19)*(1-$O19) -> 1.7415751 | S19: =+$E19*(1+J19)*(1-$O19) -> 1.2288968 | T19: =+$E19*(1+K19)*(1-$P19) -> 1.4349608 | U19: =+$E19*(1+L19)*(1-$P19) -> 1.9549204 | V19: =+$E19*(1+M19)*(1-$P19) -> 1.2002677
... A396: McKinley | B396: Production | C396: HF Workovers | D396: CH4 | E396: 0 | F396: HF Workovers | G396: Mix | H396: =IF(G396="Mix",'Growth Factors'!$N$7,(IF(G396="Oil",'Growth Factors'!$E$7,'Growth Factors'!$K$7))) -> 0.12321919 | I396: =IF(G396="Mix",'Growth Factors'!$O$7,(IF(G396="Oil",'Growth Factors'!$F$7,'Growth Factors'!$L$7))) -> 0.28844315 | J396: =IF(G396="Mix",'Growth Factors'!$P$7,(IF(G396="Oil",'Growth Factors'!$G$7,'Growth Factors'!$M$7))) -> -0.00055772089 | K396: =IF(G396="Mix",'Growth Factors'!$N$12,(IF(G396="Oil",'Growth Factors'!$E$12,'Growth Factors'!$K$12))) -> 0.15067268 | L396: =IF(G396="Mix",'Growth Factors'!$O$12,(IF(G396="Oil",'Growth Factors'!$F$12,'Growth Factors'!$L$12))) -> 0.41821083 | M396: =IF(G396="Mix",'Growth Factors'!$P$12,(IF(G396="Oil",'Growth Factors'!$G$12,'Growth Factors'!$M$12))) -> 0.0062059761 | N396: =VLOOKUP(A396,'Part 50 Counties'!$A$2:$B$34,2) -> No | O396: =(IF(N396="No",0,(IF(D396="CO2",0,(VLOOKUP(F396,'Rule Reductions'!$C$2:$E$75,2,FALSE)))))) -> 0 | P396: =(IF(N396="No",0,(IF(D396="CO2",0,(VLOOKUP(F396,'Rule Reductions'!$C$2:$E$75,3,FALSE)))))) -> 0 | Q396: =+$E396*(1+H396)*(1-$O396) -> 0 | R396: =+$E396*(1+I396)*(1-$O396) -> 0 | S396: =+$E396*(1+J396)*(1-$O396) -> 0 | T396: =+$E396*(1+K396)*(1-$P396) -> 0 | U396: =+$E396*(1+L396)*(1-$P396) -> 0 | V396: =+$E396*(1+M396)*(1-$P396) -> 0
A397: McKinley | B397: Production | C397: HF Workovers | D397: CO2 | E397: 0 | F397: HF Workovers | G397: Mix | H397: =IF(G397="Mix",'Growth Factors'!$N$7,(IF(G397="Oil",'Growth Factors'!$E$7,'Growth Factors'!$K$7))) -> 0.12321919 | I397: =IF(G397="Mix",'Growth Factors'!$O$7,(IF(G397="Oil",'Growth Factors'!$F$7,'Growth Factors'!$L$7))) -> 0.28844315 | J397: =IF(G397="Mix",'Growth Factors'!$P$7,(IF(G397="Oil",'Growth Factors'!$G$7,'Growth Factors'!$M$7))) -> -0.00055772089 | K397: =IF(G397="Mix",'Growth Factors'!$N$12,(IF(G397="Oil",'Growth Factors'!$E$12,'Growth Factors'!$K$12))) -> 0.15067268 | L397: =IF(G397="Mix",'Growth Factors'!$O$12,(IF(G397="Oil",'Growth Factors'!$F$12,'Growth Factors'!$L$12))) -> 0.41821083 | M397: =IF(G397="Mix",'Growth Factors'!$P$12,(IF(G397="Oil",'Growth Factors'!$G$12,'Growth Factors'!$M$12))) -> 0.0062059761 | N397: =VLOOKUP(A397,'Part 50 Counties'!$A$2:$B$34,2) -> No | O397: 0.95 | P397: 0.95 | Q397: =+$E397*(1+H397)*(1-$O397) -> 0 | R397: =+$E397*(1+I397)*(1-$O397) -> 0 | S397: =+$E397*(1+J397)*(1-$O397) -> 0 | T397: =+$E397*(1+K397)*(1-$P397) -> 0 | U397: =+$E397*(1+L397)*(1-$P397) -> 0 | V397: =+$E397*(1+M397)*(1-$P397) -> 0
A398: Rio Arriba | B398: Production | C398: HF Workovers | D398: CH4 | E398: 0 | F398: HF Workovers | G398: Mix | H398: =IF(G398="Mix",'Growth Factors'!$N$7,(IF(G398="Oil",'Growth Factors'!$E$7,'Growth Factors'!$K$7))) -> 0.12321919 | I398: =IF(G398="Mix",'Growth Factors'!$O$7,(IF(G398="Oil",'Growth Factors'!$F$7,'Growth Factors'!$L$7))) -> 0.28844315 | J398: =IF(G398="Mix",'Growth Factors'!$P$7,(IF(G398="Oil",'Growth Factors'!$G$7,'Growth Factors'!$M$7))) -> -0.00055772089 | K398: =IF(G398="Mix",'Growth Factors'!$N$12,(IF(G398="Oil",'Growth Factors'!$E$12,'Growth Factors'!$K$12))) -> 0.15067268 | L398: =IF(G398="Mix",'Growth Factors'!$O$12,(IF(G398="Oil",'Growth Factors'!$F$12,'Growth Factors'!$L$12))) -> 0.41821083 | M398: =IF(G398="Mix",'Growth Factors'!$P$12,(IF(G398="Oil",'Growth Factors'!$G$12,'Growth Factors'!$M$12))) -> 0.0062059761 | N398: =VLOOKUP(A398,'Part 50 Counties'!$A$2:$B$34,2) -> Yes | O398: =(IF(N398="No",0,(IF(D398="CO2",0,(VLOOKUP(F398,'Rule Reductions'!$C$2:$E$75,2,FALSE)))))) -> 0 | P398: =(IF(N398="No",0,(IF(D398="CO2",0,(VLOOKUP(F398,'Rule Reductions'!$C$2:$E$75,3,FALSE)))))) -> 0 | Q398: =+$E398*(1+H398)*(1-$O398) -> 0 | R398: =+$E398*(1+I398)*(1-$O398) -> 0 | S398: =+$E398*(1+J398)*(1-$O398) -> 0 | T398: =+$E398*(1+K398)*(1-$P398) -> 0 | U398: =+$E398*(1+L398)*(1-$P398) -> 0 | V398: =+$E398*(1+M398)*(1-$P398) -> 0
A399: Rio Arriba | B399: Production | C399: HF Workovers | D399: CO2 | E399: 0 | F399: HF Workovers | G399: Mix | H399: =IF(G399="Mix",'Growth Factors'!$N$7,(IF(G399="Oil",'Growth Factors'!$E$7,'Growth Factors'!$K$7))) -> 0.12321919 | I399: =IF(G399="Mix",'Growth Factors'!$O$7,(IF(G399="Oil",'Growth Factors'!$F$7,'Growth Factors'!$L$7))) -> 0.28844315 | J399: =IF(G399="Mix",'Growth Factors'!$P$7,(IF(G399="Oil",'Growth Factors'!$G$7,'Growth Factors'!$M$7))) -> -0.00055772089 | K399: =IF(G399="Mix",'Growth Factors'!$N$12,(IF(G399="Oil",'Growth Factors'!$E$12,'Growth Factors'!$K$12))) -> 0.15067268 | L399: =IF(G399="Mix",'Growth Factors'!$O$12,(IF(G399="Oil",'Growth Factors'!$F$12,'Growth Factors'!$L$12))) -> 0.41821083 | M399: =IF(G399="Mix",'Growth Factors'!$P$12,(IF(G399="Oil",'Growth Factors'!$G$12,'Growth Factors'!$M$12))) -> 0.0062059761 | N399: =VLOOKUP(A399,'Part 50 Counties'!$A$2:$B$34,2) -> Yes | O399: =(IF(N399="No",0,(IF(D399="CO2",0,(VLOOKUP(F399,'Rule Reductions'!$C$2:$E$75,2,FALSE)))))) -> 0 | P399: =(IF(N399="No",0,(IF(D399="CO2",0,(VLOOKUP(F399,'Rule Reductions'!$C$2:$E$75,3,FALSE)))))) -> 0 | Q399: =+$E399*(1+H399)*(1-$O399) -> 0 | R399: =+$E399*(1+I399)*(1-$O399) -> 0 | S399: =+$E399*(1+J399)*(1-$O399) -> 0 | T399: =+$E399*(1+K399)*(1-$P399) -> 0 | U399: =+$E399*(1+L399)*(1-$P399) -> 0 | V399: =+$E399*(1+M399)*(1-$P399) -> 0
A400: Roosevelt | B400: Production | C400: HF Workovers | D400: CH4 | E400: 0 | F400: HF Workovers | G400: Mix | H400: =IF(G400="Mix",'Growth Factors'!$N$7,(IF(G400="Oil",'Growth Factors'!$E$7,'Growth Factors'!$K$7))) -> 0.12321919 | I400: =IF(G400="Mix",'Growth Factors'!$O$7,(IF(G400="Oil",'Growth Factors'!$F$7,'Growth Factors'!$L$7))) -> 0.28844315 | J400: =IF(G400="Mix",'Growth Factors'!$P$7,(IF(G400="Oil",'Growth Factors'!$G$7,'Growth Factors'!$M$7))) -> -0.00055772089 | K400: =IF(G400="Mix",'Growth Factors'!$N$12,(IF(G400="Oil",'Growth Factors'!$E$12,'Growth Factors'!$K$12))) -> 0.15067268 | L400: =IF(G400="Mix",'Growth Factors'!$O$12,(IF(G400="Oil",'Growth Factors'!$F$12,'Growth Factors'!$L$12))) -> 0.41821083 | M400: =IF(G400="Mix",'Growth Factors'!$P$12,(IF(G400="Oil",'Growth Factors'!$G$12,'Growth Factors'!$M$12))) -> 0.0062059761 | N400: =VLOOKUP(A400,'Part 50 Counties'!$A$2:$B$34,2) -> No | O400: =(IF(N400="No",0,(IF(D400="CO2",0,(VLOOKUP(F400,'Rule Reductions'!$C$2:$E$75,2,FALSE)))))) -> 0 | P400: =(IF(N400="No",0,(IF(D400="CO2",0,(VLOOKUP(F400,'Rule Reductions'!$C$2:$E$75,3,FALSE)))))) -> 0 | Q400: =+$E400*(1+H400)*(1-$O400) -> 0 | R400: =+$E400*(1+I400)*(1-$O400) -> 0 | S400: =+$E400*(1+J400)*(1-$O400) -> 0 | T400: =+$E400*(1+K400)*(1-$P400) -> 0 | U400: =+$E400*(1+L400)*(1-$P400) -> 0 | V400: =+$E400*(1+M400)*(1-$P400) -> 0
A401: Roosevelt | B401: Production | C401: HF Workovers | D401: CO2 | E401: 0 | F401: HF Workovers | G401: Mix | H401: =IF(G401="Mix",'Growth Factors'!$N$7,(IF(G401="Oil",'Growth Factors'!$E$7,'Growth Factors'!$K$7))) -> 0.12321919 | I401: =IF(G401="Mix",'Growth Factors'!$O$7,(IF(G401="Oil",'Growth Factors'!$F$7,'Growth Factors'!$L$7))) -> 0.28844315 | J401: =IF(G401="Mix",'Growth Factors'!$P$7,(IF(G401="Oil",'Growth Factors'!$G$7,'Growth Factors'!$M$7))) -> -0.00055772089 | K401: =IF(G401="Mix",'Growth Factors'!$N$12,(IF(G401="Oil",'Growth Factors'!$E$12,'Growth Factors'!$K$12))) -> 0.15067268 | L401: =IF(G401="Mix",'Growth Factors'!$O$12,(IF(G401="Oil",'Growth Factors'!$F$12,'Growth Factors'!$L$12))) -> 0.41821083 | M401: =IF(G401="Mix",'Growth Factors'!$P$12,(IF(G401="Oil",'Growth Factors'!$G$12,'Growth Factors'!$M$12))) -> 0.0062059761 | N401: =VLOOKUP(A401,'Part 50 Counties'!$A$2:$B$34,2) -> No | O401: =(IF(N401="No",0,(IF(D401="CO2",0,(VLOOKUP(F401,'Rule Reductions'!$C$2:$E$75,2,FALSE)))))) -> 0 | P401: =(IF(N401="No",0,(IF(D401="CO2",0,(VLOOKUP(F401,'Rule Reductions'!$C$2:$E$75,3,FALSE)))))) -> 0 | Q401: =+$E401*(1+H401)*(1-$O401) -> 0 | R401: =+$E401*(1+I401)*(1-$O401) -> 0 | S401: =+$E401*(1+J401)*(1-$O401) -> 0 | T401: =+$E401*(1+K401)*(1-$P401) -> 0 | U401: =+$E401*(1+L401)*(1-$P401) -> 0 | V401: =+$E401*(1+M401)*(1-$P401) -> 0
A402: San Juan | B402: Production | C402: HF Workovers | D402: CH4 | E402: 0 | F402: HF Workovers | G402: Mix | H402: =IF(G402="Mix",'Growth Factors'!$N$7,(IF(G402="Oil",'Growth Factors'!$E$7,'Growth Factors'!$K$7))) -> 0.12321919 | I402: =IF(G402="Mix",'Growth Factors'!$O$7,(IF(G402="Oil",'Growth Factors'!$F$7,'Growth Factors'!$L$7))) -> 0.28844315 | J402: =IF(G402="Mix",'Growth Factors'!$P$7,(IF(G402="Oil",'Growth Factors'!$G$7,'Growth Factors'!$M$7))) -> -0.00055772089 | K402: =IF(G402="Mix",'Growth Factors'!$N$12,(IF(G402="Oil",'Growth Factors'!$E$12,'Growth Factors'!$K$12))) -> 0.15067268 | L402: =IF(G402="Mix",'Growth Factors'!$O$12,(IF(G402="Oil",'Growth Factors'!$F$12,'Growth Factors'!$L$12))) -> 0.41821083 | M402: =IF(G402="Mix",'Growth Factors'!$P$12,(IF(G402="Oil",'Growth Factors'!$G$12,'Growth Factors'!$M$12))) -> 0.0062059761 | N402: =VLOOKUP(A402,'Part 50 Counties'!$A$2:$B$34,2) -> Yes | O402: =(IF(N402="No",0,(IF(D402="CO2",0,(VLOOKUP(F402,'Rule Reductions'!$C$2:$E$75,2,FALSE)))))) -> 0 | P402: =(IF(N402="No",0,(IF(D402="CO2",0,(VLOOKUP(F402,'Rule Reductions'!$C$2:$E$75,3,FALSE)))))) -> 0 | Q402: =+$E402*(1+H402)*(1-$O402) -> 0 | R402: =+$E402*(1+I402)*(1-$O402) -> 0 | S402: =+$E402*(1+J402)*(1-$O402) -> 0 | T402: =+$E402*(1+K402)*(1-$P402) -> 0 | U402: =+$E402*(1+L402)*(1-$P402) -> 0 | V402: =+$E402*(1+M402)*(1-$P402) -> 0
A403: San Juan | B403: Production | C403: HF Workovers | D403: CO2 | E403: 0 | F403: HF Workovers | G403: Mix | H403: =IF(G403="Mix",'Growth Factors'!$N$7,(IF(G403="Oil",'Growth Factors'!$E$7,'Growth Factors'!$K$7))) -> 0.12321919 | I403: =IF(G403="Mix",'Growth Factors'!$O$7,(IF(G403="Oil",'Growth Factors'!$F$7,'Growth Factors'!$L$7))) -> 0.28844315 | J403: =IF(G403="Mix",'Growth Factors'!$P$7,(IF(G403="Oil",'Growth Factors'!$G$7,'Growth Factors'!$M$7))) -> -0.00055772089 | K403: =IF(G403="Mix",'Growth Factors'!$N$12,(IF(G403="Oil",'Growth Factors'!$E$12,'Growth Factors'!$K$12))) -> 0.15067268 | L403: =IF(G403="Mix",'Growth Factors'!$O$12,(IF(G403="Oil",'Growth Factors'!$F$12,'Growth Factors'!$L$12))) -> 0.41821083 | M403: =IF(G403="Mix",'Growth Factors'!$P$12,(IF(G403="Oil",'Growth Factors'!$G$12,'Growth Factors'!$M$12))) -> 0.0062059761 | N403: =VLOOKUP(A403,'Part 50 Counties'!$A$2:$B$34,2) -> Yes | O403: =(IF(N403="No",0,(IF(D403="CO2",0,(VLOOKUP(F403,'Rule Reductions'!$C$2:$E$75,2,FALSE)))))) -> 0 | P403: =(IF(N403="No",0,(IF(D403="CO2",0,(VLOOKUP(F403,'Rule Reductions'!$C$2:$E$75,3,FALSE)))))) -> 0 | Q403: =+$E403*(1+H403)*(1-$O403) -> 0 | R403: =+$E403*(1+I403)*(1-$O403) -> 0 | S403: =+$E403*(1+J403)*(1-$O403) -> 0 | T403: =+$E403*(1+K403)*(1-$P403) -> 0 | U403: =+$E403*(1+L403)*(1-$P403) -> 0 | V403: =+$E403*(1+M403)*(1-$P403) -> 0
A404: Sandoval | B404: Production | C404: HF Workovers | D404: CH4 | E404: 0 | F404: HF Workovers | G404: Mix | H404: =IF(G404="Mix",'Growth Factors'!$N$7,(IF(G404="Oil",'Growth Factors'!$E$7,'Growth Factors'!$K$7))) -> 0.12321919 | I404: =IF(G404="Mix",'Growth Factors'!$O$7,(IF(G404="Oil",'Growth Factors'!$F$7,'Growth Factors'!$L$7))) -> 0.28844315 | J404: =IF(G404="Mix",'Growth Factors'!$P$7,(IF(G404="Oil",'Growth Factors'!$G$7,'Growth Factors'!$M$7))) -> -0.00055772089 | K404: =IF(G404="Mix",'Growth Factors'!$N$12,(IF(G404="Oil",'Growth Factors'!$E$12,'Growth Factors'!$K$12))) -> 0.15067268 | L404: =IF(G404="Mix",'Growth Factors'!$O$12,(IF(G404="Oil",'Growth Factors'!$F$12,'Growth Factors'!$L$12))) -> 0.41821083 | M404: =IF(G404="Mix",'Growth Factors'!$P$12,(IF(G404="Oil",'Growth Factors'!$G$12,'Growth Factors'!$M$12))) -> 0.0062059761 | N404: =VLOOKUP(A404,'Part 50 Counties'!$A$2:$B$34,2) -> Yes | O404: =(IF(N404="No",0,(IF(D404="CO2",0,(VLOOKUP(F404,'Rule Reductions'!$C$2:$E$75,2,FALSE)))))) -> 0 | P404: =(IF(N404="No",0,(IF(D404="CO2",0,(VLOOKUP(F404,'Rule Reductions'!$C$2:$E$75,3,FALSE)))))) -> 0 | Q404: =+$E404*(1+H404)*(1-$O404) -> 0 | R404: =+$E404*(1+I404)*(1-$O404) -> 0 | S404: =+$E404*(1+J404)*(1-$O404) -> 0 | T404: =+$E404*(1+K404)*(1-$P404) -> 0 | U404: =+$E404*(1+L404)*(1-$P404) -> 0 | V404: =+$E404*(1+M404)*(1-$P404) -> 0
A405: Sandoval | B405: Production | C405: HF Workovers | D405: CO2 | E405: 0 | F405: HF Workovers | G405: Mix | H405: =IF(G405="Mix",'Growth Factors'!$N$7,(IF(G405="Oil",'Growth Factors'!$E$7,'Growth Factors'!$K$7))) -> 0.12321919 | I405: =IF(G405="Mix",'Growth Factors'!$O$7,(IF(G405="Oil",'Growth Factors'!$F$7,'Growth Factors'!$L$7))) -> 0.28844315 | J405: =IF(G405="Mix",'Growth Factors'!$P$7,(IF(G405="Oil",'Growth Factors'!$G$7,'Growth Factors'!$M$7))) -> -0.00055772089 | K405: =IF(G405="Mix",'Growth Factors'!$N$12,(IF(G405="Oil",'Growth Factors'!$E$12,'Growth Factors'!$K$12))) -> 0.15067268 | L405: =IF(G405="Mix",'Growth Factors'!$O$12,(IF(G405="Oil",'Growth Factors'!$F$12,'Growth Factors'!$L$12))) -> 0.41821083 | M405: =IF(G405="Mix",'Growth Factors'!$P$12,(IF(G405="Oil",'Growth Factors'!$G$12,'Growth Factors'!$M$12))) -> 0.0062059761 | N405: =VLOOKUP(A405,'Part 50 Counties'!$A$2:$B$34,2) -> Yes | O405: =(IF(N405="No",0,(IF(D405="CO2",0,(VLOOKUP(F405,'Rule Reductions'!$C$2:$E$75,2,FALSE)))))) -> 0 | P405: =(IF(N405="No",0,(IF(D405="CO2",0,(VLOOKUP(F405,'Rule Reductions'!$C$2:$E$75,3,FALSE)))))) -> 0 | Q405: =+$E405*(1+H405)*(1-$O405) -> 0 | R405: =+$E405*(1+I405)*(1-$O405) -> 0 | S405: =+$E405*(1+J405)*(1-$O405) -> 0 | T405: =+$E405*(1+K405)*(1-$P405) -> 0 | U405: =+$E405*(1+L405)*(1-$P405) -> 0 | V405: =+$E405*(1+M405)*(1-$P405) -> 0
A406: Union | B406: Production | C406: HF Workovers | D406: CH4 | E406: 0 | F406: HF Workovers | G406: Mix | H406: =IF(G406="Mix",'Growth Factors'!$N$7,(IF(G406="Oil",'Growth Factors'!$E$7,'Growth Factors'!$K$7))) -> 0.12321919 | I406: =IF(G406="Mix",'Growth Factors'!$O$7,(IF(G406="Oil",'Growth Factors'!$F$7,'Growth Factors'!$L$7))) -> 0.28844315 | J406: =IF(G406="Mix",'Growth Factors'!$P$7,(IF(G406="Oil",'Growth Factors'!$G$7,'Growth Factors'!$M$7))) -> -0.00055772089 | K406: =IF(G406="Mix",'Growth Factors'!$N$12,(IF(G406="Oil",'Growth Factors'!$E$12,'Growth Factors'!$K$12))) -> 0.15067268 | L406: =IF(G406="Mix",'Growth Factors'!$O$12,(IF(G406="Oil",'Growth Factors'!$F$12,'Growth Factors'!$L$12))) -> 0.41821083 | M406: =IF(G406="Mix",'Growth Factors'!$P$12,(IF(G406="Oil",'Growth Factors'!$G$12,'Growth Factors'!$M$12))) -> 0.0062059761 | N406: =VLOOKUP(A406,'Part 50 Counties'!$A$2:$B$34,2) -> No | O406: =(IF(N406="No",0,(IF(D406="CO2",0,(VLOOKUP(F406,'Rule Reductions'!$C$2:$E$75,2,FALSE)))))) -> 0 | P406: =(IF(N406="No",0,(IF(D406="CO2",0,(VLOOKUP(F406,'Rule Reductions'!$C$2:$E$75,3,FALSE)))))) -> 0 | Q406: =+$E406*(1+H406)*(1-$O406) -> 0 | R406: =+$E406*(1+I406)*(1-$O406) -> 0 | S406: =+$E406*(1+J406)*(1-$O406) -> 0 | T406: =+$E406*(1+K406)*(1-$P406) -> 0 | U406: =+$E406*(1+L406)*(1-$P406) -> 0 | V406: =+$E406*(1+M406)*(1-$P406) -> 0
A407: Union | B407: Production | C407: HF Workovers | D407: CO2 | E407: 0 | F407: HF Workovers | G407: Mix | H407: =IF(G407="Mix",'Growth Factors'!$N$7,(IF(G407="Oil",'Growth Factors'!$E$7,'Growth Factors'!$K$7))) -> 0.12321919 | I407: =IF(G407="Mix",'Growth Factors'!$O$7,(IF(G407="Oil",'Growth Factors'!$F$7,'Growth Factors'!$L$7))) -> 0.28844315 | J407: =IF(G407="Mix",'Growth Factors'!$P$7,(IF(G407="Oil",'Growth Factors'!$G$7,'Growth Factors'!$M$7))) -> -0.00055772089 | K407: =IF(G407="Mix",'Growth Factors'!$N$12,(IF(G407="Oil",'Growth Factors'!$E$12,'Growth Factors'!$K$12))) -> 0.15067268 | L407: =IF(G407="Mix",'Growth Factors'!$O$12,(IF(G407="Oil",'Growth Factors'!$F$12,'Growth Factors'!$L$12))) -> 0.41821083 | M407: =IF(G407="Mix",'Growth Factors'!$P$12,(IF(G407="Oil",'Growth Factors'!$G$12,'Growth Factors'!$M$12))) -> 0.0062059761 | N407: =VLOOKUP(A407,'Part 50 Counties'!$A$2:$B$34,2) -> No | O407: =(IF(N407="No",0,(IF(D407="CO2",0,(VLOOKUP(F407,'Rule Reductions'!$C$2:$E$75,2,FALSE)))))) -> 0 | P407: =(IF(N407="No",0,(IF(D407="CO2",0,(VLOOKUP(F407,'Rule Reductions'!$C$2:$E$75,3,FALSE)))))) -> 0 | Q407: =+$E407*(1+H407)*(1-$O407) -> 0 | R407: =+$E407*(1+I407)*(1-$O407) -> 0 | S407: =+$E407*(1+J407)*(1-$O407) -> 0 | T407: =+$E407*(1+K407)*(1-$P407) -> 0 | U407: =+$E407*(1+L407)*(1-$P407) -> 0 | V407: =+$E407*(1+M407)*(1-$P407) -> 0
A408: Chaves | B408: G&B | C408: High Bleed Pneumatic Controllers | D408: CH4 | E408: 38.73 | F408: Pneumatic Controllers | G408: Mix | H408: =IF(G408="Mix",'Growth Factors'!$N$7,(IF(G408="Oil",'Growth Factors'!$E$7,'Growth Factors'!$K$7))) -> 0.12321919 | I408: =IF(G408="Mix",'Growth Factors'!$O$7,(IF(G408="Oil",'Growth Factors'!$F$7,'Growth Factors'!$L$7))) -> 0.28844315 | J408: =IF(G408="Mix",'Growth Factors'!$P$7,(IF(G408="Oil",'Growth Factors'!$G$7,'Growth Factors'!$M$7))) -> -0.00055772089 | K408: =IF(G408="Mix",'Growth Factors'!$N$12,(IF(G408="Oil",'Growth Factors'!$E$12,'Growth Factors'!$K$12))) -> 0.15067268 | L408: =IF(G408="Mix",'Growth Factors'!$O$12,(IF(G408="Oil",'Growth Factors'!$F$12,'Growth Factors'!$L$12))) -> 0.41821083 | M408: =IF(G408="Mix",'Growth Factors'!$P$12,(IF(G408="Oil",'Growth Factors'!$G$12,'Growth Factors'!$M$12))) -> 0.0062059761 | N408: =VLOOKUP(A408,'Part 50 Counties'!$A$2:$B$34,2) -> Yes | O408: =(IF(N408="No",0,(IF(D408="CO2",0,(VLOOKUP(F408,'Rule Reductions'!$C$2:$E$75,2,FALSE)))))) -> 0.8 | P408: =(IF(N408="No",0,(IF(D408="CO2",0,(VLOOKUP(F408,'Rule Reductions'!$C$2:$E$75,3,FALSE)))))) -> 0.90578983 | Q408: =+$E408*(1+H408)*(1-$O408) -> 8.7004558 | R408: =+$E408*(1+I408)*(1-$O408) -> 9.9802806 | S408: =+$E408*(1+J408)*(1-$O408) -> 7.7416799 | T408: =+$E408*(1+K408)*(1-$P408) -> 4.1985282 | U408: =+$E408*(1+L408)*(1-$P408) -> 5.1747107 | V408: =+$E408*(1+M408)*(1-$P408) -> 3.6714039
A409: Chaves | B409: G&B | C409: High Bleed Pneumatic Controllers | D409: CO2 | E409: 0.2 | F409: Pneumatic Controllers | G409: Mix | H409: =IF(G409="Mix",'Growth Factors'!$N$7,(IF(G409="Oil",'Growth Factors'!$E$7,'Growth Factors'!$K$7))) -> 0.12321919 | I409: =IF(G409="Mix",'Growth Factors'!$O$7,(IF(G409="Oil",'Growth Factors'!$F$7,'Growth Factors'!$L$7))) -> 0.28844315 | J409: =IF(G409="Mix",'Growth Factors'!$P$7,(IF(G409="Oil",'Growth Factors'!$G$7,'Growth Factors'!$M$7))) -> -0.00055772089 | K409: =IF(G409="Mix",'Growth Factors'!$N$12,(IF(G409="Oil",'Growth Factors'!$E$12,'Growth Factors'!$K$12))) -> 0.15067268 | L409: =IF(G409="Mix",'Growth Factors'!$O$12,(IF(G409="Oil",'Growth Factors'!$F$12,'Growth Factors'!$L$12))) -> 0.41821083 | M409: =IF(G409="Mix",'Growth Factors'!$P$12,(IF(G409="Oil",'Growth Factors'!$G$12,'Growth Factors'!$M$12))) -> 0.0062059761 | N409: =VLOOKUP(A409,'Part 50 Counties'!$A$2:$B$34,2) -> Yes | O409: =(IF(N409="No",0,(IF(D409="CO2",0,(VLOOKUP(F409,'Rule Reductions'!$C$2:$E$75,2,FALSE)))))) -> 0 | P409: =(IF(N409="No",0,(IF(D409="CO2",0,(VLOOKUP(F409,'Rule Reductions'!$C$2:$E$75,3,FALSE)))))) -> 0 | Q409: =+$E409*(1+H409)*(1-$O409) -> 0.22464384 | R409: =+$E409*(1+I409)*(1-$O409) -> 0.25768863 | S409: =+$E409*(1+J409)*(1-$O409) -> 0.19988846 | T409: =+$E409*(1+K409)*(1-$P409) -> 0.23013454 | U409: =+$E409*(1+L409)*(1-$P409) -> 0.28364217 | V409: =+$E409*(1+M409)*(1-$P409) -> 0.2012412
... A454: Eddy | B454: G&B | C454: Intermittent Bleed Pneumatic Controllers | D454: CH4 | E454: 3503.5747 | F454: Pneumatic Controllers | G454: Mix | H454: =IF(G454="Mix",'Growth Factors'!$N$7,(IF(G454="Oil",'Growth Factors'!$E$7,'Growth Factors'!$K$7))) -> 0.12321919 | I454: =IF(G454="Mix",'Growth Factors'!$O$7,(IF(G454="Oil",'Growth Factors'!$F$7,'Growth Factors'!$L$7))) -> 0.28844315 | J454: =IF(G454="Mix",'Growth Factors'!$P$7,(IF(G454="Oil",'Growth Factors'!$G$7,'Growth Factors'!$M$7))) -> -0.00055772089 | K454: =IF(G454="Mix",'Growth Factors'!$N$12,(IF(G454="Oil",'Growth Factors'!$E$12,'Growth Factors'!$K$12))) -> 0.15067268 | L454: =IF(G454="Mix",'Growth Factors'!$O$12,(IF(G454="Oil",'Growth Factors'!$F$12,'Growth Factors'!$L$12))) -> 0.41821083 | M454: =IF(G454="Mix",'Growth Factors'!$P$12,(IF(G454="Oil",'Growth Factors'!$G$12,'Growth Factors'!$M$12))) -> 0.0062059761 | N454: =VLOOKUP(A454,'Part 50 Counties'!$A$2:$B$34,2) -> Yes | O454: =(IF(N454="No",0,(IF(D454="CO2",0,(VLOOKUP(F454,'Rule Reductions'!$C$2:$E$75,2,FALSE)))))) -> 0.8 | P454: =(IF(N454="No",0,(IF(D454="CO2",0,(VLOOKUP(F454,'Rule Reductions'!$C$2:$E$75,3,FALSE)))))) -> 0.90578983 | Q454: =+$E454*(1+H454)*(1-$O454) -> 787.05646 | R454: =+$E454*(1+I454)*(1-$O454) -> 902.83136 | S454: =+$E454*(1+J454)*(1-$O454) -> 700.32413 | T454: =+$E454*(1+K454)*(1-$P454) -> 379.80525 | U454: =+$E454*(1+L454)*(1-$P454) -> 468.11219 | V454: =+$E454*(1+M454)*(1-$P454) -> 332.12078
A455: Eddy | B455: G&B | C455: Intermittent Bleed Pneumatic Controllers | D455: CO2 | E455: 593.56282 | F455: Pneumatic Controllers | G455: Mix | H455: =IF(G455="Mix",'Growth Factors'!$N$7,(IF(G455="Oil",'Growth Factors'!$E$7,'Growth Factors'!$K$7))) -> 0.12321919 | I455: =IF(G455="Mix",'Growth Factors'!$O$7,(IF(G455="Oil",'Growth Factors'!$F$7,'Growth Factors'!$L$7))) -> 0.28844315 | J455: =IF(G455="Mix",'Growth Factors'!$P$7,(IF(G455="Oil",'Growth Factors'!$G$7,'Growth Factors'!$M$7))) -> -0.00055772089 | K455: =IF(G455="Mix",'Growth Factors'!$N$12,(IF(G455="Oil",'Growth Factors'!$E$12,'Growth Factors'!$K$12))) -> 0.15067268 | L455: =IF(G455="Mix",'Growth Factors'!$O$12,(IF(G455="Oil",'Growth Factors'!$F$12,'Growth Factors'!$L$12))) -> 0.41821083 | M455: =IF(G455="Mix",'Growth Factors'!$P$12,(IF(G455="Oil",'Growth Factors'!$G$12,'Growth Factors'!$M$12))) -> 0.0062059761 | N455: =VLOOKUP(A455,'Part 50 Counties'!$A$2:$B$34,2) -> Yes | O455: 0.95 | P455: 0.95 | Q455: =+$E455*(1+H455)*(1-$O455) -> 33.335058 | R455: =+$E455*(1+I455)*(1-$O455) -> 38.238598 | S455: =+$E455*(1+J455)*(1-$O455) -> 29.661589 | T455: =+$E455*(1+K455)*(1-$P455) -> 34.149826 | U455: =+$E455*(1+L455)*(1-$P455) -> 42.089861 | V455: =+$E455*(1+M455)*(1-$P455) -> 29.862323
A456: Eddy | B456: Production | C456: Intermittent Bleed Pneumatic Controllers | D456: CH4 | E456: 13249.567 | F456: Pneumatic Controllers | G456: Mix | H456: =IF(G456="Mix",'Growth Factors'!$N$7,(IF(G456="Oil",'Growth Factors'!$E$7,'Growth Factors'!$K$7))) -> 0.12321919 | I456: =IF(G456="Mix",'Growth Factors'!$O$7,(IF(G456="Oil",'Growth Factors'!$F$7,'Growth Factors'!$L$7))) -> 0.28844315 | J456: =IF(G456="Mix",'Growth Factors'!$P$7,(IF(G456="Oil",'Growth Factors'!$G$7,'Growth Factors'!$M$7))) -> -0.00055772089 | K456: =IF(G456="Mix",'Growth Factors'!$N$12,(IF(G456="Oil",'Growth Factors'!$E$12,'Growth Factors'!$K$12))) -> 0.15067268 | L456: =IF(G456="Mix",'Growth Factors'!$O$12,(IF(G456="Oil",'Growth Factors'!$F$12,'Growth Factors'!$L$12))) -> 0.41821083 | M456: =IF(G456="Mix",'Growth Factors'!$P$12,(IF(G456="Oil",'Growth Factors'!$G$12,'Growth Factors'!$M$12))) -> 0.0062059761 | N456: =VLOOKUP(A456,'Part 50 Counties'!$A$2:$B$34,2) -> Yes | O456: =(IF(N456="No",0,(IF(D456="CO2",0,(VLOOKUP(F456,'Rule Reductions'!$C$2:$E$75,2,FALSE)))))) -> 0.8 | P456: =(IF(N456="No",0,(IF(D456="CO2",0,(VLOOKUP(F456,'Rule Reductions'!$C$2:$E$75,3,FALSE)))))) -> 0.90578983 | Q456: =+$E456*(1+H456)*(1-$O456) -> 2976.4337 | R456: =+$E456*(1+I456)*(1-$O456) -> 3414.2629 | S456: =+$E456*(1+J456)*(1-$O456) -> 2648.4356 | T456: =+$E456*(1+K456)*(1-$P456) -> 1436.3202 | U456: =+$E456*(1+L456)*(1-$P456) -> 1770.2731 | V456: =+$E456*(1+M456)*(1-$P456) -> 1255.9905
A457: Eddy | B457: Production | C457: Intermittent Bleed Pneumatic Controllers | D457: CO2 | E457: 1350.0133 | F457: Pneumatic Controllers | G457: Mix | H457: =IF(G457="Mix",'Growth Factors'!$N$7,(IF(G457="Oil",'Growth Factors'!$E$7,'Growth Factors'!$K$7))) -> 0.12321919 | I457: =IF(G457="Mix",'Growth Factors'!$O$7,(IF(G457="Oil",'Growth Factors'!$F$7,'Growth Factors'!$L$7))) -> 0.28844315 | J457: =IF(G457="Mix",'Growth Factors'!$P$7,(IF(G457="Oil",'Growth Factors'!$G$7,'Growth Factors'!$M$7))) -> -0.00055772089 | K457: =IF(G457="Mix",'Growth Factors'!$N$12,(IF(G457="Oil",'Growth Factors'!$E$12,'Growth Factors'!$K$12))) -> 0.15067268 | L457: =IF(G457="Mix",'Growth Factors'!$O$12,(IF(G457="Oil",'Growth Factors'!$F$12,'Growth Factors'!$L$12))) -> 0.41821083 | M457: =IF(G457="Mix",'Growth Factors'!$P$12,(IF(G457="Oil",'Growth Factors'!$G$12,'Growth Factors'!$M$12))) -> 0.0062059761 | N457: =VLOOKUP(A457,'Part 50 Counties'!$A$2:$B$34,2) -> Yes | O457: =(IF(N457="No",0,(IF(D457="CO2",0,(VLOOKUP(F457,'Rule Reductions'!$C$2:$E$75,2,FALSE)))))) -> 0 | P457: =(IF(N457="No",0,(IF(D457="CO2",0,(VLOOKUP(F457,'Rule Reductions'!$C$2:$E$75,3,FALSE)))))) -> 0 | Q457: =+$E457*(1+H457)*(1-$O457) -> 1516.3608 | R457: =+$E457*(1+I457)*(1-$O457) -> 1739.4153 | S457: =+$E457*(1+J457)*(1-$O457) -> 1349.2603 | T457: =+$E457*(1+K457)*(1-$P457) -> 1553.4234 | U457: =+$E457*(1+L457)*(1-$P457) -> 1914.6034 | V457: =+$E457*(1+M457)*(1-$P457) -> 1358.3914
A458: Harding | B458: Production | C458: Intermittent Bleed Pneumatic Controllers | D458: CH4 | E458: 1317.2905 | F458: Pneumatic Controllers | G458: Mix | H458: =IF(G458="Mix",'Growth Factors'!$N$7,(IF(G458="Oil",'Growth Factors'!$E$7,'Growth Factors'!$K$7))) -> 0.12321919 | I458: =IF(G458="Mix",'Growth Factors'!$O$7,(IF(G458="Oil",'Growth Factors'!$F$7,'Growth Factors'!$L$7))) -> 0.28844315 | J458: =IF(G458="Mix",'Growth Factors'!$P$7,(IF(G458="Oil",'Growth Factors'!$G$7,'Growth Factors'!$M$7))) -> -0.00055772089 | K458: =IF(G458="Mix",'Growth Factors'!$N$12,(IF(G458="Oil",'Growth Factors'!$E$12,'Growth Factors'!$K$12))) -> 0.15067268 | L458: =IF(G458="Mix",'Growth Factors'!$O$12,(IF(G458="Oil",'Growth Factors'!$F$12,'Growth Factors'!$L$12))) -> 0.41821083 | M458: =IF(G458="Mix",'Growth Factors'!$P$12,(IF(G458="Oil",'Growth Factors'!$G$12,'Growth Factors'!$M$12))) -> 0.0062059761 | N458: =VLOOKUP(A458,'Part 50 Counties'!$A$2:$B$34,2) -> No | O458: =(IF(N458="No",0,(IF(D458="CO2",0,(VLOOKUP(F458,'Rule Reductions'!$C$2:$E$75,2,FALSE)))))) -> 0 | P458: =(IF(N458="No",0,(IF(D458="CO2",0,(VLOOKUP(F458,'Rule Reductions'!$C$2:$E$75,3,FALSE)))))) -> 0 | Q458: =+$E458*(1+H458)*(1-$O458) -> 1479.606 | R458: =+$E458*(1+I458)*(1-$O458) -> 1697.2539 | S458: =+$E458*(1+J458)*(1-$O458) -> 1316.5558 | T458: =+$E458*(1+K458)*(1-$P458) -> 1515.7702 | U458: =+$E458*(1+L458)*(1-$P458) -> 1868.1957 | V458: =+$E458*(1+M458)*(1-$P458) -> 1325.4656
A459: Harding | B459: Production | C459: Intermittent Bleed Pneumatic Controllers | D459: CO2 | E459: 868.31079 | F459: Pneumatic Controllers | G459: Mix | H459: =IF(G459="Mix",'Growth Factors'!$N$7,(IF(G459="Oil",'Growth Factors'!$E$7,'Growth Factors'!$K$7))) -> 0.12321919 | I459: =IF(G459="Mix",'Growth Factors'!$O$7,(IF(G459="Oil",'Growth Factors'!$F$7,'Growth Factors'!$L$7))) -> 0.28844315 | J459: =IF(G459="Mix",'Growth Factors'!$P$7,(IF(G459="Oil",'Growth Factors'!$G$7,'Growth Factors'!$M$7))) -> -0.00055772089 | K459: =IF(G459="Mix",'Growth Factors'!$N$12,(IF(G459="Oil",'Growth Factors'!$E$12,'Growth Factors'!$K$12))) -> 0.15067268 | L459: =IF(G459="Mix",'Growth Factors'!$O$12,(IF(G459="Oil",'Growth Factors'!$F$12,'Growth Factors'!$L$12))) -> 0.41821083 | M459: =IF(G459="Mix",'Growth Factors'!$P$12,(IF(G459="Oil",'Growth Factors'!$G$12,'Growth Factors'!$M$12))) -> 0.0062059761 | N459: =VLOOKUP(A459,'Part 50 Counties'!$A$2:$B$34,2) -> No | O459: =(IF(N459="No",0,(IF(D459="CO2",0,(VLOOKUP(F459,'Rule Reductions'!$C$2:$E$75,2,FALSE)))))) -> 0 | P459: =(IF(N459="No",0,(IF(D459="CO2",0,(VLOOKUP(F459,'Rule Reductions'!$C$2:$E$75,3,FALSE)))))) -> 0 | Q459: =+$E459*(1+H459)*(1-$O459) -> 975.30335 | R459: =+$E459*(1+I459)*(1-$O459) -> 1118.7691 | S459: =+$E459*(1+J459)*(1-$O459) -> 867.82652 | T459: =+$E459*(1+K459)*(1-$P459) -> 999.14151 | U459: =+$E459*(1+L459)*(1-$P459) -> 1231.4478 | V459: =+$E459*(1+M459)*(1-$P459) -> 873.69951
A460: Lea | B460: G&B | C460: Intermittent Bleed Pneumatic Controllers | D460: CH4 | E460: 1166.5931 | F460: Pneumatic Controllers | G460: Mix | H460: =IF(G460="Mix",'Growth Factors'!$N$7,(IF(G460="Oil",'Growth Factors'!$E$7,'Growth Factors'!$K$7))) -> 0.12321919 | I460: =IF(G460="Mix",'Growth Factors'!$O$7,(IF(G460="Oil",'Growth Factors'!$F$7,'Growth Factors'!$L$7))) -> 0.28844315 | J460: =IF(G460="Mix",'Growth Factors'!$P$7,(IF(G460="Oil",'Growth Factors'!$G$7,'Growth Factors'!$M$7))) -> -0.00055772089 | K460: =IF(G460="Mix",'Growth Factors'!$N$12,(IF(G460="Oil",'Growth Factors'!$E$12,'Growth Factors'!$K$12))) -> 0.15067268 | L460: =IF(G460="Mix",'Growth Factors'!$O$12,(IF(G460="Oil",'Growth Factors'!$F$12,'Growth Factors'!$L$12))) -> 0.41821083 | M460: =IF(G460="Mix",'Growth Factors'!$P$12,(IF(G460="Oil",'Growth Factors'!$G$12,'Growth Factors'!$M$12))) -> 0.0062059761 | N460: =VLOOKUP(A460,'Part 50 Counties'!$A$2:$B$34,2) -> Yes | O460: =(IF(N460="No",0,(IF(D460="CO2",0,(VLOOKUP(F460,'Rule Reductions'!$C$2:$E$75,2,FALSE)))))) -> 0.8 | P460: =(IF(N460="No",0,(IF(D460="CO2",0,(VLOOKUP(F460,'Rule Reductions'!$C$2:$E$75,3,FALSE)))))) -> 0.90578983 | Q460: =+$E460*(1+H460)*(1-$O460) -> 262.06795 | R460: =+$E460*(1+I460)*(1-$O460) -> 300.61778 | S460: =+$E460*(1+J460)*(1-$O460) -> 233.18849 | T460: =+$E460*(1+K460)*(1-$P460) -> 126.4646 | U460: =+$E460*(1+L460)*(1-$P460) -> 155.86837 | V460: =+$E460*(1+M460)*(1-$P460) -> 110.587
A461: Lea | B461: G&B | C461: Intermittent Bleed Pneumatic Controllers | D461: CO2 | E461: 156.03138 | F461: Pneumatic Controllers | G461: Mix | H461: =IF(G461="Mix",'Growth Factors'!$N$7,(IF(G461="Oil",'Growth Factors'!$E$7,'Growth Factors'!$K$7))) -> 0.12321919 | I461: =IF(G461="Mix",'Growth Factors'!$O$7,(IF(G461="Oil",'Growth Factors'!$F$7,'Growth Factors'!$L$7))) -> 0.28844315 | J461: =IF(G461="Mix",'Growth Factors'!$P$7,(IF(G461="Oil",'Growth Factors'!$G$7,'Growth Factors'!$M$7))) -> -0.00055772089 | K461: =IF(G461="Mix",'Growth Factors'!$N$12,(IF(G461="Oil",'Growth Factors'!$E$12,'Growth Factors'!$K$12))) -> 0.15067268 | L461: =IF(G461="Mix",'Growth Factors'!$O$12,(IF(G461="Oil",'Growth Factors'!$F$12,'Growth Factors'!$L$12))) -> 0.41821083 | M461: =IF(G461="Mix",'Growth Factors'!$P$12,(IF(G461="Oil",'Growth Factors'!$G$12,'Growth Factors'!$M$12))) -> 0.0062059761 | N461: =VLOOKUP(A461,'Part 50 Counties'!$A$2:$B$34,2) -> Yes | O461: =(IF(N461="No",0,(IF(D461="CO2",0,(VLOOKUP(F461,'Rule Reductions'!$C$2:$E$75,2,FALSE)))))) -> 0 | P461: =(IF(N461="No",0,(IF(D461="CO2",0,(VLOOKUP(F461,'Rule Reductions'!$C$2:$E$75,3,FALSE)))))) -> 0 | Q461: =+$E461*(1+H461)*(1-$O461) -> 175.25744 | R461: =+$E461*(1+I461)*(1-$O461) -> 201.03757 | S461: =+$E461*(1+J461)*(1-$O461) -> 155.94436 | T461: =+$E461*(1+K461)*(1-$P461) -> 179.54105 | U461: =+$E461*(1+L461)*(1-$P461) -> 221.2854 | V461: =+$E461*(1+M461)*(1-$P461) -> 156.99971
A462: Lea | B462: Production | C462: Intermittent Bleed Pneumatic Controllers | D462: CH4 | E462: 13673.078 | F462: Pneumatic Controllers | G462: Mix | H462: =IF(G462="Mix",'Growth Factors'!$N$7,(IF(G462="Oil",'Growth Factors'!$E$7,'Growth Factors'!$K$7))) -> 0.12321919 | I462: =IF(G462="Mix",'Growth Factors'!$O$7,(IF(G462="Oil",'Growth Factors'!$F$7,'Growth Factors'!$L$7))) -> 0.28844315 | J462: =IF(G462="Mix",'Growth Factors'!$P$7,(IF(G462="Oil",'Growth Factors'!$G$7,'Growth Factors'!$M$7))) -> -0.00055772089 | K462: =IF(G462="Mix",'Growth Factors'!$N$12,(IF(G462="Oil",'Growth Factors'!$E$12,'Growth Factors'!$K$12))) -> 0.15067268 | L462: =IF(G462="Mix",'Growth Factors'!$O$12,(IF(G462="Oil",'Growth Factors'!$F$12,'Growth Factors'!$L$12))) -> 0.41821083 | M462: =IF(G462="Mix",'Growth Factors'!$P$12,(IF(G462="Oil",'Growth Factors'!$G$12,'Growth Factors'!$M$12))) -> 0.0062059761 | N462: =VLOOKUP(A462,'Part 50 Counties'!$A$2:$B$34,2) -> Yes | O462: =(IF(N462="No",0,(IF(D462="CO2",0,(VLOOKUP(F462,'Rule Reductions'!$C$2:$E$75,2,FALSE)))))) -> 0.8 | P462: =(IF(N462="No",0,(IF(D462="CO2",0,(VLOOKUP(F462,'Rule Reductions'!$C$2:$E$75,3,FALSE)))))) -> 0.90578983 | Q462: =+$E462*(1+H462)*(1-$O462) -> 3071.5727 | R462: =+$E462*(1+I462)*(1-$O462) -> 3523.3967 | S462: =+$E462*(1+J462)*(1-$O462) -> 2733.0904 | T462: =+$E462*(1+K462)*(1-$P462) -> 1482.2309 | U462: =+$E462*(1+L462)*(1-$P462) -> 1826.8583 | V462: =+$E462*(1+M462)*(1-$P462) -> 1296.1372
A463: Lea | B463: Production | C463: Intermittent Bleed Pneumatic Controllers | D463: CO2 | E463: 1722.9585 | F463: Pneumatic Controllers | G463: Mix | H463: =IF(G463="Mix",'Growth Factors'!$N$7,(IF(G463="Oil",'Growth Factors'!$E$7,'Growth Factors'!$K$7))) -> 0.12321919 | I463: =IF(G463="Mix",'Growth Factors'!$O$7,(IF(G463="Oil",'Growth Factors'!$F$7,'Growth Factors'!$L$7))) -> 0.28844315 | J463: =IF(G463="Mix",'Growth Factors'!$P$7,(IF(G463="Oil",'Growth Factors'!$G$7,'Growth Factors'!$M$7))) -> -0.00055772089 | K463: =IF(G463="Mix",'Growth Factors'!$N$12,(IF(G463="Oil",'Growth Factors'!$E$12,'Growth Factors'!$K$12))) -> 0.15067268 | L463: =IF(G463="Mix",'Growth Factors'!$O$12,(IF(G463="Oil",'Growth Factors'!$F$12,'Growth Factors'!$L$12))) -> 0.41821083 | M463: =IF(G463="Mix",'Growth Factors'!$P$12,(IF(G463="Oil",'Growth Factors'!$G$12,'Growth Factors'!$M$12))) -> 0.0062059761 | N463: =VLOOKUP(A463,'Part 50 Counties'!$A$2:$B$34,2) -> Yes | O463: =(IF(N463="No",0,(IF(D463="CO2",0,(VLOOKUP(F463,'Rule Reductions'!$C$2:$E$75,2,FALSE)))))) -> 0 | P463: =(IF(N463="No",0,(IF(D463="CO2",0,(VLOOKUP(F463,'Rule Reductions'!$C$2:$E$75,3,FALSE)))))) -> 0 | Q463: =+$E463*(1+H463)*(1-$O463) -> 1935.2601 | R463: =+$E463*(1+I463)*(1-$O463) -> 2219.9341 | S463: =+$E463*(1+J463)*(1-$O463) -> 1721.9976 | T463: =+$E463*(1+K463)*(1-$P463) -> 1982.5613 | U463: =+$E463*(1+L463)*(1-$P463) -> 2443.5185 | V463: =+$E463*(1+M463)*(1-$P463) -> 1733.6512
A464: McKinley | B464: G&B | C464: Intermittent Bleed Pneumatic Controllers | D464: CH4 | E464: 23.922608 | F464: Pneumatic Controllers | G464: Mix | H464: =IF(G464="Mix",'Growth Factors'!$N$7,(IF(G464="Oil",'Growth Factors'!$E$7,'Growth Factors'!$K$7))) -> 0.12321919 | I464: =IF(G464="Mix",'Growth Factors'!$O$7,(IF(G464="Oil",'Growth Factors'!$F$7,'Growth Factors'!$L$7))) -> 0.28844315 | J464: =IF(G464="Mix",'Growth Factors'!$P$7,(IF(G464="Oil",'Growth Factors'!$G$7,'Growth Factors'!$M$7))) -> -0.00055772089 | K464: =IF(G464="Mix",'Growth Factors'!$N$12,(IF(G464="Oil",'Growth Factors'!$E$12,'Growth Factors'!$K$12))) -> 0.15067268 | L464: =IF(G464="Mix",'Growth Factors'!$O$12,(IF(G464="Oil",'Growth Factors'!$F$12,'Growth Factors'!$L$12))) -> 0.41821083 | M464: =IF(G464="Mix",'Growth Factors'!$P$12,(IF(G464="Oil",'Growth Factors'!$G$12,'Growth Factors'!$M$12))) -> 0.0062059761 | N464: =VLOOKUP(A464,'Part 50 Counties'!$A$2:$B$34,2) -> No | O464: =(IF(N464="No",0,(IF(D464="CO2",0,(VLOOKUP(F464,'Rule Reductions'!$C$2:$E$75,2,FALSE)))))) -> 0 | P464: =(IF(N464="No",0,(IF(D464="CO2",0,(VLOOKUP(F464,'Rule Reductions'!$C$2:$E$75,3,FALSE)))))) -> 0 | Q464: =+$E464*(1+H464)*(1-$O464) -> 26.870332 | R464: =+$E464*(1+I464)*(1-$O464) -> 30.82292 | S464: =+$E464*(1+J464)*(1-$O464) -> 23.909266 | T464: =+$E464*(1+K464)*(1-$P464) -> 27.527091 | U464: =+$E464*(1+L464)*(1-$P464) -> 33.927302 | V464: =+$E464*(1+M464)*(1-$P464) -> 24.071071
A465: McKinley | B465: G&B | C465: Intermittent Bleed Pneumatic Controllers | D465: CO2 | E465: 4.738069 | F465: Pneumatic Controllers | G465: Mix | H465: =IF(G465="Mix",'Growth Factors'!$N$7,(IF(G465="Oil",'Growth Factors'!$E$7,'Growth Factors'!$K$7))) -> 0.12321919 | I465: =IF(G465="Mix",'Growth Factors'!$O$7,(IF(G465="Oil",'Growth Factors'!$F$7,'Growth Factors'!$L$7))) -> 0.28844315 | J465: =IF(G465="Mix",'Growth Factors'!$P$7,(IF(G465="Oil",'Growth Factors'!$G$7,'Growth Factors'!$M$7))) -> -0.00055772089 | K465: =IF(G465="Mix",'Growth Factors'!$N$12,(IF(G465="Oil",'Growth Factors'!$E$12,'Growth Factors'!$K$12))) -> 0.15067268 | L465: =IF(G465="Mix",'Growth Factors'!$O$12,(IF(G465="Oil",'Growth Factors'!$F$12,'Growth Factors'!$L$12))) -> 0.41821083 | M465: =IF(G465="Mix",'Growth Factors'!$P$12,(IF(G465="Oil",'Growth Factors'!$G$12,'Growth Factors'!$M$12))) -> 0.0062059761 | N465: =VLOOKUP(A465,'Part 50 Counties'!$A$2:$B$34,2) -> No | O465: =(IF(N465="No",0,(IF(D465="CO2",0,(VLOOKUP(F465,'Rule Reductions'!$C$2:$E$75,2,FALSE)))))) -> 0 | P465: =(IF(N465="No",0,(IF(D465="CO2",0,(VLOOKUP(F465,'Rule Reductions'!$C$2:$E$75,3,FALSE)))))) -> 0 | Q465: =+$E465*(1+H465)*(1-$O465) -> 5.32189 | R465: =+$E465*(1+I465)*(1-$O465) -> 6.1047325 | S465: =+$E465*(1+J465)*(1-$O465) -> 4.7354265 | T465: =+$E465*(1+K465)*(1-$P465) -> 5.4519665 | U465: =+$E465*(1+L465)*(1-$P465) -> 6.7195807 | V465: =+$E465*(1+M465)*(1-$P465) -> 4.7674733
A466: McKinley | B466: Production | C466: Intermittent Bleed Pneumatic Controllers | D466: CH4 | E466: 78.879672 | F466: Pneumatic Controllers | G466: Mix | H466: =IF(G466="Mix",'Growth Factors'!$N$7,(IF(G466="Oil",'Growth Factors'!$E$7,'Growth Factors'!$K$7))) -> 0.12321919 | I466: =IF(G466="Mix",'Growth Factors'!$O$7,(IF(G466="Oil",'Growth Factors'!$F$7,'Growth Factors'!$L$7))) -> 0.28844315 | J466: =IF(G466="Mix",'Growth Factors'!$P$7,(IF(G466="Oil",'Growth Factors'!$G$7,'Growth Factors'!$M$7))) -> -0.00055772089 | K466: =IF(G466="Mix",'Growth Factors'!$N$12,(IF(G466="Oil",'Growth Factors'!$E$12,'Growth Factors'!$K$12))) -> 0.15067268 | L466: =IF(G466="Mix",'Growth Factors'!$O$12,(IF(G466="Oil",'Growth Factors'!$F$12,'Growth Factors'!$L$12))) -> 0.41821083 | M466: =IF(G466="Mix",'Growth Factors'!$P$12,(IF(G466="Oil",'Growth Factors'!$G$12,'Growth Factors'!$M$12))) -> 0.0062059761 | N466: =VLOOKUP(A466,'Part 50 Counties'!$A$2:$B$34,2) -> No | O466: =(IF(N466="No",0,(IF(D466="CO2",0,(VLOOKUP(F466,'Rule Reductions'!$C$2:$E$75,2,FALSE)))))) -> 0 | P466: =(IF(N466="No",0,(IF(D466="CO2",0,(VLOOKUP(F466,'Rule Reductions'!$C$2:$E$75,3,FALSE)))))) -> 0 | Q466: =+$E466*(1+H466)*(1-$O466) -> 88.599161 | R466: =+$E466*(1+I466)*(1-$O466) -> 101.63197 | S466: =+$E466*(1+J466)*(1-$O466) -> 78.835679 | T466: =+$E466*(1+K466)*(1-$P466) -> 90.764683 | U466: =+$E466*(1+L466)*(1-$P466) -> 111.868 | V466: =+$E466*(1+M466)*(1-$P466) -> 79.369197
A467: McKinley | B467: Production | C467: Intermittent Bleed Pneumatic Controllers | D467: CO2 | E467: 51.994658 | F467: Pneumatic Controllers | G467: Mix | H467: =IF(G467="Mix",'Growth Factors'!$N$7,(IF(G467="Oil",'Growth Factors'!$E$7,'Growth Factors'!$K$7))) -> 0.12321919 | I467: =IF(G467="Mix",'Growth Factors'!$O$7,(IF(G467="Oil",'Growth Factors'!$F$7,'Growth Factors'!$L$7))) -> 0.28844315 | J467: =IF(G467="Mix",'Growth Factors'!$P$7,(IF(G467="Oil",'Growth Factors'!$G$7,'Growth Factors'!$M$7))) -> -0.00055772089 | K467: =IF(G467="Mix",'Growth Factors'!$N$12,(IF(G467="Oil",'Growth Factors'!$E$12,'Growth Factors'!$K$12))) -> 0.15067268 | L467: =IF(G467="Mix",'Growth Factors'!$O$12,(IF(G467="Oil",'Growth Factors'!$F$12,'Growth Factors'!$L$12))) -> 0.41821083 | M467: =IF(G467="Mix",'Growth Factors'!$P$12,(IF(G467="Oil",'Growth Factors'!$G$12,'Growth Factors'!$M$12))) -> 0.0062059761 | N467: =VLOOKUP(A467,'Part 50 Counties'!$A$2:$B$34,2) -> No | O467: =(IF(N467="No",0,(IF(D467="CO2",0,(VLOOKUP(F467,'Rule Reductions'!$C$2:$E$75,2,FALSE)))))) -> 0 | P467: =(IF(N467="No",0,(IF(D467="CO2",0,(VLOOKUP(F467,'Rule Reductions'!$C$2:$E$75,3,FALSE)))))) -> 0 | Q467: =+$E467*(1+H467)*(1-$O467) -> 58.401398 | R467: =+$E467*(1+I467)*(1-$O467) -> 66.992161 | S467: =+$E467*(1+J467)*(1-$O467) -> 51.96566 | T467: =+$E467*(1+K467)*(1-$P467) -> 59.828833 | U467: =+$E467*(1+L467)*(1-$P467) -> 73.739387 | V467: =+$E467*(1+M467)*(1-$P467) -> 52.317336
... A510: Colfax | B510: G&B | C510: Low Bleed Pneumatic Controllers | D510: CH4 | E510: 0.87416895 | F510: Pneumatic Controllers | G510: Mix | H510: =IF(G510="Mix",'Growth Factors'!$N$7,(IF(G510="Oil",'Growth Factors'!$E$7,'Growth Factors'!$K$7))) -> 0.12321919 | I510: =IF(G510="Mix",'Growth Factors'!$O$7,(IF(G510="Oil",'Growth Factors'!$F$7,'Growth Factors'!$L$7))) -> 0.28844315 | J510: =IF(G510="Mix",'Growth Factors'!$P$7,(IF(G510="Oil",'Growth Factors'!$G$7,'Growth Factors'!$M$7))) -> -0.00055772089 | K510: =IF(G510="Mix",'Growth Factors'!$N$12,(IF(G510="Oil",'Growth Factors'!$E$12,'Growth Factors'!$K$12))) -> 0.15067268 | L510: =IF(G510="Mix",'Growth Factors'!$O$12,(IF(G510="Oil",'Growth Factors'!$F$12,'Growth Factors'!$L$12))) -> 0.41821083 | M510: =IF(G510="Mix",'Growth Factors'!$P$12,(IF(G510="Oil",'Growth Factors'!$G$12,'Growth Factors'!$M$12))) -> 0.0062059761 | N510: =VLOOKUP(A510,'Part 50 Counties'!$A$2:$B$34,2) -> No | O510: =(IF(N510="No",0,(IF(D510="CO2",0,(VLOOKUP(F510,'Rule Reductions'!$C$2:$E$75,2,FALSE)))))) -> 0 | P510: =(IF(N510="No",0,(IF(D510="CO2",0,(VLOOKUP(F510,'Rule Reductions'!$C$2:$E$75,3,FALSE)))))) -> 0 | Q510: =+$E510*(1+H510)*(1-$O510) -> 0.98188334 | R510: =+$E510*(1+I510)*(1-$O510) -> 1.126317 | S510: =+$E510*(1+J510)*(1-$O510) -> 0.87368141 | T510: =+$E510*(1+K510)*(1-$P510) -> 1.0058823 | U510: =+$E510*(1+L510)*(1-$P510) -> 1.2397559 | V510: =+$E510*(1+M510)*(1-$P510) -> 0.87959403
A511: Colfax | B511: G&B | C511: Low Bleed Pneumatic Controllers | D511: CO2 | E511: 0.12490562 | F511: Pneumatic Controllers | G511: Mix | H511: =IF(G511="Mix",'Growth Factors'!$N$7,(IF(G511="Oil",'Growth Factors'!$E$7,'Growth Factors'!$K$7))) -> 0.12321919 | I511: =IF(G511="Mix",'Growth Factors'!$O$7,(IF(G511="Oil",'Growth Factors'!$F$7,'Growth Factors'!$L$7))) -> 0.28844315 | J511: =IF(G511="Mix",'Growth Factors'!$P$7,(IF(G511="Oil",'Growth Factors'!$G$7,'Growth Factors'!$M$7))) -> -0.00055772089 | K511: =IF(G511="Mix",'Growth Factors'!$N$12,(IF(G511="Oil",'Growth Factors'!$E$12,'Growth Factors'!$K$12))) -> 0.15067268 | L511: =IF(G511="Mix",'Growth Factors'!$O$12,(IF(G511="Oil",'Growth Factors'!$F$12,'Growth Factors'!$L$12))) -> 0.41821083 | M511: =IF(G511="Mix",'Growth Factors'!$P$12,(IF(G511="Oil",'Growth Factors'!$G$12,'Growth Factors'!$M$12))) -> 0.0062059761 | N511: =VLOOKUP(A511,'Part 50 Counties'!$A$2:$B$34,2) -> No | O511: 0.95 | P511: 0.95 | Q511: =+$E511*(1+H511)*(1-$O511) -> 0.0070148197 | R511: =+$E511*(1+I511)*(1-$O511) -> 0.0080466898 | S511: =+$E511*(1+J511)*(1-$O511) -> 0.0062417981 | T511: =+$E511*(1+K511)*(1-$P511) -> 0.0071862745 | U511: =+$E511*(1+L511)*(1-$P511) -> 0.0088571254 | V511: =+$E511*(1+M511)*(1-$P511) -> 0.0062840393
A512: Colfax | B512: Production | C512: Low Bleed Pneumatic Controllers | D512: CH4 | E512: 362.75312 | F512: Pneumatic Controllers | G512: Mix | H512: =IF(G512="Mix",'Growth Factors'!$N$7,(IF(G512="Oil",'Growth Factors'!$E$7,'Growth Factors'!$K$7))) -> 0.12321919 | I512: =IF(G512="Mix",'Growth Factors'!$O$7,(IF(G512="Oil",'Growth Factors'!$F$7,'Growth Factors'!$L$7))) -> 0.28844315 | J512: =IF(G512="Mix",'Growth Factors'!$P$7,(IF(G512="Oil",'Growth Factors'!$G$7,'Growth Factors'!$M$7))) -> -0.00055772089 | K512: =IF(G512="Mix",'Growth Factors'!$N$12,(IF(G512="Oil",'Growth Factors'!$E$12,'Growth Factors'!$K$12))) -> 0.15067268 | L512: =IF(G512="Mix",'Growth Factors'!$O$12,(IF(G512="Oil",'Growth Factors'!$F$12,'Growth Factors'!$L$12))) -> 0.41821083 | M512: =IF(G512="Mix",'Growth Factors'!$P$12,(IF(G512="Oil",'Growth Factors'!$G$12,'Growth Factors'!$M$12))) -> 0.0062059761 | N512: =VLOOKUP(A512,'Part 50 Counties'!$A$2:$B$34,2) -> No | O512: =(IF(N512="No",0,(IF(D512="CO2",0,(VLOOKUP(F512,'Rule Reductions'!$C$2:$E$75,2,FALSE)))))) -> 0 | P512: =(IF(N512="No",0,(IF(D512="CO2",0,(VLOOKUP(F512,'Rule Reductions'!$C$2:$E$75,3,FALSE)))))) -> 0 | Q512: =+$E512*(1+H512)*(1-$O512) -> 407.45126 | R512: =+$E512*(1+I512)*(1-$O512) -> 467.38677 | S512: =+$E512*(1+J512)*(1-$O512) -> 362.5508 | T512: =+$E512*(1+K512)*(1-$P512) -> 417.4101 | U512: =+$E512*(1+L512)*(1-$P512) -> 514.4604 | V512: =+$E512*(1+M512)*(1-$P512) -> 365.00435
A513: Colfax | B513: Production | C513: Low Bleed Pneumatic Controllers | D513: CO2 | E513: 347.92586 | F513: Pneumatic Controllers | G513: Mix | H513: =IF(G513="Mix",'Growth Factors'!$N$7,(IF(G513="Oil",'Growth Factors'!$E$7,'Growth Factors'!$K$7))) -> 0.12321919 | I513: =IF(G513="Mix",'Growth Factors'!$O$7,(IF(G513="Oil",'Growth Factors'!$F$7,'Growth Factors'!$L$7))) -> 0.28844315 | J513: =IF(G513="Mix",'Growth Factors'!$P$7,(IF(G513="Oil",'Growth Factors'!$G$7,'Growth Factors'!$M$7))) -> -0.00055772089 | K513: =IF(G513="Mix",'Growth Factors'!$N$12,(IF(G513="Oil",'Growth Factors'!$E$12,'Growth Factors'!$K$12))) -> 0.15067268 | L513: =IF(G513="Mix",'Growth Factors'!$O$12,(IF(G513="Oil",'Growth Factors'!$F$12,'Growth Factors'!$L$12))) -> 0.41821083 | M513: =IF(G513="Mix",'Growth Factors'!$P$12,(IF(G513="Oil",'Growth Factors'!$G$12,'Growth Factors'!$M$12))) -> 0.0062059761 | N513: =VLOOKUP(A513,'Part 50 Counties'!$A$2:$B$34,2) -> No | O513: =(IF(N513="No",0,(IF(D513="CO2",0,(VLOOKUP(F513,'Rule Reductions'!$C$2:$E$75,2,FALSE)))))) -> 0 | P513: =(IF(N513="No",0,(IF(D513="CO2",0,(VLOOKUP(F513,'Rule Reductions'!$C$2:$E$75,3,FALSE)))))) -> 0 | Q513: =+$E513*(1+H513)*(1-$O513) -> 390.79701 | R513: =+$E513*(1+I513)*(1-$O513) -> 448.28269 | S513: =+$E513*(1+J513)*(1-$O513) -> 347.73182 | T513: =+$E513*(1+K513)*(1-$P513) -> 400.34879 | U513: =+$E513*(1+L513)*(1-$P513) -> 493.43223 | V513: =+$E513*(1+M513)*(1-$P513) -> 350.08508
A514: Eddy | B514: G&B | C514: Low Bleed Pneumatic Controllers | D514: CH4 | E514: 166.62178 | F514: Pneumatic Controllers | G514: Mix | H514: =IF(G514="Mix",'Growth Factors'!$N$7,(IF(G514="Oil",'Growth Factors'!$E$7,'Growth Factors'!$K$7))) -> 0.12321919 | I514: =IF(G514="Mix",'Growth Factors'!$O$7,(IF(G514="Oil",'Growth Factors'!$F$7,'Growth Factors'!$L$7))) -> 0.28844315 | J514: =IF(G514="Mix",'Growth Factors'!$P$7,(IF(G514="Oil",'Growth Factors'!$G$7,'Growth Factors'!$M$7))) -> -0.00055772089 | K514: =IF(G514="Mix",'Growth Factors'!$N$12,(IF(G514="Oil",'Growth Factors'!$E$12,'Growth Factors'!$K$12))) -> 0.15067268 | L514: =IF(G514="Mix",'Growth Factors'!$O$12,(IF(G514="Oil",'Growth Factors'!$F$12,'Growth Factors'!$L$12))) -> 0.41821083 | M514: =IF(G514="Mix",'Growth Factors'!$P$12,(IF(G514="Oil",'Growth Factors'!$G$12,'Growth Factors'!$M$12))) -> 0.0062059761 | N514: =VLOOKUP(A514,'Part 50 Counties'!$A$2:$B$34,2) -> Yes | O514: =(IF(N514="No",0,(IF(D514="CO2",0,(VLOOKUP(F514,'Rule Reductions'!$C$2:$E$75,2,FALSE)))))) -> 0.8 | P514: =(IF(N514="No",0,(IF(D514="CO2",0,(VLOOKUP(F514,'Rule Reductions'!$C$2:$E$75,3,FALSE)))))) -> 0.90578983 | Q514: =+$E514*(1+H514)*(1-$O514) -> 37.430556 | R514: =+$E514*(1+I514)*(1-$O514) -> 42.936538 | S514: =+$E514*(1+J514)*(1-$O514) -> 33.30577 | T514: =+$E514*(1+K514)*(1-$P514) -> 18.062645 | U514: =+$E514*(1+L514)*(1-$P514) -> 22.262316 | V514: =+$E514*(1+M514)*(1-$P514) -> 15.794884
A515: Eddy | B515: G&B | C515: Low Bleed Pneumatic Controllers | D515: CO2 | E515: 9.5634593 | F515: Pneumatic Controllers | G515: Mix | H515: =IF(G515="Mix",'Growth Factors'!$N$7,(IF(G515="Oil",'Growth Factors'!$E$7,'Growth Factors'!$K$7))) -> 0.12321919 | I515: =IF(G515="Mix",'Growth Factors'!$O$7,(IF(G515="Oil",'Growth Factors'!$F$7,'Growth Factors'!$L$7))) -> 0.28844315 | J515: =IF(G515="Mix",'Growth Factors'!$P$7,(IF(G515="Oil",'Growth Factors'!$G$7,'Growth Factors'!$M$7))) -> -0.00055772089 | K515: =IF(G515="Mix",'Growth Factors'!$N$12,(IF(G515="Oil",'Growth Factors'!$E$12,'Growth Factors'!$K$12))) -> 0.15067268 | L515: =IF(G515="Mix",'Growth Factors'!$O$12,(IF(G515="Oil",'Growth Factors'!$F$12,'Growth Factors'!$L$12))) -> 0.41821083 | M515: =IF(G515="Mix",'Growth Factors'!$P$12,(IF(G515="Oil",'Growth Factors'!$G$12,'Growth Factors'!$M$12))) -> 0.0062059761 | N515: =VLOOKUP(A515,'Part 50 Counties'!$A$2:$B$34,2) -> Yes | O515: =(IF(N515="No",0,(IF(D515="CO2",0,(VLOOKUP(F515,'Rule Reductions'!$C$2:$E$75,2,FALSE)))))) -> 0 | P515: =(IF(N515="No",0,(IF(D515="CO2",0,(VLOOKUP(F515,'Rule Reductions'!$C$2:$E$75,3,FALSE)))))) -> 0 | Q515: =+$E515*(1+H515)*(1-$O515) -> 10.741861 | R515: =+$E515*(1+I515)*(1-$O515) -> 12.321974 | S515: =+$E515*(1+J515)*(1-$O515) -> 9.5581256 | T515: =+$E515*(1+K515)*(1-$P515) -> 11.004411 | U515: =+$E515*(1+L515)*(1-$P515) -> 13.563002 | V515: =+$E515*(1+M515)*(1-$P515) -> 9.6228099
A516: Eddy | B516: Production | C516: Low Bleed Pneumatic Controllers | D516: CH4 | E516: 1523.3319 | F516: Pneumatic Controllers | G516: Mix | H516: =IF(G516="Mix",'Growth Factors'!$N$7,(IF(G516="Oil",'Growth Factors'!$E$7,'Growth Factors'!$K$7))) -> 0.12321919 | I516: =IF(G516="Mix",'Growth Factors'!$O$7,(IF(G516="Oil",'Growth Factors'!$F$7,'Growth Factors'!$L$7))) -> 0.28844315 | J516: =IF(G516="Mix",'Growth Factors'!$P$7,(IF(G516="Oil",'Growth Factors'!$G$7,'Growth Factors'!$M$7))) -> -0.00055772089 | K516: =IF(G516="Mix",'Growth Factors'!$N$12,(IF(G516="Oil",'Growth Factors'!$E$12,'Growth Factors'!$K$12))) -> 0.15067268 | L516: =IF(G516="Mix",'Growth Factors'!$O$12,(IF(G516="Oil",'Growth Factors'!$F$12,'Growth Factors'!$L$12))) -> 0.41821083 | M516: =IF(G516="Mix",'Growth Factors'!$P$12,(IF(G516="Oil",'Growth Factors'!$G$12,'Growth Factors'!$M$12))) -> 0.0062059761 | N516: =VLOOKUP(A516,'Part 50 Counties'!$A$2:$B$34,2) -> Yes | O516: =(IF(N516="No",0,(IF(D516="CO2",0,(VLOOKUP(F516,'Rule Reductions'!$C$2:$E$75,2,FALSE)))))) -> 0.8 | P516: =(IF(N516="No",0,(IF(D516="CO2",0,(VLOOKUP(F516,'Rule Reductions'!$C$2:$E$75,3,FALSE)))))) -> 0.90578983 | Q516: =+$E516*(1+H516)*(1-$O516) -> 342.20712 | R516: =+$E516*(1+I516)*(1-$O516) -> 392.5453 | S516: =+$E516*(1+J516)*(1-$O516) -> 304.49645 | T516: =+$E516*(1+K516)*(1-$P516) -> 165.13689 | U516: =+$E516*(1+L516)*(1-$P516) -> 203.53219 | V516: =+$E516*(1+M516)*(1-$P516) -> 144.40399
A517: Eddy | B517: Production | C517: Low Bleed Pneumatic Controllers | D517: CO2 | E517: 49.291739 | F517: Pneumatic Controllers | G517: Mix | H517: =IF(G517="Mix",'Growth Factors'!$N$7,(IF(G517="Oil",'Growth Factors'!$E$7,'Growth Factors'!$K$7))) -> 0.12321919 | I517: =IF(G517="Mix",'Growth Factors'!$O$7,(IF(G517="Oil",'Growth Factors'!$F$7,'Growth Factors'!$L$7))) -> 0.28844315 | J517: =IF(G517="Mix",'Growth Factors'!$P$7,(IF(G517="Oil",'Growth Factors'!$G$7,'Growth Factors'!$M$7))) -> -0.00055772089 | K517: =IF(G517="Mix",'Growth Factors'!$N$12,(IF(G517="Oil",'Growth Factors'!$E$12,'Growth Factors'!$K$12))) -> 0.15067268 | L517: =IF(G517="Mix",'Growth Factors'!$O$12,(IF(G517="Oil",'Growth Factors'!$F$12,'Growth Factors'!$L$12))) -> 0.41821083 | M517: =IF(G517="Mix",'Growth Factors'!$P$12,(IF(G517="Oil",'Growth Factors'!$G$12,'Growth Factors'!$M$12))) -> 0.0062059761 | N517: =VLOOKUP(A517,'Part 50 Counties'!$A$2:$B$34,2) -> Yes | O517: =(IF(N517="No",0,(IF(D517="CO2",0,(VLOOKUP(F517,'Rule Reductions'!$C$2:$E$75,2,FALSE)))))) -> 0 | P517: =(IF(N517="No",0,(IF(D517="CO2",0,(VLOOKUP(F517,'Rule Reductions'!$C$2:$E$75,3,FALSE)))))) -> 0 | Q517: =+$E517*(1+H517)*(1-$O517) -> 55.365427 | R517: =+$E517*(1+I517)*(1-$O517) -> 63.509603 | S517: =+$E517*(1+J517)*(1-$O517) -> 49.264248 | T517: =+$E517*(1+K517)*(1-$P517) -> 56.718658 | U517: =+$E517*(1+L517)*(1-$P517) -> 69.906078 | V517: =+$E517*(1+M517)*(1-$P517) -> 49.597642
A518: Harding | B518: Production | C518: Low Bleed Pneumatic Controllers | D518: CH4 | E518: 146.32795 | F518: Pneumatic Controllers | G518: Mix | H518: =IF(G518="Mix",'Growth Factors'!$N$7,(IF(G518="Oil",'Growth Factors'!$E$7,'Growth Factors'!$K$7))) -> 0.12321919 | I518: =IF(G518="Mix",'Growth Factors'!$O$7,(IF(G518="Oil",'Growth Factors'!$F$7,'Growth Factors'!$L$7))) -> 0.28844315 | J518: =IF(G518="Mix",'Growth Factors'!$P$7,(IF(G518="Oil",'Growth Factors'!$G$7,'Growth Factors'!$M$7))) -> -0.00055772089 | K518: =IF(G518="Mix",'Growth Factors'!$N$12,(IF(G518="Oil",'Growth Factors'!$E$12,'Growth Factors'!$K$12))) -> 0.15067268 | L518: =IF(G518="Mix",'Growth Factors'!$O$12,(IF(G518="Oil",'Growth Factors'!$F$12,'Growth Factors'!$L$12))) -> 0.41821083 | M518: =IF(G518="Mix",'Growth Factors'!$P$12,(IF(G518="Oil",'Growth Factors'!$G$12,'Growth Factors'!$M$12))) -> 0.0062059761 | N518: =VLOOKUP(A518,'Part 50 Counties'!$A$2:$B$34,2) -> No | O518: =(IF(N518="No",0,(IF(D518="CO2",0,(VLOOKUP(F518,'Rule Reductions'!$C$2:$E$75,2,FALSE)))))) -> 0 | P518: =(IF(N518="No",0,(IF(D518="CO2",0,(VLOOKUP(F518,'Rule Reductions'!$C$2:$E$75,3,FALSE)))))) -> 0 | Q518: =+$E518*(1+H518)*(1-$O518) -> 164.35836 | R518: =+$E518*(1+I518)*(1-$O518) -> 188.53524 | S518: =+$E518*(1+J518)*(1-$O518) -> 146.24634 | T518: =+$E518*(1+K518)*(1-$P518) -> 168.37557 | U518: =+$E518*(1+L518)*(1-$P518) -> 207.52388 | V518: =+$E518*(1+M518)*(1-$P518) -> 147.23606
A519: Harding | B519: Production | C519: Low Bleed Pneumatic Controllers | D519: CO2 | E519: 140.34691 | F519: Pneumatic Controllers | G519: Mix | H519: =IF(G519="Mix",'Growth Factors'!$N$7,(IF(G519="Oil",'Growth Factors'!$E$7,'Growth Factors'!$K$7))) -> 0.12321919 | I519: =IF(G519="Mix",'Growth Factors'!$O$7,(IF(G519="Oil",'Growth Factors'!$F$7,'Growth Factors'!$L$7))) -> 0.28844315 | J519: =IF(G519="Mix",'Growth Factors'!$P$7,(IF(G519="Oil",'Growth Factors'!$G$7,'Growth Factors'!$M$7))) -> -0.00055772089 | K519: =IF(G519="Mix",'Growth Factors'!$N$12,(IF(G519="Oil",'Growth Factors'!$E$12,'Growth Factors'!$K$12))) -> 0.15067268 | L519: =IF(G519="Mix",'Growth Factors'!$O$12,(IF(G519="Oil",'Growth Factors'!$F$12,'Growth Factors'!$L$12))) -> 0.41821083 | M519: =IF(G519="Mix",'Growth Factors'!$P$12,(IF(G519="Oil",'Growth Factors'!$G$12,'Growth Factors'!$M$12))) -> 0.0062059761 | N519: =VLOOKUP(A519,'Part 50 Counties'!$A$2:$B$34,2) -> No | O519: =(IF(N519="No",0,(IF(D519="CO2",0,(VLOOKUP(F519,'Rule Reductions'!$C$2:$E$75,2,FALSE)))))) -> 0 | P519: =(IF(N519="No",0,(IF(D519="CO2",0,(VLOOKUP(F519,'Rule Reductions'!$C$2:$E$75,3,FALSE)))))) -> 0 | Q519: =+$E519*(1+H519)*(1-$O519) -> 157.64034 | R519: =+$E519*(1+I519)*(1-$O519) -> 180.82901 | S519: =+$E519*(1+J519)*(1-$O519) -> 140.26863 | T519: =+$E519*(1+K519)*(1-$P519) -> 161.49335 | U519: =+$E519*(1+L519)*(1-$P519) -> 199.0415 | V519: =+$E519*(1+M519)*(1-$P519) -> 141.2179
A520: Lea | B520: G&B | C520: Low Bleed Pneumatic Controllers | D520: CH4 | E520: 106.54202 | F520: Pneumatic Controllers | G520: Mix | H520: =IF(G520="Mix",'Growth Factors'!$N$7,(IF(G520="Oil",'Growth Factors'!$E$7,'Growth Factors'!$K$7))) -> 0.12321919 | I520: =IF(G520="Mix",'Growth Factors'!$O$7,(IF(G520="Oil",'Growth Factors'!$F$7,'Growth Factors'!$L$7))) -> 0.28844315 | J520: =IF(G520="Mix",'Growth Factors'!$P$7,(IF(G520="Oil",'Growth Factors'!$G$7,'Growth Factors'!$M$7))) -> -0.00055772089 | K520: =IF(G520="Mix",'Growth Factors'!$N$12,(IF(G520="Oil",'Growth Factors'!$E$12,'Growth Factors'!$K$12))) -> 0.15067268 | L520: =IF(G520="Mix",'Growth Factors'!$O$12,(IF(G520="Oil",'Growth Factors'!$F$12,'Growth Factors'!$L$12))) -> 0.41821083 | M520: =IF(G520="Mix",'Growth Factors'!$P$12,(IF(G520="Oil",'Growth Factors'!$G$12,'Growth Factors'!$M$12))) -> 0.0062059761 | N520: =VLOOKUP(A520,'Part 50 Counties'!$A$2:$B$34,2) -> Yes | O520: =(IF(N520="No",0,(IF(D520="CO2",0,(VLOOKUP(F520,'Rule Reductions'!$C$2:$E$75,2,FALSE)))))) -> 0.8 | P520: =(IF(N520="No",0,(IF(D520="CO2",0,(VLOOKUP(F520,'Rule Reductions'!$C$2:$E$75,3,FALSE)))))) -> 0.90578983 | Q520: =+$E520*(1+H520)*(1-$O520) -> 23.934009 | R520: =+$E520*(1+I520)*(1-$O520) -> 27.454668 | S520: =+$E520*(1+J520)*(1-$O520) -> 21.296521 | T520: =+$E520*(1+K520)*(1-$P520) -> 11.549695 | U520: =+$E520*(1+L520)*(1-$P520) -> 14.235067 | V520: =+$E520*(1+M520)*(1-$P520) -> 10.099633
A521: Lea | B521: G&B | C521: Low Bleed Pneumatic Controllers | D521: CO2 | E521: 7.9126953 | F521: Pneumatic Controllers | G521: Mix | H521: =IF(G521="Mix",'Growth Factors'!$N$7,(IF(G521="Oil",'Growth Factors'!$E$7,'Growth Factors'!$K$7))) -> 0.12321919 | I521: =IF(G521="Mix",'Growth Factors'!$O$7,(IF(G521="Oil",'Growth Factors'!$F$7,'Growth Factors'!$L$7))) -> 0.28844315 | J521: =IF(G521="Mix",'Growth Factors'!$P$7,(IF(G521="Oil",'Growth Factors'!$G$7,'Growth Factors'!$M$7))) -> -0.00055772089 | K521: =IF(G521="Mix",'Growth Factors'!$N$12,(IF(G521="Oil",'Growth Factors'!$E$12,'Growth Factors'!$K$12))) -> 0.15067268 | L521: =IF(G521="Mix",'Growth Factors'!$O$12,(IF(G521="Oil",'Growth Factors'!$F$12,'Growth Factors'!$L$12))) -> 0.41821083 | M521: =IF(G521="Mix",'Growth Factors'!$P$12,(IF(G521="Oil",'Growth Factors'!$G$12,'Growth Factors'!$M$12))) -> 0.0062059761 | N521: =VLOOKUP(A521,'Part 50 Counties'!$A$2:$B$34,2) -> Yes | O521: =(IF(N521="No",0,(IF(D521="CO2",0,(VLOOKUP(F521,'Rule Reductions'!$C$2:$E$75,2,FALSE)))))) -> 0 | P521: =(IF(N521="No",0,(IF(D521="CO2",0,(VLOOKUP(F521,'Rule Reductions'!$C$2:$E$75,3,FALSE)))))) -> 0 | Q521: =+$E521*(1+H521)*(1-$O521) -> 8.8876912 | R521: =+$E521*(1+I521)*(1-$O521) -> 10.195058 | S521: =+$E521*(1+J521)*(1-$O521) -> 7.9082822 | T521: =+$E521*(1+K521)*(1-$P521) -> 9.1049223 | U521: =+$E521*(1+L521)*(1-$P521) -> 11.22187 | V521: =+$E521*(1+M521)*(1-$P521) -> 7.9618013
A522: Lea | B522: Production | C522: Low Bleed Pneumatic Controllers | D522: CH4 | E522: 1780.7318 | F522: Pneumatic Controllers | G522: Mix | H522: =IF(G522="Mix",'Growth Factors'!$N$7,(IF(G522="Oil",'Growth Factors'!$E$7,'Growth Factors'!$K$7))) -> 0.12321919 | I522: =IF(G522="Mix",'Growth Factors'!$O$7,(IF(G522="Oil",'Growth Factors'!$F$7,'Growth Factors'!$L$7))) -> 0.28844315 | J522: =IF(G522="Mix",'Growth Factors'!$P$7,(IF(G522="Oil",'Growth Factors'!$G$7,'Growth Factors'!$M$7))) -> -0.00055772089 | K522: =IF(G522="Mix",'Growth Factors'!$N$12,(IF(G522="Oil",'Growth Factors'!$E$12,'Growth Factors'!$K$12))) -> 0.15067268 | L522: =IF(G522="Mix",'Growth Factors'!$O$12,(IF(G522="Oil",'Growth Factors'!$F$12,'Growth Factors'!$L$12))) -> 0.41821083 | M522: =IF(G522="Mix",'Growth Factors'!$P$12,(IF(G522="Oil",'Growth Factors'!$G$12,'Growth Factors'!$M$12))) -> 0.0062059761 | N522: =VLOOKUP(A522,'Part 50 Counties'!$A$2:$B$34,2) -> Yes | O522: =(IF(N522="No",0,(IF(D522="CO2",0,(VLOOKUP(F522,'Rule Reductions'!$C$2:$E$75,2,FALSE)))))) -> 0.8 | P522: =(IF(N522="No",0,(IF(D522="CO2",0,(VLOOKUP(F522,'Rule Reductions'!$C$2:$E$75,3,FALSE)))))) -> 0.90578983 | Q522: =+$E522*(1+H522)*(1-$O522) -> 400.03043 | R522: =+$E522*(1+I522)*(1-$O522) -> 458.87434 | S522: =+$E522*(1+J522)*(1-$O522) -> 355.94773 | T522: =+$E522*(1+K522)*(1-$P522) -> 193.04035 | U522: =+$E522*(1+L522)*(1-$P522) -> 237.92336 | V522: =+$E522*(1+M522)*(1-$P522) -> 168.80418
A523: Lea | B523: Production | C523: Low Bleed Pneumatic Controllers | D523: CO2 | E523: 57.514263 | F523: Pneumatic Controllers | G523: Mix | H523: =IF(G523="Mix",'Growth Factors'!$N$7,(IF(G523="Oil",'Growth Factors'!$E$7,'Growth Factors'!$K$7))) -> 0.12321919 | I523: =IF(G523="Mix",'Growth Factors'!$O$7,(IF(G523="Oil",'Growth Factors'!$F$7,'Growth Factors'!$L$7))) -> 0.28844315 | J523: =IF(G523="Mix",'Growth Factors'!$P$7,(IF(G523="Oil",'Growth Factors'!$G$7,'Growth Factors'!$M$7))) -> -0.00055772089 | K523: =IF(G523="Mix",'Growth Factors'!$N$12,(IF(G523="Oil",'Growth Factors'!$E$12,'Growth Factors'!$K$12))) -> 0.15067268 | L523: =IF(G523="Mix",'Growth Factors'!$O$12,(IF(G523="Oil",'Growth Factors'!$F$12,'Growth Factors'!$L$12))) -> 0.41821083 | M523: =IF(G523="Mix",'Growth Factors'!$P$12,(IF(G523="Oil",'Growth Factors'!$G$12,'Growth Factors'!$M$12))) -> 0.0062059761 | N523: =VLOOKUP(A523,'Part 50 Counties'!$A$2:$B$34,2) -> Yes | O523: =(IF(N523="No",0,(IF(D523="CO2",0,(VLOOKUP(F523,'Rule Reductions'!$C$2:$E$75,2,FALSE)))))) -> 0 | P523: =(IF(N523="No",0,(IF(D523="CO2",0,(VLOOKUP(F523,'Rule Reductions'!$C$2:$E$75,3,FALSE)))))) -> 0 | Q523: =+$E523*(1+H523)*(1-$O523) -> 64.601124 | R523: =+$E523*(1+I523)*(1-$O523) -> 74.103858 | S523: =+$E523*(1+J523)*(1-$O523) -> 57.482186 | T523: =+$E523*(1+K523)*(1-$P523) -> 66.180091 | U523: =+$E523*(1+L523)*(1-$P523) -> 81.56735 | V523: =+$E523*(1+M523)*(1-$P523) -> 57.871195
... A570: Rio Arriba | B570: G&B | C570: Miscellaneous Flaring | D570: CH4 | E570: 0.87201135 | F570: Miscellaneous Flaring | G570: Mix | H570: =IF(G570="Mix",'Growth Factors'!$N$7,(IF(G570="Oil",'Growth Factors'!$E$7,'Growth Factors'!$K$7))) -> 0.12321919 | I570: =IF(G570="Mix",'Growth Factors'!$O$7,(IF(G570="Oil",'Growth Factors'!$F$7,'Growth Factors'!$L$7))) -> 0.28844315 | J570: =IF(G570="Mix",'Growth Factors'!$P$7,(IF(G570="Oil",'Growth Factors'!$G$7,'Growth Factors'!$M$7))) -> -0.00055772089 | K570: =IF(G570="Mix",'Growth Factors'!$N$12,(IF(G570="Oil",'Growth Factors'!$E$12,'Growth Factors'!$K$12))) -> 0.15067268 | L570: =IF(G570="Mix",'Growth Factors'!$O$12,(IF(G570="Oil",'Growth Factors'!$F$12,'Growth Factors'!$L$12))) -> 0.41821083 | M570: =IF(G570="Mix",'Growth Factors'!$P$12,(IF(G570="Oil",'Growth Factors'!$G$12,'Growth Factors'!$M$12))) -> 0.0062059761 | N570: =VLOOKUP(A570,'Part 50 Counties'!$A$2:$B$34,2) -> Yes | O570: =(IF(N570="No",0,(IF(D570="CO2",0,(VLOOKUP(F570,'Rule Reductions'!$C$2:$E$75,2,FALSE)))))) -> 0 | P570: =(IF(N570="No",0,(IF(D570="CO2",0,(VLOOKUP(F570,'Rule Reductions'!$C$2:$E$75,3,FALSE)))))) -> 0 | Q570: =+$E570*(1+H570)*(1-$O570) -> 0.97945988 | R570: =+$E570*(1+I570)*(1-$O570) -> 1.123537 | S570: =+$E570*(1+J570)*(1-$O570) -> 0.87152501 | T570: =+$E570*(1+K570)*(1-$P570) -> 1.0033996 | U570: =+$E570*(1+L570)*(1-$P570) -> 1.2366959 | V570: =+$E570*(1+M570)*(1-$P570) -> 0.87742303
A571: Rio Arriba | B571: G&B | C571: Miscellaneous Flaring | D571: CO2 | E571: 289.40419 | F571: Miscellaneous Flaring | G571: Mix | H571: =IF(G571="Mix",'Growth Factors'!$N$7,(IF(G571="Oil",'Growth Factors'!$E$7,'Growth Factors'!$K$7))) -> 0.12321919 | I571: =IF(G571="Mix",'Growth Factors'!$O$7,(IF(G571="Oil",'Growth Factors'!$F$7,'Growth Factors'!$L$7))) -> 0.28844315 | J571: =IF(G571="Mix",'Growth Factors'!$P$7,(IF(G571="Oil",'Growth Factors'!$G$7,'Growth Factors'!$M$7))) -> -0.00055772089 | K571: =IF(G571="Mix",'Growth Factors'!$N$12,(IF(G571="Oil",'Growth Factors'!$E$12,'Growth Factors'!$K$12))) -> 0.15067268 | L571: =IF(G571="Mix",'Growth Factors'!$O$12,(IF(G571="Oil",'Growth Factors'!$F$12,'Growth Factors'!$L$12))) -> 0.41821083 | M571: =IF(G571="Mix",'Growth Factors'!$P$12,(IF(G571="Oil",'Growth Factors'!$G$12,'Growth Factors'!$M$12))) -> 0.0062059761 | N571: =VLOOKUP(A571,'Part 50 Counties'!$A$2:$B$34,2) -> Yes | O571: 0.95 | P571: 0.95 | Q571: =+$E571*(1+H571)*(1-$O571) -> 16.253217 | R571: =+$E571*(1+I571)*(1-$O571) -> 18.644042 | S571: =+$E571*(1+J571)*(1-$O571) -> 14.462139 | T571: =+$E571*(1+K571)*(1-$P571) -> 16.650475 | U571: =+$E571*(1+L571)*(1-$P571) -> 20.521808 | V571: =+$E571*(1+M571)*(1-$P571) -> 14.560011
A572: Rio Arriba | B572: Production | C572: Miscellaneous Flaring | D572: CH4 | E572: 0.086122636 | F572: Miscellaneous Flaring | G572: Mix | H572: =IF(G572="Mix",'Growth Factors'!$N$7,(IF(G572="Oil",'Growth Factors'!$E$7,'Growth Factors'!$K$7))) -> 0.12321919 | I572: =IF(G572="Mix",'Growth Factors'!$O$7,(IF(G572="Oil",'Growth Factors'!$F$7,'Growth Factors'!$L$7))) -> 0.28844315 | J572: =IF(G572="Mix",'Growth Factors'!$P$7,(IF(G572="Oil",'Growth Factors'!$G$7,'Growth Factors'!$M$7))) -> -0.00055772089 | K572: =IF(G572="Mix",'Growth Factors'!$N$12,(IF(G572="Oil",'Growth Factors'!$E$12,'Growth Factors'!$K$12))) -> 0.15067268 | L572: =IF(G572="Mix",'Growth Factors'!$O$12,(IF(G572="Oil",'Growth Factors'!$F$12,'Growth Factors'!$L$12))) -> 0.41821083 | M572: =IF(G572="Mix",'Growth Factors'!$P$12,(IF(G572="Oil",'Growth Factors'!$G$12,'Growth Factors'!$M$12))) -> 0.0062059761 | N572: =VLOOKUP(A572,'Part 50 Counties'!$A$2:$B$34,2) -> Yes | O572: =(IF(N572="No",0,(IF(D572="CO2",0,(VLOOKUP(F572,'Rule Reductions'!$C$2:$E$75,2,FALSE)))))) -> 0 | P572: =(IF(N572="No",0,(IF(D572="CO2",0,(VLOOKUP(F572,'Rule Reductions'!$C$2:$E$75,3,FALSE)))))) -> 0 | Q572: =+$E572*(1+H572)*(1-$O572) -> 0.096734598 | R572: =+$E572*(1+I572)*(1-$O572) -> 0.11096412 | S572: =+$E572*(1+J572)*(1-$O572) -> 0.086074604 | T572: =+$E572*(1+K572)*(1-$P572) -> 0.099098965 | U572: =+$E572*(1+L572)*(1-$P572) -> 0.12214006 | V572: =+$E572*(1+M572)*(1-$P572) -> 0.086657111
A573: Rio Arriba | B573: Production | C573: Miscellaneous Flaring | D573: CO2 | E573: 18.676217 | F573: Miscellaneous Flaring | G573: Mix | H573: =IF(G573="Mix",'Growth Factors'!$N$7,(IF(G573="Oil",'Growth Factors'!$E$7,'Growth Factors'!$K$7))) -> 0.12321919 | I573: =IF(G573="Mix",'Growth Factors'!$O$7,(IF(G573="Oil",'Growth Factors'!$F$7,'Growth Factors'!$L$7))) -> 0.28844315 | J573: =IF(G573="Mix",'Growth Factors'!$P$7,(IF(G573="Oil",'Growth Factors'!$G$7,'Growth Factors'!$M$7))) -> -0.00055772089 | K573: =IF(G573="Mix",'Growth Factors'!$N$12,(IF(G573="Oil",'Growth Factors'!$E$12,'Growth Factors'!$K$12))) -> 0.15067268 | L573: =IF(G573="Mix",'Growth Factors'!$O$12,(IF(G573="Oil",'Growth Factors'!$F$12,'Growth Factors'!$L$12))) -> 0.41821083 | M573: =IF(G573="Mix",'Growth Factors'!$P$12,(IF(G573="Oil",'Growth Factors'!$G$12,'Growth Factors'!$M$12))) -> 0.0062059761 | N573: =VLOOKUP(A573,'Part 50 Counties'!$A$2:$B$34,2) -> Yes | O573: =(IF(N573="No",0,(IF(D573="CO2",0,(VLOOKUP(F573,'Rule Reductions'!$C$2:$E$75,2,FALSE)))))) -> 0 | P573: =(IF(N573="No",0,(IF(D573="CO2",0,(VLOOKUP(F573,'Rule Reductions'!$C$2:$E$75,3,FALSE)))))) -> 0 | Q573: =+$E573*(1+H573)*(1-$O573) -> 20.977486 | R573: =+$E573*(1+I573)*(1-$O573) -> 24.063244 | S573: =+$E573*(1+J573)*(1-$O573) -> 18.665801 | T573: =+$E573*(1+K573)*(1-$P573) -> 21.490213 | U573: =+$E573*(1+L573)*(1-$P573) -> 26.486813 | V573: =+$E573*(1+M573)*(1-$P573) -> 18.792121
A574: Roosevelt | B574: Production | C574: Miscellaneous Flaring | D574: CH4 | E574: 7.3479502 | F574: Miscellaneous Flaring | G574: Mix | H574: =IF(G574="Mix",'Growth Factors'!$N$7,(IF(G574="Oil",'Growth Factors'!$E$7,'Growth Factors'!$K$7))) -> 0.12321919 | I574: =IF(G574="Mix",'Growth Factors'!$O$7,(IF(G574="Oil",'Growth Factors'!$F$7,'Growth Factors'!$L$7))) -> 0.28844315 | J574: =IF(G574="Mix",'Growth Factors'!$P$7,(IF(G574="Oil",'Growth Factors'!$G$7,'Growth Factors'!$M$7))) -> -0.00055772089 | K574: =IF(G574="Mix",'Growth Factors'!$N$12,(IF(G574="Oil",'Growth Factors'!$E$12,'Growth Factors'!$K$12))) -> 0.15067268 | L574: =IF(G574="Mix",'Growth Factors'!$O$12,(IF(G574="Oil",'Growth Factors'!$F$12,'Growth Factors'!$L$12))) -> 0.41821083 | M574: =IF(G574="Mix",'Growth Factors'!$P$12,(IF(G574="Oil",'Growth Factors'!$G$12,'Growth Factors'!$M$12))) -> 0.0062059761 | N574: =VLOOKUP(A574,'Part 50 Counties'!$A$2:$B$34,2) -> No | O574: =(IF(N574="No",0,(IF(D574="CO2",0,(VLOOKUP(F574,'Rule Reductions'!$C$2:$E$75,2,FALSE)))))) -> 0 | P574: =(IF(N574="No",0,(IF(D574="CO2",0,(VLOOKUP(F574,'Rule Reductions'!$C$2:$E$75,3,FALSE)))))) -> 0 | Q574: =+$E574*(1+H574)*(1-$O574) -> 8.2533587 | R574: =+$E574*(1+I574)*(1-$O574) -> 9.4674161 | S574: =+$E574*(1+J574)*(1-$O574) -> 7.3438521 | T574: =+$E574*(1+K574)*(1-$P574) -> 8.4550856 | U574: =+$E574*(1+L574)*(1-$P574) -> 10.420943 | V574: =+$E574*(1+M574)*(1-$P574) -> 7.3935514
A575: Roosevelt | B575: Production | C575: Miscellaneous Flaring | D575: CO2 | E575: 1717.4753 | F575: Miscellaneous Flaring | G575: Mix | H575: =IF(G575="Mix",'Growth Factors'!$N$7,(IF(G575="Oil",'Growth Factors'!$E$7,'Growth Factors'!$K$7))) -> 0.12321919 | I575: =IF(G575="Mix",'Growth Factors'!$O$7,(IF(G575="Oil",'Growth Factors'!$F$7,'Growth Factors'!$L$7))) -> 0.28844315 | J575: =IF(G575="Mix",'Growth Factors'!$P$7,(IF(G575="Oil",'Growth Factors'!$G$7,'Growth Factors'!$M$7))) -> -0.00055772089 | K575: =IF(G575="Mix",'Growth Factors'!$N$12,(IF(G575="Oil",'Growth Factors'!$E$12,'Growth Factors'!$K$12))) -> 0.15067268 | L575: =IF(G575="Mix",'Growth Factors'!$O$12,(IF(G575="Oil",'Growth Factors'!$F$12,'Growth Factors'!$L$12))) -> 0.41821083 | M575: =IF(G575="Mix",'Growth Factors'!$P$12,(IF(G575="Oil",'Growth Factors'!$G$12,'Growth Factors'!$M$12))) -> 0.0062059761 | N575: =VLOOKUP(A575,'Part 50 Counties'!$A$2:$B$34,2) -> No | O575: =(IF(N575="No",0,(IF(D575="CO2",0,(VLOOKUP(F575,'Rule Reductions'!$C$2:$E$75,2,FALSE)))))) -> 0 | P575: =(IF(N575="No",0,(IF(D575="CO2",0,(VLOOKUP(F575,'Rule Reductions'!$C$2:$E$75,3,FALSE)))))) -> 0 | Q575: =+$E575*(1+H575)*(1-$O575) -> 1929.1012 | R575: =+$E575*(1+I575)*(1-$O575) -> 2212.8692 | S575: =+$E575*(1+J575)*(1-$O575) -> 1716.5174 | T575: =+$E575*(1+K575)*(1-$P575) -> 1976.2519 | U575: =+$E575*(1+L575)*(1-$P575) -> 2435.742 | V575: =+$E575*(1+M575)*(1-$P575) -> 1728.1339
A576: San Juan | B576: G&B | C576: Miscellaneous Flaring | D576: CH4 | E576: 3.9288677 | F576: Miscellaneous Flaring | G576: Mix | H576: =IF(G576="Mix",'Growth Factors'!$N$7,(IF(G576="Oil",'Growth Factors'!$E$7,'Growth Factors'!$K$7))) -> 0.12321919 | I576: =IF(G576="Mix",'Growth Factors'!$O$7,(IF(G576="Oil",'Growth Factors'!$F$7,'Growth Factors'!$L$7))) -> 0.28844315 | J576: =IF(G576="Mix",'Growth Factors'!$P$7,(IF(G576="Oil",'Growth Factors'!$G$7,'Growth Factors'!$M$7))) -> -0.00055772089 | K576: =IF(G576="Mix",'Growth Factors'!$N$12,(IF(G576="Oil",'Growth Factors'!$E$12,'Growth Factors'!$K$12))) -> 0.15067268 | L576: =IF(G576="Mix",'Growth Factors'!$O$12,(IF(G576="Oil",'Growth Factors'!$F$12,'Growth Factors'!$L$12))) -> 0.41821083 | M576: =IF(G576="Mix",'Growth Factors'!$P$12,(IF(G576="Oil",'Growth Factors'!$G$12,'Growth Factors'!$M$12))) -> 0.0062059761 | N576: =VLOOKUP(A576,'Part 50 Counties'!$A$2:$B$34,2) -> Yes | O576: =(IF(N576="No",0,(IF(D576="CO2",0,(VLOOKUP(F576,'Rule Reductions'!$C$2:$E$75,2,FALSE)))))) -> 0 | P576: =(IF(N576="No",0,(IF(D576="CO2",0,(VLOOKUP(F576,'Rule Reductions'!$C$2:$E$75,3,FALSE)))))) -> 0 | Q576: =+$E576*(1+H576)*(1-$O576) -> 4.4129796 | R576: =+$E576*(1+I576)*(1-$O576) -> 5.0621227 | S576: =+$E576*(1+J576)*(1-$O576) -> 3.9266765 | T576: =+$E576*(1+K576)*(1-$P576) -> 4.5208407 | U576: =+$E576*(1+L576)*(1-$P576) -> 5.5719627 | V576: =+$E576*(1+M576)*(1-$P576) -> 3.9532502
A577: San Juan | B577: G&B | C577: Miscellaneous Flaring | D577: CO2 | E577: 1280.9864 | F577: Miscellaneous Flaring | G577: Mix | H577: =IF(G577="Mix",'Growth Factors'!$N$7,(IF(G577="Oil",'Growth Factors'!$E$7,'Growth Factors'!$K$7))) -> 0.12321919 | I577: =IF(G577="Mix",'Growth Factors'!$O$7,(IF(G577="Oil",'Growth Factors'!$F$7,'Growth Factors'!$L$7))) -> 0.28844315 | J577: =IF(G577="Mix",'Growth Factors'!$P$7,(IF(G577="Oil",'Growth Factors'!$G$7,'Growth Factors'!$M$7))) -> -0.00055772089 | K577: =IF(G577="Mix",'Growth Factors'!$N$12,(IF(G577="Oil",'Growth Factors'!$E$12,'Growth Factors'!$K$12))) -> 0.15067268 | L577: =IF(G577="Mix",'Growth Factors'!$O$12,(IF(G577="Oil",'Growth Factors'!$F$12,'Growth Factors'!$L$12))) -> 0.41821083 | M577: =IF(G577="Mix",'Growth Factors'!$P$12,(IF(G577="Oil",'Growth Factors'!$G$12,'Growth Factors'!$M$12))) -> 0.0062059761 | N577: =VLOOKUP(A577,'Part 50 Counties'!$A$2:$B$34,2) -> Yes | O577: =(IF(N577="No",0,(IF(D577="CO2",0,(VLOOKUP(F577,'Rule Reductions'!$C$2:$E$75,2,FALSE)))))) -> 0 | P577: =(IF(N577="No",0,(IF(D577="CO2",0,(VLOOKUP(F577,'Rule Reductions'!$C$2:$E$75,3,FALSE)))))) -> 0 | Q577: =+$E577*(1+H577)*(1-$O577) -> 1438.8285 | R577: =+$E577*(1+I577)*(1-$O577) -> 1650.4781 | S577: =+$E577*(1+J577)*(1-$O577) -> 1280.2719 | T577: =+$E577*(1+K577)*(1-$P577) -> 1473.996 | U577: =+$E577*(1+L577)*(1-$P577) -> 1816.7087 | V577: =+$E577*(1+M577)*(1-$P577) -> 1288.9361
A578: San Juan | B578: Production | C578: Miscellaneous Flaring | D578: CH4 | E578: 0.50536488 | F578: Miscellaneous Flaring | G578: Mix | H578: =IF(G578="Mix",'Growth Factors'!$N$7,(IF(G578="Oil",'Growth Factors'!$E$7,'Growth Factors'!$K$7))) -> 0.12321919 | I578: =IF(G578="Mix",'Growth Factors'!$O$7,(IF(G578="Oil",'Growth Factors'!$F$7,'Growth Factors'!$L$7))) -> 0.28844315 | J578: =IF(G578="Mix",'Growth Factors'!$P$7,(IF(G578="Oil",'Growth Factors'!$G$7,'Growth Factors'!$M$7))) -> -0.00055772089 | K578: =IF(G578="Mix",'Growth Factors'!$N$12,(IF(G578="Oil",'Growth Factors'!$E$12,'Growth Factors'!$K$12))) -> 0.15067268 | L578: =IF(G578="Mix",'Growth Factors'!$O$12,(IF(G578="Oil",'Growth Factors'!$F$12,'Growth Factors'!$L$12))) -> 0.41821083 | M578: =IF(G578="Mix",'Growth Factors'!$P$12,(IF(G578="Oil",'Growth Factors'!$G$12,'Growth Factors'!$M$12))) -> 0.0062059761 | N578: =VLOOKUP(A578,'Part 50 Counties'!$A$2:$B$34,2) -> Yes | O578: =(IF(N578="No",0,(IF(D578="CO2",0,(VLOOKUP(F578,'Rule Reductions'!$C$2:$E$75,2,FALSE)))))) -> 0 | P578: =(IF(N578="No",0,(IF(D578="CO2",0,(VLOOKUP(F578,'Rule Reductions'!$C$2:$E$75,3,FALSE)))))) -> 0 | Q578: =+$E578*(1+H578)*(1-$O578) -> 0.56763553 | R578: =+$E578*(1+I578)*(1-$O578) -> 0.65113391 | S578: =+$E578*(1+J578)*(1-$O578) -> 0.50508302 | T578: =+$E578*(1+K578)*(1-$P578) -> 0.58150956 | U578: =+$E578*(1+L578)*(1-$P578) -> 0.71671394 | V578: =+$E578*(1+M578)*(1-$P578) -> 0.50850116
A579: San Juan | B579: Production | C579: Miscellaneous Flaring | D579: CO2 | E579: 139.80231 | F579: Miscellaneous Flaring | G579: Mix | H579: =IF(G579="Mix",'Growth Factors'!$N$7,(IF(G579="Oil",'Growth Factors'!$E$7,'Growth Factors'!$K$7))) -> 0.12321919 | I579: =IF(G579="Mix",'Growth Factors'!$O$7,(IF(G579="Oil",'Growth Factors'!$F$7,'Growth Factors'!$L$7))) -> 0.28844315 | J579: =IF(G579="Mix",'Growth Factors'!$P$7,(IF(G579="Oil",'Growth Factors'!$G$7,'Growth Factors'!$M$7))) -> -0.00055772089 | K579: =IF(G579="Mix",'Growth Factors'!$N$12,(IF(G579="Oil",'Growth Factors'!$E$12,'Growth Factors'!$K$12))) -> 0.15067268 | L579: =IF(G579="Mix",'Growth Factors'!$O$12,(IF(G579="Oil",'Growth Factors'!$F$12,'Growth Factors'!$L$12))) -> 0.41821083 | M579: =IF(G579="Mix",'Growth Factors'!$P$12,(IF(G579="Oil",'Growth Factors'!$G$12,'Growth Factors'!$M$12))) -> 0.0062059761 | N579: =VLOOKUP(A579,'Part 50 Counties'!$A$2:$B$34,2) -> Yes | O579: =(IF(N579="No",0,(IF(D579="CO2",0,(VLOOKUP(F579,'Rule Reductions'!$C$2:$E$75,2,FALSE)))))) -> 0 | P579: =(IF(N579="No",0,(IF(D579="CO2",0,(VLOOKUP(F579,'Rule Reductions'!$C$2:$E$75,3,FALSE)))))) -> 0 | Q579: =+$E579*(1+H579)*(1-$O579) -> 157.02864 | R579: =+$E579*(1+I579)*(1-$O579) -> 180.12733 | S579: =+$E579*(1+J579)*(1-$O579) -> 139.72434 | T579: =+$E579*(1+K579)*(1-$P579) -> 160.8667 | U579: =+$E579*(1+L579)*(1-$P579) -> 198.26915 | V579: =+$E579*(1+M579)*(1-$P579) -> 140.66992
A580: Sandoval | B580: G&B | C580: Miscellaneous Flaring | D580: CH4 | E580: 0.043644355 | F580: Miscellaneous Flaring | G580: Mix | H580: =IF(G580="Mix",'Growth Factors'!$N$7,(IF(G580="Oil",'Growth Factors'!$E$7,'Growth Factors'!$K$7))) -> 0.12321919 | I580: =IF(G580="Mix",'Growth Factors'!$O$7,(IF(G580="Oil",'Growth Factors'!$F$7,'Growth Factors'!$L$7))) -> 0.28844315 | J580: =IF(G580="Mix",'Growth Factors'!$P$7,(IF(G580="Oil",'Growth Factors'!$G$7,'Growth Factors'!$M$7))) -> -0.00055772089 | K580: =IF(G580="Mix",'Growth Factors'!$N$12,(IF(G580="Oil",'Growth Factors'!$E$12,'Growth Factors'!$K$12))) -> 0.15067268 | L580: =IF(G580="Mix",'Growth Factors'!$O$12,(IF(G580="Oil",'Growth Factors'!$F$12,'Growth Factors'!$L$12))) -> 0.41821083 | M580: =IF(G580="Mix",'Growth Factors'!$P$12,(IF(G580="Oil",'Growth Factors'!$G$12,'Growth Factors'!$M$12))) -> 0.0062059761 | N580: =VLOOKUP(A580,'Part 50 Counties'!$A$2:$B$34,2) -> Yes | O580: =(IF(N580="No",0,(IF(D580="CO2",0,(VLOOKUP(F580,'Rule Reductions'!$C$2:$E$75,2,FALSE)))))) -> 0 | P580: =(IF(N580="No",0,(IF(D580="CO2",0,(VLOOKUP(F580,'Rule Reductions'!$C$2:$E$75,3,FALSE)))))) -> 0 | Q580: =+$E580*(1+H580)*(1-$O580) -> 0.049022177 | R580: =+$E580*(1+I580)*(1-$O580) -> 0.05623327 | S580: =+$E580*(1+J580)*(1-$O580) -> 0.043620014 | T580: =+$E580*(1+K580)*(1-$P580) -> 0.050220367 | U580: =+$E580*(1+L580)*(1-$P580) -> 0.061896897 | V580: =+$E580*(1+M580)*(1-$P580) -> 0.043915211
A581: Sandoval | B581: G&B | C581: Miscellaneous Flaring | D581: CO2 | E581: 14.276278 | F581: Miscellaneous Flaring | G581: Mix | H581: =IF(G581="Mix",'Growth Factors'!$N$7,(IF(G581="Oil",'Growth Factors'!$E$7,'Growth Factors'!$K$7))) -> 0.12321919 | I581: =IF(G581="Mix",'Growth Factors'!$O$7,(IF(G581="Oil",'Growth Factors'!$F$7,'Growth Factors'!$L$7))) -> 0.28844315 | J581: =IF(G581="Mix",'Growth Factors'!$P$7,(IF(G581="Oil",'Growth Factors'!$G$7,'Growth Factors'!$M$7))) -> -0.00055772089 | K581: =IF(G581="Mix",'Growth Factors'!$N$12,(IF(G581="Oil",'Growth Factors'!$E$12,'Growth Factors'!$K$12))) -> 0.15067268 | L581: =IF(G581="Mix",'Growth Factors'!$O$12,(IF(G581="Oil",'Growth Factors'!$F$12,'Growth Factors'!$L$12))) -> 0.41821083 | M581: =IF(G581="Mix",'Growth Factors'!$P$12,(IF(G581="Oil",'Growth Factors'!$G$12,'Growth Factors'!$M$12))) -> 0.0062059761 | N581: =VLOOKUP(A581,'Part 50 Counties'!$A$2:$B$34,2) -> Yes | O581: =(IF(N581="No",0,(IF(D581="CO2",0,(VLOOKUP(F581,'Rule Reductions'!$C$2:$E$75,2,FALSE)))))) -> 0 | P581: =(IF(N581="No",0,(IF(D581="CO2",0,(VLOOKUP(F581,'Rule Reductions'!$C$2:$E$75,3,FALSE)))))) -> 0 | Q581: =+$E581*(1+H581)*(1-$O581) -> 16.035389 | R581: =+$E581*(1+I581)*(1-$O581) -> 18.394172 | S581: =+$E581*(1+J581)*(1-$O581) -> 14.268315 | T581: =+$E581*(1+K581)*(1-$P581) -> 16.427323 | U581: =+$E581*(1+L581)*(1-$P581) -> 20.246772 | V581: =+$E581*(1+M581)*(1-$P581) -> 14.364876
A582: Sandoval | B582: Production | C582: Miscellaneous Flaring | D582: CH4 | E582: 0.22778483 | F582: Miscellaneous Flaring | G582: Mix | H582: =IF(G582="Mix",'Growth Factors'!$N$7,(IF(G582="Oil",'Growth Factors'!$E$7,'Growth Factors'!$K$7))) -> 0.12321919 | I582: =IF(G582="Mix",'Growth Factors'!$O$7,(IF(G582="Oil",'Growth Factors'!$F$7,'Growth Factors'!$L$7))) -> 0.28844315 | J582: =IF(G582="Mix",'Growth Factors'!$P$7,(IF(G582="Oil",'Growth Factors'!$G$7,'Growth Factors'!$M$7))) -> -0.00055772089 | K582: =IF(G582="Mix",'Growth Factors'!$N$12,(IF(G582="Oil",'Growth Factors'!$E$12,'Growth Factors'!$K$12))) -> 0.15067268 | L582: =IF(G582="Mix",'Growth Factors'!$O$12,(IF(G582="Oil",'Growth Factors'!$F$12,'Growth Factors'!$L$12))) -> 0.41821083 | M582: =IF(G582="Mix",'Growth Factors'!$P$12,(IF(G582="Oil",'Growth Factors'!$G$12,'Growth Factors'!$M$12))) -> 0.0062059761 | N582: =VLOOKUP(A582,'Part 50 Counties'!$A$2:$B$34,2) -> Yes | O582: =(IF(N582="No",0,(IF(D582="CO2",0,(VLOOKUP(F582,'Rule Reductions'!$C$2:$E$75,2,FALSE)))))) -> 0 | P582: =(IF(N582="No",0,(IF(D582="CO2",0,(VLOOKUP(F582,'Rule Reductions'!$C$2:$E$75,3,FALSE)))))) -> 0 | Q582: =+$E582*(1+H582)*(1-$O582) -> 0.2558523 | R582: =+$E582*(1+I582)*(1-$O582) -> 0.29348781 | S582: =+$E582*(1+J582)*(1-$O582) -> 0.22765779 | T582: =+$E582*(1+K582)*(1-$P582) -> 0.26210579 | U582: =+$E582*(1+L582)*(1-$P582) -> 0.32304692 | V582: =+$E582*(1+M582)*(1-$P582) -> 0.22919846
A583: Sandoval | B583: Production | C583: Miscellaneous Flaring | D583: CO2 | E583: 65.535095 | F583: Miscellaneous Flaring | G583: Mix | H583: =IF(G583="Mix",'Growth Factors'!$N$7,(IF(G583="Oil",'Growth Factors'!$E$7,'Growth Factors'!$K$7))) -> 0.12321919 | I583: =IF(G583="Mix",'Growth Factors'!$O$7,(IF(G583="Oil",'Growth Factors'!$F$7,'Growth Factors'!$L$7))) -> 0.28844315 | J583: =IF(G583="Mix",'Growth Factors'!$P$7,(IF(G583="Oil",'Growth Factors'!$G$7,'Growth Factors'!$M$7))) -> -0.00055772089 | K583: =IF(G583="Mix",'Growth Factors'!$N$12,(IF(G583="Oil",'Growth Factors'!$E$12,'Growth Factors'!$K$12))) -> 0.15067268 | L583: =IF(G583="Mix",'Growth Factors'!$O$12,(IF(G583="Oil",'Growth Factors'!$F$12,'Growth Factors'!$L$12))) -> 0.41821083 | M583: =IF(G583="Mix",'Growth Factors'!$P$12,(IF(G583="Oil",'Growth Factors'!$G$12,'Growth Factors'!$M$12))) -> 0.0062059761 | N583: =VLOOKUP(A583,'Part 50 Counties'!$A$2:$B$34,2) -> Yes | O583: =(IF(N583="No",0,(IF(D583="CO2",0,(VLOOKUP(F583,'Rule Reductions'!$C$2:$E$75,2,FALSE)))))) -> 0 | P583: =(IF(N583="No",0,(IF(D583="CO2",0,(VLOOKUP(F583,'Rule Reductions'!$C$2:$E$75,3,FALSE)))))) -> 0 | Q583: =+$E583*(1+H583)*(1-$O583) -> 73.610277 | R583: =+$E583*(1+I583)*(1-$O583) -> 84.438245 | S583: =+$E583*(1+J583)*(1-$O583) -> 65.498545 | T583: =+$E583*(1+K583)*(1-$P583) -> 75.409444 | U583: =+$E583*(1+L583)*(1-$P583) -> 92.942582 | V583: =+$E583*(1+M583)*(1-$P583) -> 65.941805
... A626: Union | B626: Production | C626: Non-HF Workovers | D626: CH4 | E626: 0.40985063 | F626: Non-HF Workovers | G626: Mix | H626: =IF(G626="Mix",'Growth Factors'!$N$7,(IF(G626="Oil",'Growth Factors'!$E$7,'Growth Factors'!$K$7))) -> 0.12321919 | I626: =IF(G626="Mix",'Growth Factors'!$O$7,(IF(G626="Oil",'Growth Factors'!$F$7,'Growth Factors'!$L$7))) -> 0.28844315 | J626: =IF(G626="Mix",'Growth Factors'!$P$7,(IF(G626="Oil",'Growth Factors'!$G$7,'Growth Factors'!$M$7))) -> -0.00055772089 | K626: =IF(G626="Mix",'Growth Factors'!$N$12,(IF(G626="Oil",'Growth Factors'!$E$12,'Growth Factors'!$K$12))) -> 0.15067268 | L626: =IF(G626="Mix",'Growth Factors'!$O$12,(IF(G626="Oil",'Growth Factors'!$F$12,'Growth Factors'!$L$12))) -> 0.41821083 | M626: =IF(G626="Mix",'Growth Factors'!$P$12,(IF(G626="Oil",'Growth Factors'!$G$12,'Growth Factors'!$M$12))) -> 0.0062059761 | N626: =VLOOKUP(A626,'Part 50 Counties'!$A$2:$B$34,2) -> No | O626: =(IF(N626="No",0,(IF(D626="CO2",0,(VLOOKUP(F626,'Rule Reductions'!$C$2:$E$75,2,FALSE)))))) -> 0 | P626: =(IF(N626="No",0,(IF(D626="CO2",0,(VLOOKUP(F626,'Rule Reductions'!$C$2:$E$75,3,FALSE)))))) -> 0 | Q626: =+$E626*(1+H626)*(1-$O626) -> 0.46035209 | R626: =+$E626*(1+I626)*(1-$O626) -> 0.52806923 | S626: =+$E626*(1+J626)*(1-$O626) -> 0.40962205 | T626: =+$E626*(1+K626)*(1-$P626) -> 0.47160392 | U626: =+$E626*(1+L626)*(1-$P626) -> 0.5812546 | V626: =+$E626*(1+M626)*(1-$P626) -> 0.41239415
A627: Union | B627: Production | C627: Non-HF Workovers | D627: CO2 | E627: 0.055779503 | F627: Non-HF Workovers | G627: Mix | H627: =IF(G627="Mix",'Growth Factors'!$N$7,(IF(G627="Oil",'Growth Factors'!$E$7,'Growth Factors'!$K$7))) -> 0.12321919 | I627: =IF(G627="Mix",'Growth Factors'!$O$7,(IF(G627="Oil",'Growth Factors'!$F$7,'Growth Factors'!$L$7))) -> 0.28844315 | J627: =IF(G627="Mix",'Growth Factors'!$P$7,(IF(G627="Oil",'Growth Factors'!$G$7,'Growth Factors'!$M$7))) -> -0.00055772089 | K627: =IF(G627="Mix",'Growth Factors'!$N$12,(IF(G627="Oil",'Growth Factors'!$E$12,'Growth Factors'!$K$12))) -> 0.15067268 | L627: =IF(G627="Mix",'Growth Factors'!$O$12,(IF(G627="Oil",'Growth Factors'!$F$12,'Growth Factors'!$L$12))) -> 0.41821083 | M627: =IF(G627="Mix",'Growth Factors'!$P$12,(IF(G627="Oil",'Growth Factors'!$G$12,'Growth Factors'!$M$12))) -> 0.0062059761 | N627: =VLOOKUP(A627,'Part 50 Counties'!$A$2:$B$34,2) -> No | O627: 0.95 | P627: 0.95 | Q627: =+$E627*(1+H627)*(1-$O627) -> 0.0031326304 | R627: =+$E627*(1+I627)*(1-$O627) -> 0.003593436 | S627: =+$E627*(1+J627)*(1-$O627) -> 0.0027874197 | T627: =+$E627*(1+K627)*(1-$P627) -> 0.0032091975 | U627: =+$E627*(1+L627)*(1-$P627) -> 0.0039553548 | V627: =+$E627*(1+M627)*(1-$P627) -> 0.0028062835
A628: Bernalillo | B628: Transmission | C628: Pipeline Blowdowns | D628: CH4 | E628: 78.588776 | F628: Pipeline Blowdowns | G628: Gas | H628: =IF(G628="Mix",'Growth Factors'!$N$7,(IF(G628="Oil",'Growth Factors'!$E$7,'Growth Factors'!$K$7))) -> 0.089570563 | I628: =IF(G628="Mix",'Growth Factors'!$O$7,(IF(G628="Oil",'Growth Factors'!$F$7,'Growth Factors'!$L$7))) -> 0.14741463 | J628: =IF(G628="Mix",'Growth Factors'!$P$7,(IF(G628="Oil",'Growth Factors'!$G$7,'Growth Factors'!$M$7))) -> -0.009784634 | K628: =IF(G628="Mix",'Growth Factors'!$N$12,(IF(G628="Oil",'Growth Factors'!$E$12,'Growth Factors'!$K$12))) -> 0.1235404 | L628: =IF(G628="Mix",'Growth Factors'!$O$12,(IF(G628="Oil",'Growth Factors'!$F$12,'Growth Factors'!$L$12))) -> 0.23183777 | M628: =IF(G628="Mix",'Growth Factors'!$P$12,(IF(G628="Oil",'Growth Factors'!$G$12,'Growth Factors'!$M$12))) -> 0.027241295 | N628: =VLOOKUP(A628,'Part 50 Counties'!$A$2:$B$34,2) -> No | O628: =(IF(N628="No",0,(IF(D628="CO2",0,(VLOOKUP(F628,'Rule Reductions'!$C$2:$E$75,2,FALSE)))))) -> 0 | P628: =(IF(N628="No",0,(IF(D628="CO2",0,(VLOOKUP(F628,'Rule Reductions'!$C$2:$E$75,3,FALSE)))))) -> 0 | Q628: =+$E628*(1+H628)*(1-$O628) -> 85.628017 | R628: =+$E628*(1+I628)*(1-$O628) -> 90.173912 | S628: =+$E628*(1+J628)*(1-$O628) -> 77.819814 | T628: =+$E628*(1+K628)*(1-$P628) -> 88.297665 | U628: =+$E628*(1+L628)*(1-$P628) -> 96.808623 | V628: =+$E628*(1+M628)*(1-$P628) -> 80.729636
A629: Bernalillo | B629: Transmission | C629: Pipeline Blowdowns | D629: CO2 | E629: 2.266499 | F629: Pipeline Blowdowns | G629: Gas | H629: =IF(G629="Mix",'Growth Factors'!$N$7,(IF(G629="Oil",'Growth Factors'!$E$7,'Growth Factors'!$K$7))) -> 0.089570563 | I629: =IF(G629="Mix",'Growth Factors'!$O$7,(IF(G629="Oil",'Growth Factors'!$F$7,'Growth Factors'!$L$7))) -> 0.14741463 | J629: =IF(G629="Mix",'Growth Factors'!$P$7,(IF(G629="Oil",'Growth Factors'!$G$7,'Growth Factors'!$M$7))) -> -0.009784634 | K629: =IF(G629="Mix",'Growth Factors'!$N$12,(IF(G629="Oil",'Growth Factors'!$E$12,'Growth Factors'!$K$12))) -> 0.1235404 | L629: =IF(G629="Mix",'Growth Factors'!$O$12,(IF(G629="Oil",'Growth Factors'!$F$12,'Growth Factors'!$L$12))) -> 0.23183777 | M629: =IF(G629="Mix",'Growth Factors'!$P$12,(IF(G629="Oil",'Growth Factors'!$G$12,'Growth Factors'!$M$12))) -> 0.027241295 | N629: =VLOOKUP(A629,'Part 50 Counties'!$A$2:$B$34,2) -> No | O629: =(IF(N629="No",0,(IF(D629="CO2",0,(VLOOKUP(F629,'Rule Reductions'!$C$2:$E$75,2,FALSE)))))) -> 0 | P629: =(IF(N629="No",0,(IF(D629="CO2",0,(VLOOKUP(F629,'Rule Reductions'!$C$2:$E$75,3,FALSE)))))) -> 0 | Q629: =+$E629*(1+H629)*(1-$O629) -> 2.4695105 | R629: =+$E629*(1+I629)*(1-$O629) -> 2.6006141 | S629: =+$E629*(1+J629)*(1-$O629) -> 2.2443221 | T629: =+$E629*(1+K629)*(1-$P629) -> 2.5465031 | U629: =+$E629*(1+L629)*(1-$P629) -> 2.791959 | V629: =+$E629*(1+M629)*(1-$P629) -> 2.3282413
A630: Catron | B630: Transmission | C630: Pipeline Blowdowns | D630: CH4 | E630: 0 | F630: Pipeline Blowdowns | G630: Gas | H630: =IF(G630="Mix",'Growth Factors'!$N$7,(IF(G630="Oil",'Growth Factors'!$E$7,'Growth Factors'!$K$7))) -> 0.089570563 | I630: =IF(G630="Mix",'Growth Factors'!$O$7,(IF(G630="Oil",'Growth Factors'!$F$7,'Growth Factors'!$L$7))) -> 0.14741463 | J630: =IF(G630="Mix",'Growth Factors'!$P$7,(IF(G630="Oil",'Growth Factors'!$G$7,'Growth Factors'!$M$7))) -> -0.009784634 | K630: =IF(G630="Mix",'Growth Factors'!$N$12,(IF(G630="Oil",'Growth Factors'!$E$12,'Growth Factors'!$K$12))) -> 0.1235404 | L630: =IF(G630="Mix",'Growth Factors'!$O$12,(IF(G630="Oil",'Growth Factors'!$F$12,'Growth Factors'!$L$12))) -> 0.23183777 | M630: =IF(G630="Mix",'Growth Factors'!$P$12,(IF(G630="Oil",'Growth Factors'!$G$12,'Growth Factors'!$M$12))) -> 0.027241295 | N630: =VLOOKUP(A630,'Part 50 Counties'!$A$2:$B$34,2) -> No | O630: =(IF(N630="No",0,(IF(D630="CO2",0,(VLOOKUP(F630,'Rule Reductions'!$C$2:$E$75,2,FALSE)))))) -> 0 | P630: =(IF(N630="No",0,(IF(D630="CO2",0,(VLOOKUP(F630,'Rule Reductions'!$C$2:$E$75,3,FALSE)))))) -> 0 | Q630: =+$E630*(1+H630)*(1-$O630) -> 0 | R630: =+$E630*(1+I630)*(1-$O630) -> 0 | S630: =+$E630*(1+J630)*(1-$O630) -> 0 | T630: =+$E630*(1+K630)*(1-$P630) -> 0 | U630: =+$E630*(1+L630)*(1-$P630) -> 0 | V630: =+$E630*(1+M630)*(1-$P630) -> 0
A631: Catron | B631: Transmission | C631: Pipeline Blowdowns | D631: CO2 | E631: 0 | F631: Pipeline Blowdowns | G631: Gas | H631: =IF(G631="Mix",'Growth Factors'!$N$7,(IF(G631="Oil",'Growth Factors'!$E$7,'Growth Factors'!$K$7))) -> 0.089570563 | I631: =IF(G631="Mix",'Growth Factors'!$O$7,(IF(G631="Oil",'Growth Factors'!$F$7,'Growth Factors'!$L$7))) -> 0.14741463 | J631: =IF(G631="Mix",'Growth Factors'!$P$7,(IF(G631="Oil",'Growth Factors'!$G$7,'Growth Factors'!$M$7))) -> -0.009784634 | K631: =IF(G631="Mix",'Growth Factors'!$N$12,(IF(G631="Oil",'Growth Factors'!$E$12,'Growth Factors'!$K$12))) -> 0.1235404 | L631: =IF(G631="Mix",'Growth Factors'!$O$12,(IF(G631="Oil",'Growth Factors'!$F$12,'Growth Factors'!$L$12))) -> 0.23183777 | M631: =IF(G631="Mix",'Growth Factors'!$P$12,(IF(G631="Oil",'Growth Factors'!$G$12,'Growth Factors'!$M$12))) -> 0.027241295 | N631: =VLOOKUP(A631,'Part 50 Counties'!$A$2:$B$34,2) -> No | O631: =(IF(N631="No",0,(IF(D631="CO2",0,(VLOOKUP(F631,'Rule Reductions'!$C$2:$E$75,2,FALSE)))))) -> 0 | P631: =(IF(N631="No",0,(IF(D631="CO2",0,(VLOOKUP(F631,'Rule Reductions'!$C$2:$E$75,3,FALSE)))))) -> 0 | Q631: =+$E631*(1+H631)*(1-$O631) -> 0 | R631: =+$E631*(1+I631)*(1-$O631) -> 0 | S631: =+$E631*(1+J631)*(1-$O631) -> 0 | T631: =+$E631*(1+K631)*(1-$P631) -> 0 | U631: =+$E631*(1+L631)*(1-$P631) -> 0 | V631: =+$E631*(1+M631)*(1-$P631) -> 0
A632: Chaves | B632: G&B | C632: Pipeline Blowdowns | D632: CH4 | E632: 5.5883673 | F632: Pipeline Blowdowns | G632: Gas | H632: =IF(G632="Mix",'Growth Factors'!$N$7,(IF(G632="Oil",'Growth Factors'!$E$7,'Growth Factors'!$K$7))) -> 0.089570563 | I632: =IF(G632="Mix",'Growth Factors'!$O$7,(IF(G632="Oil",'Growth Factors'!$F$7,'Growth Factors'!$L$7))) -> 0.14741463 | J632: =IF(G632="Mix",'Growth Factors'!$P$7,(IF(G632="Oil",'Growth Factors'!$G$7,'Growth Factors'!$M$7))) -> -0.009784634 | K632: =IF(G632="Mix",'Growth Factors'!$N$12,(IF(G632="Oil",'Growth Factors'!$E$12,'Growth Factors'!$K$12))) -> 0.1235404 | L632: =IF(G632="Mix",'Growth Factors'!$O$12,(IF(G632="Oil",'Growth Factors'!$F$12,'Growth Factors'!$L$12))) -> 0.23183777 | M632: =IF(G632="Mix",'Growth Factors'!$P$12,(IF(G632="Oil",'Growth Factors'!$G$12,'Growth Factors'!$M$12))) -> 0.027241295 | N632: =VLOOKUP(A632,'Part 50 Counties'!$A$2:$B$34,2) -> Yes | O632: =(IF(N632="No",0,(IF(D632="CO2",0,(VLOOKUP(F632,'Rule Reductions'!$C$2:$E$75,2,FALSE)))))) -> 0 | P632: =(IF(N632="No",0,(IF(D632="CO2",0,(VLOOKUP(F632,'Rule Reductions'!$C$2:$E$75,3,FALSE)))))) -> 0 | Q632: =+$E632*(1+H632)*(1-$O632) -> 6.0889205 | R632: =+$E632*(1+I632)*(1-$O632) -> 6.4121744 | S632: =+$E632*(1+J632)*(1-$O632) -> 5.5336872 | T632: =+$E632*(1+K632)*(1-$P632) -> 6.2787564 | U632: =+$E632*(1+L632)*(1-$P632) -> 6.8839619 | V632: =+$E632*(1+M632)*(1-$P632) -> 5.7406017
A633: Chaves | B633: G&B | C633: Pipeline Blowdowns | D633: CO2 | E633: 0.0101875 | F633: Pipeline Blowdowns | G633: Gas | H633: =IF(G633="Mix",'Growth Factors'!$N$7,(IF(G633="Oil",'Growth Factors'!$E$7,'Growth Factors'!$K$7))) -> 0.089570563 | I633: =IF(G633="Mix",'Growth Factors'!$O$7,(IF(G633="Oil",'Growth Factors'!$F$7,'Growth Factors'!$L$7))) -> 0.14741463 | J633: =IF(G633="Mix",'Growth Factors'!$P$7,(IF(G633="Oil",'Growth Factors'!$G$7,'Growth Factors'!$M$7))) -> -0.009784634 | K633: =IF(G633="Mix",'Growth Factors'!$N$12,(IF(G633="Oil",'Growth Factors'!$E$12,'Growth Factors'!$K$12))) -> 0.1235404 | L633: =IF(G633="Mix",'Growth Factors'!$O$12,(IF(G633="Oil",'Growth Factors'!$F$12,'Growth Factors'!$L$12))) -> 0.23183777 | M633: =IF(G633="Mix",'Growth Factors'!$P$12,(IF(G633="Oil",'Growth Factors'!$G$12,'Growth Factors'!$M$12))) -> 0.027241295 | N633: =VLOOKUP(A633,'Part 50 Counties'!$A$2:$B$34,2) -> Yes | O633: =(IF(N633="No",0,(IF(D633="CO2",0,(VLOOKUP(F633,'Rule Reductions'!$C$2:$E$75,2,FALSE)))))) -> 0 | P633: =(IF(N633="No",0,(IF(D633="CO2",0,(VLOOKUP(F633,'Rule Reductions'!$C$2:$E$75,3,FALSE)))))) -> 0 | Q633: =+$E633*(1+H633)*(1-$O633) -> 0.0111 | R633: =+$E633*(1+I633)*(1-$O633) -> 0.011689287 | S633: =+$E633*(1+J633)*(1-$O633) -> 0.010087819 | T633: =+$E633*(1+K633)*(1-$P633) -> 0.011446068 | U633: =+$E633*(1+L633)*(1-$P633) -> 0.012549347 | V633: =+$E633*(1+M633)*(1-$P633) -> 0.010465021
A634: Chaves | B634: Transmission | C634: Pipeline Blowdowns | D634: CH4 | E634: 251.13125 | F634: Pipeline Blowdowns | G634: Gas | H634: =IF(G634="Mix",'Growth Factors'!$N$7,(IF(G634="Oil",'Growth Factors'!$E$7,'Growth Factors'!$K$7))) -> 0.089570563 | I634: =IF(G634="Mix",'Growth Factors'!$O$7,(IF(G634="Oil",'Growth Factors'!$F$7,'Growth Factors'!$L$7))) -> 0.14741463 | J634: =IF(G634="Mix",'Growth Factors'!$P$7,(IF(G634="Oil",'Growth Factors'!$G$7,'Growth Factors'!$M$7))) -> -0.009784634 | K634: =IF(G634="Mix",'Growth Factors'!$N$12,(IF(G634="Oil",'Growth Factors'!$E$12,'Growth Factors'!$K$12))) -> 0.1235404 | L634: =IF(G634="Mix",'Growth Factors'!$O$12,(IF(G634="Oil",'Growth Factors'!$F$12,'Growth Factors'!$L$12))) -> 0.23183777 | M634: =IF(G634="Mix",'Growth Factors'!$P$12,(IF(G634="Oil",'Growth Factors'!$G$12,'Growth Factors'!$M$12))) -> 0.027241295 | N634: =VLOOKUP(A634,'Part 50 Counties'!$A$2:$B$34,2) -> Yes | O634: =(IF(N634="No",0,(IF(D634="CO2",0,(VLOOKUP(F634,'Rule Reductions'!$C$2:$E$75,2,FALSE)))))) -> 0 | P634: =(IF(N634="No",0,(IF(D634="CO2",0,(VLOOKUP(F634,'Rule Reductions'!$C$2:$E$75,3,FALSE)))))) -> 0 | Q634: =+$E634*(1+H634)*(1-$O634) -> 273.62522 | R634: =+$E634*(1+I634)*(1-$O634) -> 288.15167 | S634: =+$E634*(1+J634)*(1-$O634) -> 248.67402 | T634: =+$E634*(1+K634)*(1-$P634) -> 282.1561 | U634: =+$E634*(1+L634)*(1-$P634) -> 309.35296 | V634: =+$E634*(1+M634)*(1-$P634) -> 257.97239
A635: Chaves | B635: Transmission | C635: Pipeline Blowdowns | D635: CO2 | E635: 7.2426209 | F635: Pipeline Blowdowns | G635: Gas | H635: =IF(G635="Mix",'Growth Factors'!$N$7,(IF(G635="Oil",'Growth Factors'!$E$7,'Growth Factors'!$K$7))) -> 0.089570563 | I635: =IF(G635="Mix",'Growth Factors'!$O$7,(IF(G635="Oil",'Growth Factors'!$F$7,'Growth Factors'!$L$7))) -> 0.14741463 | J635: =IF(G635="Mix",'Growth Factors'!$P$7,(IF(G635="Oil",'Growth Factors'!$G$7,'Growth Factors'!$M$7))) -> -0.009784634 | K635: =IF(G635="Mix",'Growth Factors'!$N$12,(IF(G635="Oil",'Growth Factors'!$E$12,'Growth Factors'!$K$12))) -> 0.1235404 | L635: =IF(G635="Mix",'Growth Factors'!$O$12,(IF(G635="Oil",'Growth Factors'!$F$12,'Growth Factors'!$L$12))) -> 0.23183777 | M635: =IF(G635="Mix",'Growth Factors'!$P$12,(IF(G635="Oil",'Growth Factors'!$G$12,'Growth Factors'!$M$12))) -> 0.027241295 | N635: =VLOOKUP(A635,'Part 50 Counties'!$A$2:$B$34,2) -> Yes | O635: =(IF(N635="No",0,(IF(D635="CO2",0,(VLOOKUP(F635,'Rule Reductions'!$C$2:$E$75,2,FALSE)))))) -> 0 | P635: =(IF(N635="No",0,(IF(D635="CO2",0,(VLOOKUP(F635,'Rule Reductions'!$C$2:$E$75,3,FALSE)))))) -> 0 | Q635: =+$E635*(1+H635)*(1-$O635) -> 7.8913465 | R635: =+$E635*(1+I635)*(1-$O635) -> 8.3102892 | S635: =+$E635*(1+J635)*(1-$O635) -> 7.1717545 | T635: =+$E635*(1+K635)*(1-$P635) -> 8.1373772 | U635: =+$E635*(1+L635)*(1-$P635) -> 8.921734 | V635: =+$E635*(1+M635)*(1-$P635) -> 7.4399193
A636: Cibola | B636: Transmission | C636: Pipeline Blowdowns | D636: CH4 | E636: 100.25911 | F636: Pipeline Blowdowns | G636: Gas | H636: =IF(G636="Mix",'Growth Factors'!$N$7,(IF(G636="Oil",'Growth Factors'!$E$7,'Growth Factors'!$K$7))) -> 0.089570563 | I636: =IF(G636="Mix",'Growth Factors'!$O$7,(IF(G636="Oil",'Growth Factors'!$F$7,'Growth Factors'!$L$7))) -> 0.14741463 | J636: =IF(G636="Mix",'Growth Factors'!$P$7,(IF(G636="Oil",'Growth Factors'!$G$7,'Growth Factors'!$M$7))) -> -0.009784634 | K636: =IF(G636="Mix",'Growth Factors'!$N$12,(IF(G636="Oil",'Growth Factors'!$E$12,'Growth Factors'!$K$12))) -> 0.1235404 | L636: =IF(G636="Mix",'Growth Factors'!$O$12,(IF(G636="Oil",'Growth Factors'!$F$12,'Growth Factors'!$L$12))) -> 0.23183777 | M636: =IF(G636="Mix",'Growth Factors'!$P$12,(IF(G636="Oil",'Growth Factors'!$G$12,'Growth Factors'!$M$12))) -> 0.027241295 | N636: =VLOOKUP(A636,'Part 50 Counties'!$A$2:$B$34,2) -> No | O636: =(IF(N636="No",0,(IF(D636="CO2",0,(VLOOKUP(F636,'Rule Reductions'!$C$2:$E$75,2,FALSE)))))) -> 0 | P636: =(IF(N636="No",0,(IF(D636="CO2",0,(VLOOKUP(F636,'Rule Reductions'!$C$2:$E$75,3,FALSE)))))) -> 0 | Q636: =+$E636*(1+H636)*(1-$O636) -> 109.23938 | R636: =+$E636*(1+I636)*(1-$O636) -> 115.03877 | S636: =+$E636*(1+J636)*(1-$O636) -> 99.278114 | T636: =+$E636*(1+K636)*(1-$P636) -> 112.64516 | U636: =+$E636*(1+L636)*(1-$P636) -> 123.50296 | V636: =+$E636*(1+M636)*(1-$P636) -> 102.9903
A637: Cibola | B637: Transmission | C637: Pipeline Blowdowns | D637: CO2 | E637: 2.8914711 | F637: Pipeline Blowdowns | G637: Gas | H637: =IF(G637="Mix",'Growth Factors'!$N$7,(IF(G637="Oil",'Growth Factors'!$E$7,'Growth Factors'!$K$7))) -> 0.089570563 | I637: =IF(G637="Mix",'Growth Factors'!$O$7,(IF(G637="Oil",'Growth Factors'!$F$7,'Growth Factors'!$L$7))) -> 0.14741463 | J637: =IF(G637="Mix",'Growth Factors'!$P$7,(IF(G637="Oil",'Growth Factors'!$G$7,'Growth Factors'!$M$7))) -> -0.009784634 | K637: =IF(G637="Mix",'Growth Factors'!$N$12,(IF(G637="Oil",'Growth Factors'!$E$12,'Growth Factors'!$K$12))) -> 0.1235404 | L637: =IF(G637="Mix",'Growth Factors'!$O$12,(IF(G637="Oil",'Growth Factors'!$F$12,'Growth Factors'!$L$12))) -> 0.23183777 | M637: =IF(G637="Mix",'Growth Factors'!$P$12,(IF(G637="Oil",'Growth Factors'!$G$12,'Growth Factors'!$M$12))) -> 0.027241295 | N637: =VLOOKUP(A637,'Part 50 Counties'!$A$2:$B$34,2) -> No | O637: =(IF(N637="No",0,(IF(D637="CO2",0,(VLOOKUP(F637,'Rule Reductions'!$C$2:$E$75,2,FALSE)))))) -> 0 | P637: =(IF(N637="No",0,(IF(D637="CO2",0,(VLOOKUP(F637,'Rule Reductions'!$C$2:$E$75,3,FALSE)))))) -> 0 | Q637: =+$E637*(1+H637)*(1-$O637) -> 3.1504618 | R637: =+$E637*(1+I637)*(1-$O637) -> 3.3177162 | S637: =+$E637*(1+J637)*(1-$O637) -> 2.8631791 | T637: =+$E637*(1+K637)*(1-$P637) -> 3.2486846 | U637: =+$E637*(1+L637)*(1-$P637) -> 3.5618233 | V637: =+$E637*(1+M637)*(1-$P637) -> 2.9702385
A638: Colfax | B638: G&B | C638: Pipeline Blowdowns | D638: CH4 | E638: 0 | F638: Pipeline Blowdowns | G638: Gas | H638: =IF(G638="Mix",'Growth Factors'!$N$7,(IF(G638="Oil",'Growth Factors'!$E$7,'Growth Factors'!$K$7))) -> 0.089570563 | I638: =IF(G638="Mix",'Growth Factors'!$O$7,(IF(G638="Oil",'Growth Factors'!$F$7,'Growth Factors'!$L$7))) -> 0.14741463 | J638: =IF(G638="Mix",'Growth Factors'!$P$7,(IF(G638="Oil",'Growth Factors'!$G$7,'Growth Factors'!$M$7))) -> -0.009784634 | K638: =IF(G638="Mix",'Growth Factors'!$N$12,(IF(G638="Oil",'Growth Factors'!$E$12,'Growth Factors'!$K$12))) -> 0.1235404 | L638: =IF(G638="Mix",'Growth Factors'!$O$12,(IF(G638="Oil",'Growth Factors'!$F$12,'Growth Factors'!$L$12))) -> 0.23183777 | M638: =IF(G638="Mix",'Growth Factors'!$P$12,(IF(G638="Oil",'Growth Factors'!$G$12,'Growth Factors'!$M$12))) -> 0.027241295 | N638: =VLOOKUP(A638,'Part 50 Counties'!$A$2:$B$34,2) -> No | O638: =(IF(N638="No",0,(IF(D638="CO2",0,(VLOOKUP(F638,'Rule Reductions'!$C$2:$E$75,2,FALSE)))))) -> 0 | P638: =(IF(N638="No",0,(IF(D638="CO2",0,(VLOOKUP(F638,'Rule Reductions'!$C$2:$E$75,3,FALSE)))))) -> 0 | Q638: =+$E638*(1+H638)*(1-$O638) -> 0 | R638: =+$E638*(1+I638)*(1-$O638) -> 0 | S638: =+$E638*(1+J638)*(1-$O638) -> 0 | T638: =+$E638*(1+K638)*(1-$P638) -> 0 | U638: =+$E638*(1+L638)*(1-$P638) -> 0 | V638: =+$E638*(1+M638)*(1-$P638) -> 0
A639: Colfax | B639: G&B | C639: Pipeline Blowdowns | D639: CO2 | E639: 0 | F639: Pipeline Blowdowns | G639: Gas | H639: =IF(G639="Mix",'Growth Factors'!$N$7,(IF(G639="Oil",'Growth Factors'!$E$7,'Growth Factors'!$K$7))) -> 0.089570563 | I639: =IF(G639="Mix",'Growth Factors'!$O$7,(IF(G639="Oil",'Growth Factors'!$F$7,'Growth Factors'!$L$7))) -> 0.14741463 | J639: =IF(G639="Mix",'Growth Factors'!$P$7,(IF(G639="Oil",'Growth Factors'!$G$7,'Growth Factors'!$M$7))) -> -0.009784634 | K639: =IF(G639="Mix",'Growth Factors'!$N$12,(IF(G639="Oil",'Growth Factors'!$E$12,'Growth Factors'!$K$12))) -> 0.1235404 | L639: =IF(G639="Mix",'Growth Factors'!$O$12,(IF(G639="Oil",'Growth Factors'!$F$12,'Growth Factors'!$L$12))) -> 0.23183777 | M639: =IF(G639="Mix",'Growth Factors'!$P$12,(IF(G639="Oil",'Growth Factors'!$G$12,'Growth Factors'!$M$12))) -> 0.027241295 | N639: =VLOOKUP(A639,'Part 50 Counties'!$A$2:$B$34,2) -> No | O639: =(IF(N639="No",0,(IF(D639="CO2",0,(VLOOKUP(F639,'Rule Reductions'!$C$2:$E$75,2,FALSE)))))) -> 0 | P639: =(IF(N639="No",0,(IF(D639="CO2",0,(VLOOKUP(F639,'Rule Reductions'!$C$2:$E$75,3,FALSE)))))) -> 0 | Q639: =+$E639*(1+H639)*(1-$O639) -> 0 | R639: =+$E639*(1+I639)*(1-$O639) -> 0 | S639: =+$E639*(1+J639)*(1-$O639) -> 0 | T639: =+$E639*(1+K639)*(1-$P639) -> 0 | U639: =+$E639*(1+L639)*(1-$P639) -> 0 | V639: =+$E639*(1+M639)*(1-$P639) -> 0
... A686: San Juan | B686: G&B | C686: Pipeline Blowdowns | D686: CH4 | E686: 0 | F686: Pipeline Blowdowns | G686: Gas | H686: =IF(G686="Mix",'Growth Factors'!$N$7,(IF(G686="Oil",'Growth Factors'!$E$7,'Growth Factors'!$K$7))) -> 0.089570563 | I686: =IF(G686="Mix",'Growth Factors'!$O$7,(IF(G686="Oil",'Growth Factors'!$F$7,'Growth Factors'!$L$7))) -> 0.14741463 | J686: =IF(G686="Mix",'Growth Factors'!$P$7,(IF(G686="Oil",'Growth Factors'!$G$7,'Growth Factors'!$M$7))) -> -0.009784634 | K686: =IF(G686="Mix",'Growth Factors'!$N$12,(IF(G686="Oil",'Growth Factors'!$E$12,'Growth Factors'!$K$12))) -> 0.1235404 | L686: =IF(G686="Mix",'Growth Factors'!$O$12,(IF(G686="Oil",'Growth Factors'!$F$12,'Growth Factors'!$L$12))) -> 0.23183777 | M686: =IF(G686="Mix",'Growth Factors'!$P$12,(IF(G686="Oil",'Growth Factors'!$G$12,'Growth Factors'!$M$12))) -> 0.027241295 | N686: =VLOOKUP(A686,'Part 50 Counties'!$A$2:$B$34,2) -> Yes | O686: =(IF(N686="No",0,(IF(D686="CO2",0,(VLOOKUP(F686,'Rule Reductions'!$C$2:$E$75,2,FALSE)))))) -> 0 | P686: =(IF(N686="No",0,(IF(D686="CO2",0,(VLOOKUP(F686,'Rule Reductions'!$C$2:$E$75,3,FALSE)))))) -> 0 | Q686: =+$E686*(1+H686)*(1-$O686) -> 0 | R686: =+$E686*(1+I686)*(1-$O686) -> 0 | S686: =+$E686*(1+J686)*(1-$O686) -> 0 | T686: =+$E686*(1+K686)*(1-$P686) -> 0 | U686: =+$E686*(1+L686)*(1-$P686) -> 0 | V686: =+$E686*(1+M686)*(1-$P686) -> 0
A687: San Juan | B687: G&B | C687: Pipeline Blowdowns | D687: CO2 | E687: 0 | F687: Pipeline Blowdowns | G687: Gas | H687: =IF(G687="Mix",'Growth Factors'!$N$7,(IF(G687="Oil",'Growth Factors'!$E$7,'Growth Factors'!$K$7))) -> 0.089570563 | I687: =IF(G687="Mix",'Growth Factors'!$O$7,(IF(G687="Oil",'Growth Factors'!$F$7,'Growth Factors'!$L$7))) -> 0.14741463 | J687: =IF(G687="Mix",'Growth Factors'!$P$7,(IF(G687="Oil",'Growth Factors'!$G$7,'Growth Factors'!$M$7))) -> -0.009784634 | K687: =IF(G687="Mix",'Growth Factors'!$N$12,(IF(G687="Oil",'Growth Factors'!$E$12,'Growth Factors'!$K$12))) -> 0.1235404 | L687: =IF(G687="Mix",'Growth Factors'!$O$12,(IF(G687="Oil",'Growth Factors'!$F$12,'Growth Factors'!$L$12))) -> 0.23183777 | M687: =IF(G687="Mix",'Growth Factors'!$P$12,(IF(G687="Oil",'Growth Factors'!$G$12,'Growth Factors'!$M$12))) -> 0.027241295 | N687: =VLOOKUP(A687,'Part 50 Counties'!$A$2:$B$34,2) -> Yes | O687: 0.95 | P687: 0.95 | Q687: =+$E687*(1+H687)*(1-$O687) -> 0 | R687: =+$E687*(1+I687)*(1-$O687) -> 0 | S687: =+$E687*(1+J687)*(1-$O687) -> 0 | T687: =+$E687*(1+K687)*(1-$P687) -> 0 | U687: =+$E687*(1+L687)*(1-$P687) -> 0 | V687: =+$E687*(1+M687)*(1-$P687) -> 0
A688: San Juan | B688: Transmission | C688: Pipeline Blowdowns | D688: CH4 | E688: 401.91235 | F688: Pipeline Blowdowns | G688: Gas | H688: =IF(G688="Mix",'Growth Factors'!$N$7,(IF(G688="Oil",'Growth Factors'!$E$7,'Growth Factors'!$K$7))) -> 0.089570563 | I688: =IF(G688="Mix",'Growth Factors'!$O$7,(IF(G688="Oil",'Growth Factors'!$F$7,'Growth Factors'!$L$7))) -> 0.14741463 | J688: =IF(G688="Mix",'Growth Factors'!$P$7,(IF(G688="Oil",'Growth Factors'!$G$7,'Growth Factors'!$M$7))) -> -0.009784634 | K688: =IF(G688="Mix",'Growth Factors'!$N$12,(IF(G688="Oil",'Growth Factors'!$E$12,'Growth Factors'!$K$12))) -> 0.1235404 | L688: =IF(G688="Mix",'Growth Factors'!$O$12,(IF(G688="Oil",'Growth Factors'!$F$12,'Growth Factors'!$L$12))) -> 0.23183777 | M688: =IF(G688="Mix",'Growth Factors'!$P$12,(IF(G688="Oil",'Growth Factors'!$G$12,'Growth Factors'!$M$12))) -> 0.027241295 | N688: =VLOOKUP(A688,'Part 50 Counties'!$A$2:$B$34,2) -> Yes | O688: =(IF(N688="No",0,(IF(D688="CO2",0,(VLOOKUP(F688,'Rule Reductions'!$C$2:$E$75,2,FALSE)))))) -> 0 | P688: =(IF(N688="No",0,(IF(D688="CO2",0,(VLOOKUP(F688,'Rule Reductions'!$C$2:$E$75,3,FALSE)))))) -> 0 | Q688: =+$E688*(1+H688)*(1-$O688) -> 437.91186 | R688: =+$E688*(1+I688)*(1-$O688) -> 461.16011 | S688: =+$E688*(1+J688)*(1-$O688) -> 397.97978 | T688: =+$E688*(1+K688)*(1-$P688) -> 451.56476 | U688: =+$E688*(1+L688)*(1-$P688) -> 495.09081 | V688: =+$E688*(1+M688)*(1-$P688) -> 412.86096
A689: San Juan | B689: Transmission | C689: Pipeline Blowdowns | D689: CO2 | E689: 11.591145 | F689: Pipeline Blowdowns | G689: Gas | H689: =IF(G689="Mix",'Growth Factors'!$N$7,(IF(G689="Oil",'Growth Factors'!$E$7,'Growth Factors'!$K$7))) -> 0.089570563 | I689: =IF(G689="Mix",'Growth Factors'!$O$7,(IF(G689="Oil",'Growth Factors'!$F$7,'Growth Factors'!$L$7))) -> 0.14741463 | J689: =IF(G689="Mix",'Growth Factors'!$P$7,(IF(G689="Oil",'Growth Factors'!$G$7,'Growth Factors'!$M$7))) -> -0.009784634 | K689: =IF(G689="Mix",'Growth Factors'!$N$12,(IF(G689="Oil",'Growth Factors'!$E$12,'Growth Factors'!$K$12))) -> 0.1235404 | L689: =IF(G689="Mix",'Growth Factors'!$O$12,(IF(G689="Oil",'Growth Factors'!$F$12,'Growth Factors'!$L$12))) -> 0.23183777 | M689: =IF(G689="Mix",'Growth Factors'!$P$12,(IF(G689="Oil",'Growth Factors'!$G$12,'Growth Factors'!$M$12))) -> 0.027241295 | N689: =VLOOKUP(A689,'Part 50 Counties'!$A$2:$B$34,2) -> Yes | O689: =(IF(N689="No",0,(IF(D689="CO2",0,(VLOOKUP(F689,'Rule Reductions'!$C$2:$E$75,2,FALSE)))))) -> 0 | P689: =(IF(N689="No",0,(IF(D689="CO2",0,(VLOOKUP(F689,'Rule Reductions'!$C$2:$E$75,3,FALSE)))))) -> 0 | Q689: =+$E689*(1+H689)*(1-$O689) -> 12.629371 | R689: =+$E689*(1+I689)*(1-$O689) -> 13.29985 | S689: =+$E689*(1+J689)*(1-$O689) -> 11.47773 | T689: =+$E689*(1+K689)*(1-$P689) -> 13.02312 | U689: =+$E689*(1+L689)*(1-$P689) -> 14.27841 | V689: =+$E689*(1+M689)*(1-$P689) -> 11.906903
A690: San Miguel | B690: Transmission | C690: Pipeline Blowdowns | D690: CH4 | E690: 14.294573 | F690: Pipeline Blowdowns | G690: Gas | H690: =IF(G690="Mix",'Growth Factors'!$N$7,(IF(G690="Oil",'Growth Factors'!$E$7,'Growth Factors'!$K$7))) -> 0.089570563 | I690: =IF(G690="Mix",'Growth Factors'!$O$7,(IF(G690="Oil",'Growth Factors'!$F$7,'Growth Factors'!$L$7))) -> 0.14741463 | J690: =IF(G690="Mix",'Growth Factors'!$P$7,(IF(G690="Oil",'Growth Factors'!$G$7,'Growth Factors'!$M$7))) -> -0.009784634 | K690: =IF(G690="Mix",'Growth Factors'!$N$12,(IF(G690="Oil",'Growth Factors'!$E$12,'Growth Factors'!$K$12))) -> 0.1235404 | L690: =IF(G690="Mix",'Growth Factors'!$O$12,(IF(G690="Oil",'Growth Factors'!$F$12,'Growth Factors'!$L$12))) -> 0.23183777 | M690: =IF(G690="Mix",'Growth Factors'!$P$12,(IF(G690="Oil",'Growth Factors'!$G$12,'Growth Factors'!$M$12))) -> 0.027241295 | N690: =VLOOKUP(A690,'Part 50 Counties'!$A$2:$B$34,2) -> No | O690: =(IF(N690="No",0,(IF(D690="CO2",0,(VLOOKUP(F690,'Rule Reductions'!$C$2:$E$75,2,FALSE)))))) -> 0 | P690: =(IF(N690="No",0,(IF(D690="CO2",0,(VLOOKUP(F690,'Rule Reductions'!$C$2:$E$75,3,FALSE)))))) -> 0 | Q690: =+$E690*(1+H690)*(1-$O690) -> 15.574946 | R690: =+$E690*(1+I690)*(1-$O690) -> 16.401803 | S690: =+$E690*(1+J690)*(1-$O690) -> 14.154706 | T690: =+$E690*(1+K690)*(1-$P690) -> 16.060531 | U690: =+$E690*(1+L690)*(1-$P690) -> 17.608595 | V690: =+$E690*(1+M690)*(1-$P690) -> 14.683976
A691: San Miguel | B691: Transmission | C691: Pipeline Blowdowns | D691: CO2 | E691: 0.41225525 | F691: Pipeline Blowdowns | G691: Gas | H691: =IF(G691="Mix",'Growth Factors'!$N$7,(IF(G691="Oil",'Growth Factors'!$E$7,'Growth Factors'!$K$7))) -> 0.089570563 | I691: =IF(G691="Mix",'Growth Factors'!$O$7,(IF(G691="Oil",'Growth Factors'!$F$7,'Growth Factors'!$L$7))) -> 0.14741463 | J691: =IF(G691="Mix",'Growth Factors'!$P$7,(IF(G691="Oil",'Growth Factors'!$G$7,'Growth Factors'!$M$7))) -> -0.009784634 | K691: =IF(G691="Mix",'Growth Factors'!$N$12,(IF(G691="Oil",'Growth Factors'!$E$12,'Growth Factors'!$K$12))) -> 0.1235404 | L691: =IF(G691="Mix",'Growth Factors'!$O$12,(IF(G691="Oil",'Growth Factors'!$F$12,'Growth Factors'!$L$12))) -> 0.23183777 | M691: =IF(G691="Mix",'Growth Factors'!$P$12,(IF(G691="Oil",'Growth Factors'!$G$12,'Growth Factors'!$M$12))) -> 0.027241295 | N691: =VLOOKUP(A691,'Part 50 Counties'!$A$2:$B$34,2) -> No | O691: =(IF(N691="No",0,(IF(D691="CO2",0,(VLOOKUP(F691,'Rule Reductions'!$C$2:$E$75,2,FALSE)))))) -> 0 | P691: =(IF(N691="No",0,(IF(D691="CO2",0,(VLOOKUP(F691,'Rule Reductions'!$C$2:$E$75,3,FALSE)))))) -> 0 | Q691: =+$E691*(1+H691)*(1-$O691) -> 0.44918118 | R691: =+$E691*(1+I691)*(1-$O691) -> 0.4730277 | S691: =+$E691*(1+J691)*(1-$O691) -> 0.40822148 | T691: =+$E691*(1+K691)*(1-$P691) -> 0.46318543 | U691: =+$E691*(1+L691)*(1-$P691) -> 0.50783158 | V691: =+$E691*(1+M691)*(1-$P691) -> 0.42348561
A692: Sandoval | B692: G&B | C692: Pipeline Blowdowns | D692: CH4 | E692: 0 | F692: Pipeline Blowdowns | G692: Gas | H692: =IF(G692="Mix",'Growth Factors'!$N$7,(IF(G692="Oil",'Growth Factors'!$E$7,'Growth Factors'!$K$7))) -> 0.089570563 | I692: =IF(G692="Mix",'Growth Factors'!$O$7,(IF(G692="Oil",'Growth Factors'!$F$7,'Growth Factors'!$L$7))) -> 0.14741463 | J692: =IF(G692="Mix",'Growth Factors'!$P$7,(IF(G692="Oil",'Growth Factors'!$G$7,'Growth Factors'!$M$7))) -> -0.009784634 | K692: =IF(G692="Mix",'Growth Factors'!$N$12,(IF(G692="Oil",'Growth Factors'!$E$12,'Growth Factors'!$K$12))) -> 0.1235404 | L692: =IF(G692="Mix",'Growth Factors'!$O$12,(IF(G692="Oil",'Growth Factors'!$F$12,'Growth Factors'!$L$12))) -> 0.23183777 | M692: =IF(G692="Mix",'Growth Factors'!$P$12,(IF(G692="Oil",'Growth Factors'!$G$12,'Growth Factors'!$M$12))) -> 0.027241295 | N692: =VLOOKUP(A692,'Part 50 Counties'!$A$2:$B$34,2) -> Yes | O692: =(IF(N692="No",0,(IF(D692="CO2",0,(VLOOKUP(F692,'Rule Reductions'!$C$2:$E$75,2,FALSE)))))) -> 0 | P692: =(IF(N692="No",0,(IF(D692="CO2",0,(VLOOKUP(F692,'Rule Reductions'!$C$2:$E$75,3,FALSE)))))) -> 0 | Q692: =+$E692*(1+H692)*(1-$O692) -> 0 | R692: =+$E692*(1+I692)*(1-$O692) -> 0 | S692: =+$E692*(1+J692)*(1-$O692) -> 0 | T692: =+$E692*(1+K692)*(1-$P692) -> 0 | U692: =+$E692*(1+L692)*(1-$P692) -> 0 | V692: =+$E692*(1+M692)*(1-$P692) -> 0
A693: Sandoval | B693: G&B | C693: Pipeline Blowdowns | D693: CO2 | E693: 0 | F693: Pipeline Blowdowns | G693: Gas | H693: =IF(G693="Mix",'Growth Factors'!$N$7,(IF(G693="Oil",'Growth Factors'!$E$7,'Growth Factors'!$K$7))) -> 0.089570563 | I693: =IF(G693="Mix",'Growth Factors'!$O$7,(IF(G693="Oil",'Growth Factors'!$F$7,'Growth Factors'!$L$7))) -> 0.14741463 | J693: =IF(G693="Mix",'Growth Factors'!$P$7,(IF(G693="Oil",'Growth Factors'!$G$7,'Growth Factors'!$M$7))) -> -0.009784634 | K693: =IF(G693="Mix",'Growth Factors'!$N$12,(IF(G693="Oil",'Growth Factors'!$E$12,'Growth Factors'!$K$12))) -> 0.1235404 | L693: =IF(G693="Mix",'Growth Factors'!$O$12,(IF(G693="Oil",'Growth Factors'!$F$12,'Growth Factors'!$L$12))) -> 0.23183777 | M693: =IF(G693="Mix",'Growth Factors'!$P$12,(IF(G693="Oil",'Growth Factors'!$G$12,'Growth Factors'!$M$12))) -> 0.027241295 | N693: =VLOOKUP(A693,'Part 50 Counties'!$A$2:$B$34,2) -> Yes | O693: =(IF(N693="No",0,(IF(D693="CO2",0,(VLOOKUP(F693,'Rule Reductions'!$C$2:$E$75,2,FALSE)))))) -> 0 | P693: =(IF(N693="No",0,(IF(D693="CO2",0,(VLOOKUP(F693,'Rule Reductions'!$C$2:$E$75,3,FALSE)))))) -> 0 | Q693: =+$E693*(1+H693)*(1-$O693) -> 0 | R693: =+$E693*(1+I693)*(1-$O693) -> 0 | S693: =+$E693*(1+J693)*(1-$O693) -> 0 | T693: =+$E693*(1+K693)*(1-$P693) -> 0 | U693: =+$E693*(1+L693)*(1-$P693) -> 0 | V693: =+$E693*(1+M693)*(1-$P693) -> 0
A694: Sandoval | B694: Transmission | C694: Pipeline Blowdowns | D694: CH4 | E694: 163.98588 | F694: Pipeline Blowdowns | G694: Gas | H694: =IF(G694="Mix",'Growth Factors'!$N$7,(IF(G694="Oil",'Growth Factors'!$E$7,'Growth Factors'!$K$7))) -> 0.089570563 | I694: =IF(G694="Mix",'Growth Factors'!$O$7,(IF(G694="Oil",'Growth Factors'!$F$7,'Growth Factors'!$L$7))) -> 0.14741463 | J694: =IF(G694="Mix",'Growth Factors'!$P$7,(IF(G694="Oil",'Growth Factors'!$G$7,'Growth Factors'!$M$7))) -> -0.009784634 | K694: =IF(G694="Mix",'Growth Factors'!$N$12,(IF(G694="Oil",'Growth Factors'!$E$12,'Growth Factors'!$K$12))) -> 0.1235404 | L694: =IF(G694="Mix",'Growth Factors'!$O$12,(IF(G694="Oil",'Growth Factors'!$F$12,'Growth Factors'!$L$12))) -> 0.23183777 | M694: =IF(G694="Mix",'Growth Factors'!$P$12,(IF(G694="Oil",'Growth Factors'!$G$12,'Growth Factors'!$M$12))) -> 0.027241295 | N694: =VLOOKUP(A694,'Part 50 Counties'!$A$2:$B$34,2) -> Yes | O694: =(IF(N694="No",0,(IF(D694="CO2",0,(VLOOKUP(F694,'Rule Reductions'!$C$2:$E$75,2,FALSE)))))) -> 0 | P694: =(IF(N694="No",0,(IF(D694="CO2",0,(VLOOKUP(F694,'Rule Reductions'!$C$2:$E$75,3,FALSE)))))) -> 0 | Q694: =+$E694*(1+H694)*(1-$O694) -> 178.67419 | R694: =+$E694*(1+I694)*(1-$O694) -> 188.1598 | S694: =+$E694*(1+J694)*(1-$O694) -> 162.38134 | T694: =+$E694*(1+K694)*(1-$P694) -> 184.24476 | U694: =+$E694*(1+L694)*(1-$P694) -> 202.004 | V694: =+$E694*(1+M694)*(1-$P694) -> 168.45307
A695: Sandoval | B695: Transmission | C695: Pipeline Blowdowns | D695: CO2 | E695: 4.72935 | F695: Pipeline Blowdowns | G695: Gas | H695: =IF(G695="Mix",'Growth Factors'!$N$7,(IF(G695="Oil",'Growth Factors'!$E$7,'Growth Factors'!$K$7))) -> 0.089570563 | I695: =IF(G695="Mix",'Growth Factors'!$O$7,(IF(G695="Oil",'Growth Factors'!$F$7,'Growth Factors'!$L$7))) -> 0.14741463 | J695: =IF(G695="Mix",'Growth Factors'!$P$7,(IF(G695="Oil",'Growth Factors'!$G$7,'Growth Factors'!$M$7))) -> -0.009784634 | K695: =IF(G695="Mix",'Growth Factors'!$N$12,(IF(G695="Oil",'Growth Factors'!$E$12,'Growth Factors'!$K$12))) -> 0.1235404 | L695: =IF(G695="Mix",'Growth Factors'!$O$12,(IF(G695="Oil",'Growth Factors'!$F$12,'Growth Factors'!$L$12))) -> 0.23183777 | M695: =IF(G695="Mix",'Growth Factors'!$P$12,(IF(G695="Oil",'Growth Factors'!$G$12,'Growth Factors'!$M$12))) -> 0.027241295 | N695: =VLOOKUP(A695,'Part 50 Counties'!$A$2:$B$34,2) -> Yes | O695: =(IF(N695="No",0,(IF(D695="CO2",0,(VLOOKUP(F695,'Rule Reductions'!$C$2:$E$75,2,FALSE)))))) -> 0 | P695: =(IF(N695="No",0,(IF(D695="CO2",0,(VLOOKUP(F695,'Rule Reductions'!$C$2:$E$75,3,FALSE)))))) -> 0 | Q695: =+$E695*(1+H695)*(1-$O695) -> 5.1529605 | R695: =+$E695*(1+I695)*(1-$O695) -> 5.4265254 | S695: =+$E695*(1+J695)*(1-$O695) -> 4.683075 | T695: =+$E695*(1+K695)*(1-$P695) -> 5.3136158 | U695: =+$E695*(1+L695)*(1-$P695) -> 5.8257919 | V695: =+$E695*(1+M695)*(1-$P695) -> 4.8581836
A696: Santa Fe | B696: Transmission | C696: Pipeline Blowdowns | D696: CH4 | E696: 60.512191 | F696: Pipeline Blowdowns | G696: Gas | H696: =IF(G696="Mix",'Growth Factors'!$N$7,(IF(G696="Oil",'Growth Factors'!$E$7,'Growth Factors'!$K$7))) -> 0.089570563 | I696: =IF(G696="Mix",'Growth Factors'!$O$7,(IF(G696="Oil",'Growth Factors'!$F$7,'Growth Factors'!$L$7))) -> 0.14741463 | J696: =IF(G696="Mix",'Growth Factors'!$P$7,(IF(G696="Oil",'Growth Factors'!$G$7,'Growth Factors'!$M$7))) -> -0.009784634 | K696: =IF(G696="Mix",'Growth Factors'!$N$12,(IF(G696="Oil",'Growth Factors'!$E$12,'Growth Factors'!$K$12))) -> 0.1235404 | L696: =IF(G696="Mix",'Growth Factors'!$O$12,(IF(G696="Oil",'Growth Factors'!$F$12,'Growth Factors'!$L$12))) -> 0.23183777 | M696: =IF(G696="Mix",'Growth Factors'!$P$12,(IF(G696="Oil",'Growth Factors'!$G$12,'Growth Factors'!$M$12))) -> 0.027241295 | N696: =VLOOKUP(A696,'Part 50 Counties'!$A$2:$B$34,2) -> No | O696: =(IF(N696="No",0,(IF(D696="CO2",0,(VLOOKUP(F696,'Rule Reductions'!$C$2:$E$75,2,FALSE)))))) -> 0 | P696: =(IF(N696="No",0,(IF(D696="CO2",0,(VLOOKUP(F696,'Rule Reductions'!$C$2:$E$75,3,FALSE)))))) -> 0 | Q696: =+$E696*(1+H696)*(1-$O696) -> 65.932302 | R696: =+$E696*(1+I696)*(1-$O696) -> 69.432573 | S696: =+$E696*(1+J696)*(1-$O696) -> 59.920101 | T696: =+$E696*(1+K696)*(1-$P696) -> 67.987891 | U696: =+$E696*(1+L696)*(1-$P696) -> 74.541202 | V696: =+$E696*(1+M696)*(1-$P696) -> 62.160621
...

Sheet Growth Factors
A1: Year | B1: Oil Reference Case Production | C1: Oil High Oil Price Production | D1: Oil Low Oil Price Production | E1: Oil Reference Case Change From base year (2020) | F1: Oil High Oil Price Case Change From base year (2020) | G1: Oil Low Oil Price Case Change From base year (2020) | H1: Gas Reference Case Production | I1: Gas High Oil Price Production | J1: Gas Low Oil Price Production | K1: Gas Reference Case Change From base year (2020) | L1: Gas High Oil Price Case Change From base year (2020) | M1: Gas Low Oil Price Case Change From base year (2020) | N1: Mix Reference Case Change From base year (2020) | O1: Mix High Oil Price Case Change From base year (2020) | P1: Mix Low Oil Price Case Change From base year (2020)
A2: 2020 | B2: 11.282959 | C2: 11.282959 | D2: 11.282959 | E2: =(B2-$B$2)/$B$2 -> 0 | F2: =(C2-$C$2)/$C$2 -> 0 | G2: =(D2-$D$2)/$D$2 -> 0 | H2: 33.485264 | I2: 33.485264 | J2: 33.485264 | K2: =(H2-$H$2)/$H$2 -> 0 | L2: =(I2-$I$2)/$I$2 -> 0 | M2: =(J2-$J$2)/$J$2 -> 0 | N2: =+(K2+E2)/2 -> 0 | O2: =+(L2+F2)/2 -> 0 | P2: =+(M2+G2)/2 -> 0
A3: 2021 | B3: 11.13137 | C3: 11.13137 | D3: 11.13137 | E3: =(B3-$B$2)/$B$2 -> -0.013435205 | F3: =(C3-$C$2)/$C$2 -> -0.013435205 | G3: =(D3-$D$2)/$D$2 -> -0.013435205 | H3: 34.40416 | I3: 34.409939 | J3: 34.415951 | K3: =(H3-$H$2)/$H$2 -> 0.027441801 | L3: =(I3-$I$2)/$I$2 -> 0.027614384 | M3: =(J3-$J$2)/$J$2 -> 0.027793926 | N3: =+(K3+E3)/2 -> 0.0070032981 | O3: =+(L3+F3)/2 -> 0.0070895898 | P3: =+(M3+G3)/2 -> 0.0071793606
A4: 2022 | B4: 11.890215 | C4: 12.395033 | D4: 10.596515 | E4: =(B4-$B$2)/$B$2 -> 0.053820646 | F4: =(C4-$C$2)/$C$2 -> 0.098562279 | G4: =(D4-$D$2)/$D$2 -> -0.060838993 | H4: 35.685917 | I4: 36.043201 | J4: 31.922022 | K4: =(H4-$H$2)/$H$2 -> 0.065720042 | L4: =(I4-$I$2)/$I$2 -> 0.076389929 | M4: =(J4-$J$2)/$J$2 -> -0.046684477 | N4: =+(K4+E4)/2 -> 0.059770344 | O4: =+(L4+F4)/2 -> 0.087476104 | P4: =+(M4+G4)/2 -> -0.053761735
A5: 2023 | B5: 12.277072 | C5: 14.743806 | D5: 11.375623 | E5: =(B5-$B$2)/$B$2 -> 0.088107486 | F5: =(C5-$C$2)/$C$2 -> 0.30673223 | G5: =(D5-$D$2)/$D$2 -> 0.0082127517 | H5: 36.052288 | I5: 37.540092 | J5: 32.134312 | K5: =(H5-$H$2)/$H$2 -> 0.076661302 | L5: =(I5-$I$2)/$I$2 -> 0.12109291 | M5: =(J5-$J$2)/$J$2 -> -0.040344674 | N5: =+(K5+E5)/2 -> 0.082384394 | O5: =+(L5+F5)/2 -> 0.21391257 | P5: =+(M5+G5)/2 -> -0.016065961
A6: 2024 | B6: 12.60923 | C6: 15.707987 | D6: 11.238279 | E6: =(B6-$B$2)/$B$2 -> 0.1175464 | F6: =(C6-$C$2)/$C$2 -> 0.39218685 | G6: =(D6-$D$2)/$D$2 -> -0.0039599418 | H6: 36.409576 | I6: 37.982395 | J6: 31.819265 | K6: =(H6-$H$2)/$H$2 -> 0.087331309 | L6: =(I6-$I$2)/$I$2 -> 0.13430179 | M6: =(J6-$J$2)/$J$2 -> -0.0497532 | N6: =+(K6+E6)/2 -> 0.10243885 | O6: =+(L6+F6)/2 -> 0.26324432 | P6: =+(M6+G6)/2 -> -0.026856571
A7: 2025 | B7: 13.052892 | C7: 16.12867 | D7: 11.380773 | E7: =(B7-$B$2)/$B$2 -> 0.15686782 | F7: =(C7-$C$2)/$C$2 -> 0.42947167 | G7: =(D7-$D$2)/$D$2 -> 0.0086691922 | H7: 36.484558 | I7: 38.421482 | J7: 33.157623 | K7: =(H7-$H$2)/$H$2 -> 0.089570563 | L7: =(I7-$I$2)/$I$2 -> 0.14741463 | M7: =(J7-$J$2)/$J$2 -> -0.009784634 | N7: =+(K7+E7)/2 -> 0.12321919 | O7: =+(L7+F7)/2 -> 0.28844315 | P7: =+(M7+G7)/2 -> -0.00055772089
A8: 2026 | B8: 13.243161 | C8: 16.568733 | D8: 11.375468 | E8: =(B8-$B$2)/$B$2 -> 0.17373121 | F8: =(C8-$C$2)/$C$2 -> 0.46847411 | G8: =(D8-$D$2)/$D$2 -> 0.0081990141 | H8: 36.570492 | I8: 38.48378 | J8: 33.868839 | K8: =(H8-$H$2)/$H$2 -> 0.092136886 | L8: =(I8-$I$2)/$I$2 -> 0.14927509 | M8: =(J8-$J$2)/$J$2 -> 0.011455037 | N8: =+(K8+E8)/2 -> 0.13293405 | O8: =+(L8+F8)/2 -> 0.3088746 | P8: =+(M8+G8)/2 -> 0.0098270257
A9: 2027 | B9: 13.200738 | C9: 16.804802 | D9: 11.256226 | E9: =(B9-$B$2)/$B$2 -> 0.1699713 | F9: =(C9-$C$2)/$C$2 -> 0.48939673 | G9: =(D9-$D$2)/$D$2 -> -0.002369313 | H9: 36.719749 | I9: 38.902111 | J9: 34.028431 | K9: =(H9-$H$2)/$H$2 -> 0.096594279 | L9: =(I9-$I$2)/$I$2 -> 0.16176808 | M9: =(J9-$J$2)/$J$2 -> 0.016221074 | N9: =+(K9+E9)/2 -> 0.13328279 | O9: =+(L9+F9)/2 -> 0.3255824 | P9: =+(M9+G9)/2 -> 0.0069258805
A10: 2028 | B10: 13.394472 | C10: 17.269243 | D10: 11.274733 | E10: =(B10-$B$2)/$B$2 -> 0.18714179 | F10: =(C10-$C$2)/$C$2 -> 0.53055978 | G10: =(D10-$D$2)/$D$2 -> -0.00072905173 | H10: 37.260258 | I10: 39.723751 | J10: 34.290558 | K10: =(H10-$H$2)/$H$2 -> 0.11273598 | L10: =(I10-$I$2)/$I$2 -> 0.18630544 | M10: =(J10-$J$2)/$J$2 -> 0.024049204 | N10: =+(K10+E10)/2 -> 0.14993888 | O10: =+(L10+F10)/2 -> 0.35843261 | P10: =+(M10+G10)/2 -> 0.011660076
A11: 2029 | B11: 13.354988 | C11: 17.661209 | D11: 11.236509 | E11: =(B11-$B$2)/$B$2 -> 0.18364236 | F11: =(C11-$C$2)/$C$2 -> 0.56529942 | G11: =(D11-$D$2)/$D$2 -> -0.0041168156 | H11: 37.513241 | I11: 40.57272 | J11: 34.391506 | K11: =(H11-$H$2)/$H$2 -> 0.12029103 | L11: =(I11-$I$2)/$I$2 -> 0.21165895 | M11: =(J11-$J$2)/$J$2 -> 0.027063903 | N11: =+(K11+E11)/2 -> 0.15196669 | O11: =+(L11+F11)/2 -> 0.38847919 | P11: =+(M11+G11)/2 -> 0.011473544
A12: 2030 | B12: 13.289125 | C12: 18.104454 | D12: 11.11564 | E12: =(B12-$B$2)/$B$2 -> 0.17780497 | F12: =(C12-$C$2)/$C$2 -> 0.60458389 | G12: =(D12-$D$2)/$D$2 -> -0.014829342 | H12: 37.622047 | I12: 41.248413 | J12: 34.397446 | K12: =(H12-$H$2)/$H$2 -> 0.1235404 | L12: =(I12-$I$2)/$I$2 -> 0.23183777 | M12: =(J12-$J$2)/$J$2 -> 0.027241295 | N12: =+(K12+E12)/2 -> 0.15067268 | O12: =+(L12+F12)/2 -> 0.41821083 | P12: =+(M12+G12)/2 -> 0.0062059761

Sheet Rule Reductions
A1: Industry Segment | B1: Emission Source | C1: Emission Source (General) | D1: Part 50 2025 CH4 Reductions (%) | E1: Part 50 2030 CH4 Reductions (%) | G1: Source Type | H1: 2025 VOC Reduction (%) | I1: 2030 VOC Reduction (%)
A2: Processing | B2: Acid Gas Removal Units | C2: Acid Gas Removal Units | D2: 0 | E2: 0 | G2: Engines and Turbines | H2: =0.3*I2 -> 0.020353537 | I2: 0.067845122
A3: Production | B3: Associated Gas | C3: Associated Gas | D3: 0.95 | E3: 0.95 | G3: Compressor Seals | H3: 0.513 | I3: 0.513
A4: G&B | B4: Centrifugal Compressors | C4: Centrifugal Compressors | D4: 0.513 | E4: 0.513 | G4: Equipment Leaks | H4: 0.75119553 | I4: 0.75119553
A5: Processing | B5: Centrifugal Compressors | C5: Centrifugal Compressors | D5: 0.513 | E5: 0.513 | G5: Gas Well Liquids Unloading | H5: =+I5 -> 0.5 | I5: 0.5
A6: Production | B6: Centrifugal Compressors | C6: Centrifugal Compressors | D6: 0.513 | E6: 0.513 | G6: Glycol Dehydrators | H6: =+I6 -> 0.42763414 | I6: 0.42763414
A7: Transmission | B7: Centrifugal Compressors | C7: Centrifugal Compressors | D7: 0.513 | E7: 0.513 | G7: Hydrocarbon Liquids Transfers | H7: 0.8414 | I7: 0.8414
A8: G&B | B8: Combustion | C8: Combustion | D8: 0 | E8: 0 | G8: Pneumatic Controllers and Pumps | H8: 0.8 | I8: 0.90578983
A9: Processing | B9: Combustion | C9: Combustion | D9: 0 | E9: 0 | G9: Storage Tanks | H9: =0.3*I9 -> 0.105 | I9: 0.35
A10: Production | B10: Combustion | C10: Combustion | D10: 0 | E10: 0 | G10: Associated Gas | H10: 0.95 | I10: 0.95
A11: Transmission | B11: Engine Combustion | C11: Combustion | D11: 0.020353537 | E11: 0.067845122
A12: Transmission | B12: Turbine Combustion | C12: Combustion | D12: 0.020353537 | E12: 0.067845122
A13: Underground NG Storage | B13: Combustion | C13: Combustion | D13: 0 | E13: 0
A14: G&B | B14: Dehydrators | C14: Dehydrators | D14: 0.42763414 | E14: 0.42763414
A15: Processing | B15: Dehydrators | C15: Dehydrators | D15: 0.42763414 | E15: 0.42763414
A16: Production | B16: Dehydrators | C16: Dehydrators | D16: 0.42763414 | E16: 0.42763414
A17: Underground NG Storage | B17: Dehydrators | C17: Dehydrators | D17: 0.42763414 | E17: 0.42763414
A18: G&B | B18: Equipment Blowdowns | C18: Equipment Blowdowns | D18: 0 | E18: 0
A19: Processing | B19: Equipment Blowdowns | C19: Equipment Blowdowns | D19: 0 | E19: 0
A20: Transmission | B20: Equipment Blowdowns | C20: Equipment Blowdowns | D20: 0 | E20: 0
A21: Underground NG Storage | B21: Equipment Blowdowns | C21: Equipment Blowdowns | D21: 0 | E21: 0
A22: G&B | B22: Equipment Leaks | C22: Equipment Leaks | D22: 0.75119553 | E22: 0.75119553
... A75: Production | B75: Well Testing | C75: Well Testing | D75: 0 | E75: 0

Sheet Part 50 Counties
A1: County | B1: Subject to Part 50?
A2: Bernalillo | B2: No
A3: Catron | B3: No
A4: Chaves | B4: Yes
A5: Cibola | B5: No
A6: Colfax | B6: No
A7: Curry | B7: No
A8: De Baca | B8: No
A9: Dona Ana | B9: Yes
A10: Eddy | B10: Yes
A11: Grant | B11: No
A12: Guadalupe | B12: No
... A34: Valencia | B34: Yes
