Workbook

Sheet README
A1: 📘 SWPA Budget Estimator Workbook Instructions
A2: ⚠️ Important: - This workbook includes five sheets designed to streamline the budgeting process for awarding contracts under Statewide Price Agreement #40-00000-23-00037 — Riparian, Aquatic, and Wetland Restoration Services for NMED Surface Water Quality Bureau (SWQB) projects. - Follow the guidance below to ensure data populates correctly and reflects all project expenses.
A3: 🗂️ Workbook Structure:
A5: 1. Sheet 1: Budget Sheet
A6: - Manual data entry required, Primary data entry sheet for entering all project budget line items. - Detailed data entry notes and Additional Instructions section are provided in the sheet for proper data entry and guidance on travel, supplies, and NM Gross Receipts Tax (NMGRT) entries.
A8: 2. Sheet 2: Cost Summary By Category
A9: - No manual data entry required. - Automatically summarizes NMED Contributions, Cooperator’s Match, and Total Project Amount by category, based on entries from the Budget Sheet. - Review this sheet to verify that all category totals accurately reflect your project’s budget distribution.
A11: 3. Sheet 3: Rate Schedules
A12: - Manual data entry required. - Enter personnel rate information, such as Name of resources, indicate if the resource is a subcontractor, position title, hourly rates and Personnel Match Contribution.
A14: 4. Sheet 4: PA Items with Category (Reference Only)
A15: - Contains approved Price Agreement items with their corresponding defined categories. - Used to auto-populate the “Category” (Column C) in the Budget Sheet. - Do not modify this sheet, as it maintains the link between the PA items and the Budget Sheet automation.

Sheet Budget Sheet
A3: 📝 Data Entry Notes: NMED Contribution Entry 1. Primary sheet for entering project budget line items. 2. For PA Items: - Get the Price Agreement from https://www.generalservices.state.nm.us/state-purchasing/statewide-price-agreements/. - Enter the following - Main task name → (Column A), - Item/Service → Select from drop-down list in Column B - Category (Column C) → Auto-populates based on the selected PA item. If the auto-filled category does not accurately reflect your selected item, manually select the correct category in Column D, then Auto populated category will override accordingly. If the auto-populated category is correct, leave Column D blank. - Enter Quantity → (Column E), and Unit Rate → (Column F). 3. For non-PA items, use the rows labeled "Other" to enter the item description, and manually select the appropriate category in Column D from drop downs. Then enter Quantity → (Column E), and Unit Rate → (Column F). Cooperator's Match Contribution Entry 1. For match, select Match in Items/Services from drop down list in Column B, manually select the category for the match from Column D, then enter the Quantity → (Column E), and Unit Rate → (Column F). Other Entries 1. Manually enter the NM GRT rate in the respective cell under Rate,→ Column F and indicate the location in Column → B. 2. The Requested Funds from NMED (Column G) and Cooperator's Cash or In-Kind Match (Column H) and Total Project Amount (Column I) auto-calculate. 3. Delete unused rows. | G3: ⚠️Additional Instructions: 1. Travel: Estimate mileage, per diem, and other travel-related expenses for the entire project duration. 2. Materials/Supplies: Include material or supply expenses to be reimbursed at cost (markup not allowed). 3. Include any other expenses not captured elsewhere to be reimbursed. 4. Taxes: Include estimated Gross Receipts Taxes (GRT) for the project — multiple location rates may apply. Professional Services – Charged based on location where service was provided: - Out-of-State: Services performed entirely out-of-state but used in New Mexico are charged at the out-of-state rate (currently 4.875%). - In-State: Services provided by an in-state vendor use the vendor’s address with the Gross Receipts Location Code and Tax Rate Map: Governments to determine the correct rate. For example, if an NMED employee is in Santa Fe and the vendor performs services from Las Cruces, use the Las Cruces rate. - Hybrid: If services are performed in multiple locations, vendors should separate invoice line items by service location. For example, if a vendor has headquarters in California and regional offices in Las Cruces, and employees from multiple locations collaborate on a contract deliverable, each location should be recorded in this sheet separately. General Services (Construction & Transportation) – Charged based on location where the product of the service was delivered: - Out-of-State: Out-of-state vendors performing construction in New Mexico must apply the rate where the construction occurs. - In-State: In-state vendors performing construction in another city must apply the rate where the construction occurs.
A5: Task Name | B5: Items/Services | C5: Category-Auto-populated Entry | D5: Category-Manual Entry | E5: Quantity | F5: Unit Rate | G5: Requested Funds from NMED | H5: Cooperator's Cash or In-Kind Match | I5: Total Project Amount | J5: Entity (Organization name performing the services)
A6: Task 1 | B6: Item Number and Description | C6: =IF(D6<>"", D6, _xlfn.XLOOKUP(B6, 'PA Items with Category'!A:A, 'PA Items with Category'!B:B, "")) | G6: =IF(B6<>"match", E6*F6, "") -> 0 | H6: =IF(B6="match", E6*F6, "") | I6: =SUM('Budget Sheet'!$G6:'Budget Sheet'!$H6) -> 0
B7: Item Number and Description | C7: =IF(D7<>"", D7, _xlfn.XLOOKUP(B7, 'PA Items with Category'!A:A, 'PA Items with Category'!B:B, "")) | G7: =IF(B7<>"match", E7*F7, "") -> 0 | H7: =IF(B7="match", E7*F7, "") | I7: =SUM('Budget Sheet'!$G7:'Budget Sheet'!$H7) -> 0
B8: Item Number and Description | C8: =IF(D8<>"", D8, _xlfn.XLOOKUP(B8, 'PA Items with Category'!A:A, 'PA Items with Category'!B:B, "")) | G8: =IF(B8<>"match", E8*F8, "") -> 0 | H8: =IF(B8="match", E8*F8, "") | I8: =SUM('Budget Sheet'!$G8:'Budget Sheet'!$H8) -> 0
B9: Item Number and Description | C9: =IF(D9<>"", D9, _xlfn.XLOOKUP(B9, 'PA Items with Category'!A:A, 'PA Items with Category'!B:B, "")) | G9: =IF(B9<>"match", E9*F9, "") -> 0 | H9: =IF(B9="match", E9*F9, "") | I9: =SUM('Budget Sheet'!$G9:'Budget Sheet'!$H9) -> 0
B10: Item Number and Description | C10: =IF(D10<>"", D10, _xlfn.XLOOKUP(B10, 'PA Items with Category'!A:A, 'PA Items with Category'!B:B, "")) | G10: =IF(B10<>"match", E10*F10, "") -> 0 | H10: =IF(B10="match", E10*F10, "") | I10: =SUM('Budget Sheet'!$G10:'Budget Sheet'!$H10) -> 0
B11: Item Number and Description | C11: =IF(D11<>"", D11, _xlfn.XLOOKUP(B11, 'PA Items with Category'!A:A, 'PA Items with Category'!B:B, "")) | G11: =IF(B11<>"match", E11*F11, "") -> 0 | H11: =IF(B11="match", E11*F11, "") | I11: =SUM('Budget Sheet'!$G11:'Budget Sheet'!$H11) -> 0
B12: Item Number and Description | C12: =IF(D12<>"", D12, _xlfn.XLOOKUP(B12, 'PA Items with Category'!A:A, 'PA Items with Category'!B:B, "")) | G12: =IF(B12<>"match", E12*F12, "") -> 0 | H12: =IF(B12="match", E12*F12, "") | I12: =SUM('Budget Sheet'!$G12:'Budget Sheet'!$H12) -> 0
B13: Item Number and Description | C13: =IF(D13<>"", D13, _xlfn.XLOOKUP(B13, 'PA Items with Category'!A:A, 'PA Items with Category'!B:B, "")) | G13: =IF(B13<>"match", E13*F13, "") -> 0 | H13: =IF(B13="match", E13*F13, "") | I13: =SUM('Budget Sheet'!$G13:'Budget Sheet'!$H13) -> 0
B14: Other | C14: =IF(D14<>"", D14, _xlfn.XLOOKUP(B14, 'PA Items with Category'!A:A, 'PA Items with Category'!B:B, "")) | G14: =IF(B14<>"match", E14*F14, "") -> 0 | H14: =IF(B14="match", E14*F14, "") | I14: =SUM('Budget Sheet'!$G14:'Budget Sheet'!$H14) -> 0
B15: Other | C15: =IF(D15<>"", D15, _xlfn.XLOOKUP(B15, 'PA Items with Category'!A:A, 'PA Items with Category'!B:B, "")) | G15: =IF(B15<>"match", E15*F15, "") -> 0 | H15: =IF(B15="match", E15*F15, "") | I15: =SUM('Budget Sheet'!$G15:'Budget Sheet'!$H15) -> 0
B16: Mileage | C16: =IF(D16<>"", D16, _xlfn.XLOOKUP(B16, 'PA Items with Category'!A:A, 'PA Items with Category'!B:B, "")) -> TRAVEL | D16: TRAVEL | G16: =IF(B16<>"match", E16*F16, "") -> 0 | H16: =IF(B16="match", E16*F16, "") | I16: =SUM('Budget Sheet'!$G16:'Budget Sheet'!$H16) -> 0
B17: Per Diem | C17: =IF(D17<>"", D17, _xlfn.XLOOKUP(B17, 'PA Items with Category'!A:A, 'PA Items with Category'!B:B, "")) -> TRAVEL | D17: TRAVEL | G17: =IF(B17<>"match", E17*F17, "") -> 0 | H17: =IF(B17="match", E17*F17, "") | I17: =SUM('Budget Sheet'!$G17:'Budget Sheet'!$H17) -> 0
B18: NM Gross Receipts Tax (Location 1) | C18: =IF(D18<>"", D18, _xlfn.XLOOKUP(B18, 'PA Items with Category'!A:A, 'PA Items with Category'!B:B, "")) -> TAX | D18: TAX | G18: ='Budget Sheet'!$F18 -> 0 | H18: =IF(B18="match", E18*F18, "") | I18: =SUM('Budget Sheet'!$G18:'Budget Sheet'!$H18) -> 0
B19: NM Gross Receipts Tax (Location 2) | C19: =IF(D19<>"", D19, _xlfn.XLOOKUP(B19, 'PA Items with Category'!A:A, 'PA Items with Category'!B:B, "")) -> TAX | D19: TAX | G19: ='Budget Sheet'!$F19 -> 0 | H19: =IF(B19="match", E19*F19, "") | I19: =SUM('Budget Sheet'!$G19:'Budget Sheet'!$H19) -> 0
A21: Task 2 | B21: Item Number and Description | C21: =IF(D21<>"", D21, _xlfn.XLOOKUP(B21, 'PA Items with Category'!A:A, 'PA Items with Category'!B:B, "")) | G21: =IF(B21<>"match", E21*F21, "") -> 0 | H21: =IF(B21="match", E21*F21, "") | I21: =SUM('Budget Sheet'!$G21:'Budget Sheet'!$H21) -> 0
B22: Item Number and Description | C22: =IF(D22<>"", D22, _xlfn.XLOOKUP(B22, 'PA Items with Category'!A:A, 'PA Items with Category'!B:B, "")) | G22: =IF(B22<>"match", E22*F22, "") -> 0 | H22: =IF(B22="match", E22*F22, "") | I22: =SUM('Budget Sheet'!$G22:'Budget Sheet'!$H22) -> 0
B23: Item Number and Description | C23: =IF(D23<>"", D23, _xlfn.XLOOKUP(B23, 'PA Items with Category'!A:A, 'PA Items with Category'!B:B, "")) | G23: =IF(B23<>"match", E23*F23, "") -> 0 | H23: =IF(B23="match", E23*F23, "") | I23: =SUM('Budget Sheet'!$G23:'Budget Sheet'!$H23) -> 0
B24: Item Number and Description | C24: =IF(D24<>"", D24, _xlfn.XLOOKUP(B24, 'PA Items with Category'!A:A, 'PA Items with Category'!B:B, "")) | G24: =IF(B24<>"match", E24*F24, "") -> 0 | H24: =IF(B24="match", E24*F24, "") | I24: =SUM('Budget Sheet'!$G24:'Budget Sheet'!$H24) -> 0
B25: Item Number and Description | C25: =IF(D25<>"", D25, _xlfn.XLOOKUP(B25, 'PA Items with Category'!A:A, 'PA Items with Category'!B:B, "")) | G25: =IF(B25<>"match", E25*F25, "") -> 0 | H25: =IF(B25="match", E25*F25, "") | I25: =SUM('Budget Sheet'!$G25:'Budget Sheet'!$H25) -> 0
B26: Item Number and Description | C26: =IF(D26<>"", D26, _xlfn.XLOOKUP(B26, 'PA Items with Category'!A:A, 'PA Items with Category'!B:B, "")) | G26: =IF(B26<>"match", E26*F26, "") -> 0 | H26: =IF(B26="match", E26*F26, "") | I26: =SUM('Budget Sheet'!$G26:'Budget Sheet'!$H26) -> 0
B27: Item Number and Description | C27: =IF(D27<>"", D27, _xlfn.XLOOKUP(B27, 'PA Items with Category'!A:A, 'PA Items with Category'!B:B, "")) | G27: =IF(B27<>"match", E27*F27, "") -> 0 | H27: =IF(B27="match", E27*F27, "") | I27: =SUM('Budget Sheet'!$G27:'Budget Sheet'!$H27) -> 0
B28: Item Number and Description | C28: =IF(D28<>"", D28, _xlfn.XLOOKUP(B28, 'PA Items with Category'!A:A, 'PA Items with Category'!B:B, "")) | G28: =IF(B28<>"match", E28*F28, "") -> 0 | H28: =IF(B28="match", E28*F28, "") | I28: =SUM('Budget Sheet'!$G28:'Budget Sheet'!$H28) -> 0
B29: Other | C29: =IF(D29<>"", D29, _xlfn.XLOOKUP(B29, 'PA Items with Category'!A:A, 'PA Items with Category'!B:B, "")) | G29: =IF(B29<>"match", E29*F29, "") -> 0 | H29: =IF(B29="match", E29*F29, "") | I29: =SUM('Budget Sheet'!$G29:'Budget Sheet'!$H29) -> 0
B30: Other | C30: =IF(D30<>"", D30, _xlfn.XLOOKUP(B30, 'PA Items with Category'!A:A, 'PA Items with Category'!B:B, "")) | G30: =IF(B30<>"match", E30*F30, "") -> 0 | H30: =IF(B30="match", E30*F30, "") | I30: =SUM('Budget Sheet'!$G30:'Budget Sheet'!$H30) -> 0
B31: Mileage | C31: =IF(D31<>"", D31, _xlfn.XLOOKUP(B31, 'PA Items with Category'!A:A, 'PA Items with Category'!B:B, "")) -> TRAVEL | D31: TRAVEL | G31: =IF(B31<>"match", E31*F31, "") -> 0 | H31: =IF(B31="match", E31*F31, "") | I31: =SUM('Budget Sheet'!$G31:'Budget Sheet'!$H31) -> 0
B32: Per Diem | C32: =IF(D32<>"", D32, _xlfn.XLOOKUP(B32, 'PA Items with Category'!A:A, 'PA Items with Category'!B:B, "")) -> TRAVEL | D32: TRAVEL | G32: =IF(B32<>"match", E32*F32, "") -> 0 | H32: =IF(B32="match", E32*F32, "") | I32: =SUM('Budget Sheet'!$G32:'Budget Sheet'!$H32) -> 0
B33: NM Gross Receipts Tax (Location 1) | C33: =IF(D33<>"", D33, _xlfn.XLOOKUP(B33, 'PA Items with Category'!A:A, 'PA Items with Category'!B:B, "")) -> TAX | D33: TAX | G33: ='Budget Sheet'!$F33 -> 0 | H33: =IF(B33="match", E33*F33, "") | I33: =SUM('Budget Sheet'!$G33:'Budget Sheet'!$H33) -> 0
B34: NM Gross Receipts Tax (Location 2) | C34: =IF(D34<>"", D34, _xlfn.XLOOKUP(B34, 'PA Items with Category'!A:A, 'PA Items with Category'!B:B, "")) -> TAX | D34: TAX | G34: ='Budget Sheet'!$F34 -> 0 | H34: =IF(B34="match", E34*F34, "") | I34: =SUM('Budget Sheet'!$G34:'Budget Sheet'!$H34) -> 0
A36: Task 3 | B36: Item Number and Description | C36: =IF(D36<>"", D36, _xlfn.XLOOKUP(B36, 'PA Items with Category'!A:A, 'PA Items with Category'!B:B, "")) | G36: =IF(B36<>"match", E36*F36, "") -> 0 | H36: =IF(B36="match", E36*F36, "") | I36: =SUM('Budget Sheet'!$G36:'Budget Sheet'!$H36) -> 0
B37: Item Number and Description | C37: =IF(D37<>"", D37, _xlfn.XLOOKUP(B37, 'PA Items with Category'!A:A, 'PA Items with Category'!B:B, "")) | G37: =IF(B37<>"match", E37*F37, "") -> 0 | H37: =IF(B37="match", E37*F37, "") | I37: =SUM('Budget Sheet'!$G37:'Budget Sheet'!$H37) -> 0
B38: Item Number and Description | C38: =IF(D38<>"", D38, _xlfn.XLOOKUP(B38, 'PA Items with Category'!A:A, 'PA Items with Category'!B:B, "")) | G38: =IF(B38<>"match", E38*F38, "") -> 0 | H38: =IF(B38="match", E38*F38, "") | I38: =SUM('Budget Sheet'!$G38:'Budget Sheet'!$H38) -> 0
B39: Item Number and Description | C39: =IF(D39<>"", D39, _xlfn.XLOOKUP(B39, 'PA Items with Category'!A:A, 'PA Items with Category'!B:B, "")) | G39: =IF(B39<>"match", E39*F39, "") -> 0 | H39: =IF(B39="match", E39*F39, "") | I39: =SUM('Budget Sheet'!$G39:'Budget Sheet'!$H39) -> 0
B40: Item Number and Description | C40: =IF(D40<>"", D40, _xlfn.XLOOKUP(B40, 'PA Items with Category'!A:A, 'PA Items with Category'!B:B, "")) | G40: =IF(B40<>"match", E40*F40, "") -> 0 | H40: =IF(B40="match", E40*F40, "") | I40: =SUM('Budget Sheet'!$G40:'Budget Sheet'!$H40) -> 0
B41: Item Number and Description | C41: =IF(D41<>"", D41, _xlfn.XLOOKUP(B41, 'PA Items with Category'!A:A, 'PA Items with Category'!B:B, "")) | G41: =IF(B41<>"match", E41*F41, "") -> 0 | H41: =IF(B41="match", E41*F41, "") | I41: =SUM('Budget Sheet'!$G41:'Budget Sheet'!$H41) -> 0
B42: Item Number and Description | C42: =IF(D42<>"", D42, _xlfn.XLOOKUP(B42, 'PA Items with Category'!A:A, 'PA Items with Category'!B:B, "")) | G42: =IF(B42<>"match", E42*F42, "") -> 0 | H42: =IF(B42="match", E42*F42, "") | I42: =SUM('Budget Sheet'!$G42:'Budget Sheet'!$H42) -> 0
B43: Item Number and Description | C43: =IF(D43<>"", D43, _xlfn.XLOOKUP(B43, 'PA Items with Category'!A:A, 'PA Items with Category'!B:B, "")) | G43: =IF(B43<>"match", E43*F43, "") -> 0 | H43: =IF(B43="match", E43*F43, "") | I43: =SUM('Budget Sheet'!$G43:'Budget Sheet'!$H43) -> 0
B44: Other | C44: =IF(D44<>"", D44, _xlfn.XLOOKUP(B44, 'PA Items with Category'!A:A, 'PA Items with Category'!B:B, "")) | G44: =IF(B44<>"match", E44*F44, "") -> 0 | H44: =IF(B44="match", E44*F44, "") | I44: =SUM('Budget Sheet'!$G44:'Budget Sheet'!$H44) -> 0
B45: Other | C45: =IF(D45<>"", D45, _xlfn.XLOOKUP(B45, 'PA Items with Category'!A:A, 'PA Items with Category'!B:B, "")) | G45: =IF(B45<>"match", E45*F45, "") -> 0 | H45: =IF(B45="match", E45*F45, "") | I45: =SUM('Budget Sheet'!$G45:'Budget Sheet'!$H45) -> 0
...

Sheet Cost Summary by Category
A1: Category | B1: Requested Fund from NMED | C1: Cooperator's Cash or In-Kind Match | D1: Total Project Amount
A2: Personnel | B2: =SUMIF('Budget Sheet'!C:C, "PERSONNEL", 'Budget Sheet'!G:G) -> 0 | C2: =SUMIF('Budget Sheet'!C:C, "PERSONNEL", 'Budget Sheet'!H:H) -> 0 | D2: =SUM(B2:C2) -> 0
A3: Travel | B3: =SUMIF('Budget Sheet'!C:C, "TRAVEL", 'Budget Sheet'!G:G) -> 0 | C3: =SUMIF('Budget Sheet'!C:C, "TRAVEL", 'Budget Sheet'!H:H) -> 0 | D3: =SUM(B3:C3) -> 0
A4: Equipment | B4: =SUMIF('Budget Sheet'!C:C, "EQUIPMENT", 'Budget Sheet'!G:G) -> 0 | C4: =SUMIF('Budget Sheet'!C:C, "EQUIPMENT", 'Budget Sheet'!H:H) -> 0 | D4: =SUM(B4:C4) -> 0
A5: Supplies | B5: =SUMIF('Budget Sheet'!C:C, "SUPPLIES", 'Budget Sheet'!G:G) -> 0 | C5: =SUMIF('Budget Sheet'!C:C, "SUPPLIES", 'Budget Sheet'!H:H) -> 0 | D5: =SUM(B5:C5) -> 0
A6: Contractual | B6: =SUMIF('Budget Sheet'!C:C, "SUB CONTRACTUAL", 'Budget Sheet'!G:G) -> 0 | C6: =SUMIF('Budget Sheet'!C:C, "SUB CONTRACTUAL", 'Budget Sheet'!H:H) -> 0 | D6: =SUM(B6:C6) -> 0
A7: Other | B7: =SUMIF('Budget Sheet'!C:C, "OTHER", 'Budget Sheet'!G:G) -> 0 | C7: =SUMIF('Budget Sheet'!C:C, "OTHER", 'Budget Sheet'!H:H) -> 0 | D7: =SUM(B7:C7) -> 0
A8: Gross Receipts Tax | B8: =SUMIF('Budget Sheet'!C:C, "TAX", 'Budget Sheet'!G:G) -> 0 | C8: =SUMIF('Budget Sheet'!C:C, "TAX", 'Budget Sheet'!H:H) -> 0 | D8: =SUM(B8:C8) -> 0
A9: Total Project | B9: =SUM(B2:B8) -> 0 | C9: =SUM(C2:C8) -> 0 | D9: =SUM(B9:C9) -> 0
A12: No Manual Entry Required

Sheet Rate Schedules
A1: Resource Name | B1: Sub Contractor Y/N | C1: Position Title | D1: Hourly Rate | E1: Personnel Match Amount
A18: Manual Entry Required

Sheet PA Items with Category
A1: DO NOT MODIFY
A2: Item Number and Description
A3: Match
A4: 1. Mechanical Cutting of Trees/Shrubs, Average Slope less than 35% (e.g., feller buncher), cost per acre | B4: EQUIPMENT
A5: 2. Mechanical Cutting of Trees/Shrubs, Average Slope greater than 35%, cost per acre | B5: EQUIPMENT
A6: 3. Mechanical Mastication, Average Slope less than 35% (e.g., masticator), cost per acre | B6: EQUIPMENT
A7: 4. Mechanical Mastication, Average Slope greater than 35%, cost per acre | B7: EQUIPMENT
A8: 5. Mechanical Skidding, Average Slope less than 35%, cost per acre | B8: EQUIPMENT
A9: 6. Mechanical Skidding, Average Slope greater than 35%, cost per acre | B9: EQUIPMENT
A10: 7. Mechanical Extraction of Trees/Shrubs with Rootwads, Average Slope less than 35%, cost per hour | B10: EQUIPMENT
A11: 8. Mechanical Extraction of Trees/Shrubs with Rootwads, Average Slope greater than 35%, cost per hour | B11: EQUIPMENT
A12: 9. Mechanical Transportation of Materials Using a Dump Truck (e.g., rocks, boulders, trees, plants, containers, logs, etc.), cost per mile | B12: TRAVEL
A13: 10. Mechanical Transportation of Materials Using a Pickup Truck (with or without trailer), cost per mile | B13: TRAVEL
A14: 11. Mechanical Transportation of Materials Using a Truck and Trailer, cost per mile | B14: TRAVEL
A15: 12. Mechanical Collection of Plant Materials for Revegetation (e.g., whips and poles sourcing), cost per hour | B15: EQUIPMENT
... A73: 70. New Mexico Wetlands Rapid Assessment Method Data Collection, cost per hour | B73: PERSONNEL
