Workbook

Sheet Budget Instructions and Summary
A1: Appendix D: Budget Workbook Instructions and Summary Table
A2: Project Title: | D2: Date of Submission:
A3: Applicant Name:
A5: Please read the instructions on each workbook tab before starting. If you have questions regarding this Budget Workbook, refer to Section 6.1, Questions and Answers, of the RFA for instructions on submitting questions to NMED.
A6: 1. Carefully read the instructions on each tab before completing that section of the budget. 2. Fill out the blank white cells in workbook tabs a. through h. with project costs. The summary table will auto-populate based on the entries in each tab. 3. Only blank white cells should be populated. Blue colored cells contain headers or summary calculations and should not be modified. 4. Enter detailed support for the project costs identified for each Category line item. Major budget items should be explained in the applicable Project Narrative (Appendices F-J) section. The Budget Workbook should be consistent with the proposed Project Information, Workplan (Appendix A), Procurement Plan (Appendix B), and Project Narrative. 5. Ensure all entered costs are allowable, allocable (directly attributable to the proposed project), reasonable, and directly support completion of the proposed project, consistent with the requirements of the RFA and applicable laws (e.g., the New Mexico Manual of Model Accounting Practices). 6. Add rows as needed throughout tabs a. through h. If rows are added, formulas/calculations may need to be adjusted by the preparer. Do not add rows to the Budget Instructions and summary tab. 7. ALL budget period cost categories are rounded to the nearest dollar. 8. Below the Summary table, describe the Applicant's approach for managing project expenditures and ensuring grant funds will be expended in a timely and efficient manner. 9. Do not include cost share or matching funds. 10. Projects are generally expected to be completed within the four-year grant Performance Period. If the proposed project is anticipated to extend beyond four years, complete the applicable funding fields and describe the anticipated schedule. Approval of any extension is subject to the terms of the Grant Agreement. 11. If your project does not have expenses for a budget category, leave the table for the tab for that budget category blank. | N6: `
A8: SUMMARY OF BUDGET CATEGORY COSTS PROPOSED The values in this summary table are from entries made in subsequent tabs. Only blank white cells require data entry.
A10: CATEGORY | B10: Year 1 | C10: Year 2 | D10: Year 3 | E10: Year 4 | F10: Total Costs | G10: Budget Notes/Explanation (if needed)
A11: a. Personnel | B11: ='a. Personnel'!E7 -> 0 | C11: ='a. Personnel'!H7 -> 0 | D11: ='a. Personnel'!K7 -> 0 | E11: ='a. Personnel'!N7 -> 0 | F11: =SUM(B11:E11) -> 0 | J11: Total Award Amount
A12: b. Fringe Benefits | B12: ='b. Fringe'!D7 -> 0 | C12: ='b. Fringe'!G7 -> 0 | D12: ='b. Fringe'!J7 -> 0 | E12: ='b. Fringe'!M7 -> 0 | F12: =SUM(B12:E12) -> 0 | J12: Total Cost Years 1-4 | M12: =F19 -> 0
A13: c. Travel | B13: ='c. Travel'!K13 -> 0 | C13: ='c. Travel'!K19 -> 0 | D13: ='c. Travel'!K25 -> 0 | E13: ='c. Travel'!K31 -> 0 | F13: =SUM(B13:E13) -> 0 | J13: *Funding for Years 5+ (if applicable) | M13: =M11-M12 -> 0
A14: d. Equipment | B14: ='d. Equipment'!D10 -> 0 | C14: ='d. Equipment'!D13 -> 0 | D14: ='d. Equipment'!D16 -> 0 | E14: ='d. Equipment'!D19 -> 0 | F14: =SUM(B14:E14) -> 0 | J14: *Most projects will be completed in the 4-year project period. For projects that go beyond 4 years, the "Funding for Years 5+" will be auto-calculated as "Total Award Amount" minus "Total Cost Years 1-4." For projects that extend beyond 4 years, you must file an extension request as described in the executed Grant Agreement.
A15: e. Supplies | B15: ='e. Supplies'!D15 -> 0 | C15: ='e. Supplies'!D23 -> 0 | D15: ='e. Supplies'!D31 -> 0 | E15: ='e. Supplies'!D39 -> 0 | F15: =SUM(B15:E15) -> 0
A16: f. Contractual | B16: ='f. Contractual'!C17 -> 0 | C16: ='f. Contractual'!D17 -> 0 | D16: ='f. Contractual'!E17 -> 0 | E16: ='f. Contractual'!F17 -> 0 | F16: =SUM(B16:E16) -> 0
A17: g. Other | B17: ='g. Other'!D10 -> 0 | C17: ='g. Other'!D13 -> 0 | D17: ='g. Other'!D16 -> 0 | E17: ='g. Other'!D19 -> 0 | F17: =SUM(B17:E17) -> 0
A18: h. Contingencies | B18: ='h. Contingencies'!C14 -> 0 | C18: ='h. Contingencies'!D14 -> 0 | D18: ='h. Contingencies'!E14 -> 0 | E18: ='h. Contingencies'!F14 -> 0 | F18: =SUM(B18:E18) -> 0
A19: TOTAL COST | B19: =SUM(B11:B18) -> 0 | C19: =SUM(C11:C18) -> 0 | D19: =SUM(D11:D18) -> 0 | E19: =SUM(E11:E18) -> 0 | F19: =SUM(F11:F18) -> 0
A22: Budget Summary and Assumptions (if needed):

Sheet a. Personnel
A2: a. Personnel
A3: INSTRUCTIONS - PLEASE READ Only blank white cells should be populated. 1. Only list personnel that are direct hires of the grantee entity. All costs for contractors (including consultants) must be included under f. Contractual. 2. All personnel should be identified by Position Title and not employee name. For each position, fill in the Full Time Equivalent (FTE; e.g., one full-time (40hrs/wk) employee would be 1 FTE; one half-time (20 hrs/wk) employee would be .5 FTE) and the Pay Rate. The total cost for each budget period will automatically calculate based on a 40 hour work week for 52 weeks in the year. 3. Grantees are encouraged to account for anticipated cost increases between project years, such as cost-of-living increases. 4. If more than one personnel has the same Position Title (e.g., “Technician 1”), list that Position Title multiple times with the associated FTE and Pay Rate (i.e., if 3 personnel hold a "Technician 1" Title, there should be three line items with the Position Title "Technician 1"). 5. Fill out the Description column with roles and responsibilities for each position. Describe whether each position is intended to be temporary or permanent. If temporary, describe the anticipated timeframe for the position. 6. Each budget period is rounded to the nearest dollar.
A5: Position Title | B5: Description | C5: Year 1 | F5: Year 2 | I5: Year 3 | L5: Year 4 | O5: Project Dollars Total
C6: FTE | D6: Pay Rate ($/Hr) | E6: Total Budget Period 1 | F6: FTE | G6: Pay Rate ($/Hr) | H6: Total Budget Period 2 | I6: FTE | J6: Pay Rate ($/Hr) | K6: Total Budget Period 2 | L6: FTE | M6: Pay Rate ($/Hr) | N6: Total Budget Period 2
A7: Project Totals | C7: =SUM(C8:C24) -> 0 | E7: =SUM(E8:E24) -> 0 | F7: =SUM(F8:F24) -> 0 | H7: =SUM(H8:H24) -> 0 | I7: =SUM(I8:I24) -> 0 | K7: =SUM(K8:K24) -> 0 | L7: =SUM(L8:L24) -> 0 | N7: =SUM(N8:N24) -> 0 | O7: =SUM(O8:O24) -> 0
E8: =C8*D8*40*52 -> 0 | H8: =F8*G8*40*52 -> 0 | K8: =I8*J8*40*52 -> 0 | N8: =L8*M8*40*52 -> 0 | O8: =E8+H8+K8+N8 -> 0
E9: =C9*D9*40*52 -> 0 | H9: =F9*G9*40*52 -> 0 | K9: =I9*J9*40*52 -> 0 | N9: =L9*M9*40*52 -> 0 | O9: =E9+H9+K9+N9 -> 0
E10: =C10*D10*40*52 -> 0 | H10: =F10*G10*40*52 -> 0 | K10: =I10*J10*40*52 -> 0 | N10: =L10*M10*40*52 -> 0 | O10: =E10+H10+K10+N10 -> 0
E11: =C11*D11*40*52 -> 0 | H11: =F11*G11*40*52 -> 0 | K11: =I11*J11*40*52 -> 0 | N11: =L11*M11*40*52 -> 0 | O11: =E11+H11+K11+N11 -> 0
E12: =C12*D12*40*52 -> 0 | H12: =F12*G12*40*52 -> 0 | K12: =I12*J12*40*52 -> 0 | N12: =L12*M12*40*52 -> 0 | O12: =E12+H12+K12+N12 -> 0
E13: =C13*D13*40*52 -> 0 | H13: =F13*G13*40*52 -> 0 | K13: =I13*J13*40*52 -> 0 | N13: =L13*M13*40*52 -> 0 | O13: =E13+H13+K13+N13 -> 0
E14: =C14*D14*40*52 -> 0 | H14: =F14*G14*40*52 -> 0 | K14: =I14*J14*40*52 -> 0 | N14: =L14*M14*40*52 -> 0 | O14: =E14+H14+K14+N14 -> 0
E15: =C15*D15*40*52 -> 0 | H15: =F15*G15*40*52 -> 0 | K15: =I15*J15*40*52 -> 0 | N15: =L15*M15*40*52 -> 0 | O15: =E15+H15+K15+N15 -> 0
E16: =C16*D16*40*52 -> 0 | H16: =F16*G16*40*52 -> 0 | K16: =I16*J16*40*52 -> 0 | N16: =L16*M16*40*52 -> 0 | O16: =E16+H16+K16+N16 -> 0
E17: 0 | H17: 0 | K17: 0 | N17: 0 | O17: 0
E18: =C18*D18*40*52 -> 0 | H18: =F18*G18*40*52 -> 0 | K18: =I18*J18*40*52 -> 0 | N18: =L18*M18*40*52 -> 0 | O18: =E18+H18+K18+N18 -> 0
E19: =C19*D19*40*52 -> 0 | H19: =F19*G19*40*52 -> 0 | K19: =I19*J19*40*52 -> 0 | N19: =L19*M19*40*52 -> 0 | O19: =E19+H19+K19+N19 -> 0
E20: =C20*D20*40*52 -> 0 | H20: =F20*G20*40*52 -> 0 | K20: =I20*J20*40*52 -> 0 | N20: =L20*M20*40*52 -> 0 | O20: =E20+H20+K20+N20 -> 0
E21: =C21*D21*40*52 -> 0 | H21: =F21*G21*40*52 -> 0 | K21: =I21*J21*40*52 -> 0 | N21: =L21*M21*40*52 -> 0 | O21: =E21+H21+K21+N21 -> 0
E22: =C22*D22*40*52 -> 0 | H22: =F22*G22*40*52 -> 0 | K22: =I22*J22*40*52 -> 0 | N22: =L22*M22*40*52 -> 0 | O22: =E22+H22+K22+N22 -> 0
E23: =C23*D23*40*52 -> 0 | H23: =F23*G23*40*52 -> 0 | K23: =I23*J23*40*52 -> 0 | N23: =L23*M23*40*52 -> 0 | O23: =E23+H23+K23+N23 -> 0
E24: =C24*D24*40*52 -> 0 | H24: =F24*G24*40*52 -> 0 | K24: =I24*J24*40*52 -> 0 | N24: =L24*M24*40*52 -> 0 | O24: =E24+H24+K24+N24 -> 0
A27: Additional Explanation (as needed):

Sheet b. Fringe
A2: b. Fringe Benefits
A3: INSTRUCTIONS - PLEASE READ Only blank white cells should be populated. Fringe benefits are defined as the employer contributions or expenses for social security; employee life, health, unemployment, and worker's compensation insurance; pension plan costs; and other similar benefits. Fringe benefits are allowable, provided such benefits are permitted under established written policies. 1. Fill out the table below, with each position listed in a separate line. Add additional lines if needed. If all employees receive the same fringe benefits, you can show "Total Personnel" in the Labor Type column instead of listing out all position titles. 2. The rates and how they are applied should not be averaged to get one fringe cost percentage. Complex calculations should be described/provided in the Additional Explanation section below. 3. Fringe benefit charges must be reasonable - see an example breakdown of benefits at https://www.spo.state.nm.us/career-services/total-compensation/ 4. Each budget period is rounded to the nearest dollar.
A5: Position Title (auto-fills from Personnel tab) | B5: Year 1 | E5: Year 2 | H5: Year 3 | K5: Year 4 | N5: Total Project Cost
B6: Personnel Costs | C6: Fringe Rate | D6: Total Cost | E6: Personnel Costs | F6: Fringe Rate | G6: Total Cost | H6: Personnel Costs | I6: Fringe Rate | J6: Total Cost | K6: Personnel Costs | L6: Fringe Rate | M6: Total Cost
A7: Project Totals | B7: =SUM(B8:B24) -> 0 | D7: =SUM(D8:D24) -> 0 | E7: =SUM(E8:E24) -> 0 | G7: =SUM(G8:G24) -> 0 | H7: =SUM(H8:H24) -> 0 | J7: =SUM(J8:J24) -> 0 | K7: =SUM(K8:K24) -> 0 | M7: =SUM(M8:M24) -> 0 | N7: =SUM(N8:N24) -> 0
A8: ='a. Personnel'!A8 -> 0 | B8: ='a. Personnel'!E8 -> 0 | D8: =B8*C8 -> 0 | E8: ='a. Personnel'!H8 -> 0 | G8: =E8*F8 -> 0 | H8: ='a. Personnel'!K8 -> 0 | J8: =H8*I8 -> 0 | K8: ='a. Personnel'!N8 -> 0 | M8: =K8*L8 -> 0 | N8: =D8+G8+J8+M8 -> 0
A9: ='a. Personnel'!A9 -> 0 | B9: ='a. Personnel'!E9 -> 0 | D9: =B9*C9 -> 0 | E9: ='a. Personnel'!H9 -> 0 | G9: =E9*F9 -> 0 | H9: ='a. Personnel'!K9 -> 0 | J9: =H9*I9 -> 0 | K9: ='a. Personnel'!N9 -> 0 | M9: =K9*L9 -> 0 | N9: =D9+G9+J9+M9 -> 0
A10: ='a. Personnel'!A10 -> 0 | B10: ='a. Personnel'!E10 -> 0 | D10: =B10*C10 -> 0 | E10: ='a. Personnel'!H10 -> 0 | G10: =E10*F10 -> 0 | H10: ='a. Personnel'!K10 -> 0 | J10: =H10*I10 -> 0 | K10: ='a. Personnel'!N10 -> 0 | M10: =K10*L10 -> 0 | N10: =D10+G10+J10+M10 -> 0
A11: ='a. Personnel'!A11 -> 0 | B11: ='a. Personnel'!E11 -> 0 | D11: =B11*C11 -> 0 | E11: ='a. Personnel'!H11 -> 0 | G11: =E11*F11 -> 0 | H11: ='a. Personnel'!K11 -> 0 | J11: =H11*I11 -> 0 | K11: ='a. Personnel'!N11 -> 0 | M11: =K11*L11 -> 0 | N11: =D11+G11+J11+M11 -> 0
A12: ='a. Personnel'!A12 -> 0 | B12: ='a. Personnel'!E12 -> 0 | D12: =B12*C12 -> 0 | E12: ='a. Personnel'!H12 -> 0 | G12: =E12*F12 -> 0 | H12: ='a. Personnel'!K12 -> 0 | J12: =H12*I12 -> 0 | K12: ='a. Personnel'!N12 -> 0 | M12: =K12*L12 -> 0 | N12: =D12+G12+J12+M12 -> 0
A13: ='a. Personnel'!A13 -> 0 | B13: ='a. Personnel'!E13 -> 0 | D13: =B13*C13 -> 0 | E13: ='a. Personnel'!H13 -> 0 | G13: =E13*F13 -> 0 | H13: ='a. Personnel'!K13 -> 0 | J13: =H13*I13 -> 0 | K13: ='a. Personnel'!N13 -> 0 | M13: =K13*L13 -> 0 | N13: =D13+G13+J13+M13 -> 0
A14: ='a. Personnel'!A14 -> 0 | B14: ='a. Personnel'!E14 -> 0 | D14: =B14*C14 -> 0 | E14: ='a. Personnel'!H14 -> 0 | G14: =E14*F14 -> 0 | H14: ='a. Personnel'!K14 -> 0 | J14: =H14*I14 -> 0 | K14: ='a. Personnel'!N14 -> 0 | M14: =K14*L14 -> 0 | N14: =D14+G14+J14+M14 -> 0
A15: ='a. Personnel'!A15 -> 0 | B15: ='a. Personnel'!E15 -> 0 | D15: =B15*C15 -> 0 | E15: ='a. Personnel'!H15 -> 0 | G15: =E15*F15 -> 0 | H15: ='a. Personnel'!K15 -> 0 | J15: =H15*I15 -> 0 | K15: ='a. Personnel'!N15 -> 0 | M15: =K15*L15 -> 0 | N15: =D15+G15+J15+M15 -> 0
A16: ='a. Personnel'!A16 -> 0 | B16: ='a. Personnel'!E16 -> 0 | D16: =B16*C16 -> 0 | E16: ='a. Personnel'!H16 -> 0 | G16: =E16*F16 -> 0 | H16: ='a. Personnel'!K16 -> 0 | J16: =H16*I16 -> 0 | K16: ='a. Personnel'!N16 -> 0 | M16: =K16*L16 -> 0 | N16: =D16+G16+J16+M16 -> 0
A17: ='a. Personnel'!A17 -> 0 | B17: ='a. Personnel'!E17 -> 0 | D17: =B17*C17 -> 0 | E17: ='a. Personnel'!H17 -> 0 | G17: =E17*F17 -> 0 | H17: ='a. Personnel'!K17 -> 0 | J17: =H17*I17 -> 0 | K17: ='a. Personnel'!N17 -> 0 | M17: =K17*L17 -> 0 | N17: =D17+G17+J17+M17 -> 0
A18: ='a. Personnel'!A18 -> 0 | B18: ='a. Personnel'!E18 -> 0 | D18: =B18*C18 -> 0 | E18: ='a. Personnel'!H18 -> 0 | G18: =E18*F18 -> 0 | H18: ='a. Personnel'!K18 -> 0 | J18: =H18*I18 -> 0 | K18: ='a. Personnel'!N18 -> 0 | M18: =K18*L18 -> 0 | N18: =D18+G18+J18+M18 -> 0
A19: ='a. Personnel'!A19 -> 0 | B19: ='a. Personnel'!E19 -> 0 | D19: =B19*C19 -> 0 | E19: ='a. Personnel'!H19 -> 0 | G19: =E19*F19 -> 0 | H19: ='a. Personnel'!K19 -> 0 | J19: =H19*I19 -> 0 | K19: ='a. Personnel'!N19 -> 0 | M19: =K19*L19 -> 0 | N19: =D19+G19+J19+M19 -> 0
... A24: ='a. Personnel'!A24 -> 0 | B24: ='a. Personnel'!E24 -> 0 | D24: =B24*C24 -> 0 | E24: ='a. Personnel'!H24 -> 0 | G24: =E24*F24 -> 0 | H24: ='a. Personnel'!K24 -> 0 | J24: =H24*I24 -> 0 | K24: ='a. Personnel'!N24 -> 0 | M24: =K24*L24 -> 0 | N24: =D24+G24+J24+M24 -> 0
A26: Additional Explanation: Please use this box (or an attachment) to list the elements that comprise your fringe benefits and how they are applied to your base (e.g. Personnel) to arrive at your fringe benefit rate.

Sheet c. Travel
A2: c. Travel
A3: INSTRUCTIONS - PLEASE READ Only blank white cells should be populated. 1. Enter travel details below. Examples of Purpose of Travel include off-site trainings and events, subrecipient site visits, project management meetings, etc. Examples of Basis for Estimating Costs are past trips, travel quotes, NM Travel Policy and Procedure (https://www.nmdfa.state.nm.us/wp-content/uploads/2025/07/NM-Travel-Policy-and-Procedure-FY24.pdf), etc. 2. All listed travel must be necessary to achieve project goals and objectives and should also be described in the workplan. 3. Travel costs are governed by NMSA Chapter 10, Article 8 - Per Diem and Mileage Act. Travel costs should remain consistent with travel costs incurred by an organization during normal business operations as a result of the organization's written travel policy. In absence of a written travel policy, organizations must follow the policy in the NM Travel Policy and Procedure or similar NM Indian Affairs Department policies. 4. Use Column I to capture any Additional Transportation Costs for the trip. See NM Travel Policy and Procedure for guidance on allowable transportation expenses. 5. If foreign travel is proposed, be sure to note it in the "Purpose of Travel" and/or "Additional Explanation" sections. Any foreign travel will require the proper documentation and approvals from the New Mexico Department of the Environment. 6. Each budget period is rounded to the nearest dollar.
A6: Project Total | L6: =K13+K19+K25+K31 -> 0
A7: Purpose of Travel | B7: Depart From | C7: Destination | D7: No. of Travelers | E7: No. of Days | F7: No. of Nights | G7: Lodging per night per Traveler | H7: Flight per Traveler | I7: Additional Transportation Costs | J7: Per Diem per Traveler | K7: Cost per Trip | L7: Basis for Estimating Costs
B8: Year 1
K9: =(E9*J9*D9)+(F9*G9*D9)+(H9*D9)+I9 -> 0
K10: =(E10*J10*D10)+(F10*G10*D10)+(H10*D10)+I10 -> 0
K11: =(E11*J11*D11)+(F11*G11*D11)+(H11*D11)+I11 -> 0
K12: =(E12*J12*D12)+(F12*G12*D12)+(H12*D12)+I12 -> 0
A13: Year 1 Total | K13: =SUM(K9:K12) -> 0
B14: Year 2
K15: =(E15*J15*D15)+(F15*G15*D15)+(H15*D15)+I15 -> 0
K16: =(E16*J16*D16)+(F16*G16*D16)+(H16*D16)+I16 -> 0
K17: =(E17*J17*D17)+(F17*G17*D17)+(H17*D17)+I17 -> 0
K18: =(E18*J18*D18)+(F18*G18*D18)+(H18*D18)+I18 -> 0
A19: Year 2 Total | K19: =SUM(K15:K18) -> 0
B20: Year 3
K21: =(E21*J21*D21)+(F21*G21*D21)+(H21*D21)+I21 -> 0
K22: =(E22*J22*D22)+(F22*G22*D22)+(H22*D22)+I22 -> 0
K23: =(E23*J23*D23)+(F23*G23*D23)+(H23*D23)+I23 -> 0
K24: =(E24*J24*D24)+(F24*G24*D24)+(H24*D24)+I24 -> 0
A25: Year 3 Total | K25: =SUM(K21:K24) -> 0
B26: Year 4
K27: =(E27*J27*D27)+(F27*G27*D27)+(H27*D27)+I27 -> 0
K28: =(E28*J28*D28)+(F28*G28*D28)+(H28*D28)+I28 -> 0
K29: =(E29*J29*D29)+(F29*G29*D29)+(H29*D29)+I29 -> 0
K30: =(E30*J30*D30)+(F30*G30*D30)+(H30*D30)+I30 -> 0
A31: Year 4 Total | K31: =SUM(K27:K30) -> 0
A34: Additional Explanation (as needed):

Sheet d. Equipment
A2: d. Equipment
A3: INSTRUCTIONS - PLEASE READ Only blank white cells should be populated. 1. Equipment is generally defined as an item with an acquisition cost equal to or greater than $10,000 per unit, and a useful life expectancy of more than one year. Please refer to the applicable regulations in the NM Model Accounting Practices Manual for specific equipment definitions and treatment. 2. List all equipment below, providing a basis of cost (e.g. vendor quotes, catalog prices, prior invoices, etc.). In the Description column, briefly justify items as they relate to the workplan. 3. Each budget period is rounded to the nearest dollar.
A6: Project Total | D6: =D10+D13+D16+D19 -> 0
A7: Equipment Item | B7: Qty | C7: Unit Cost | D7: Total Cost | E7: Basis of Cost | F7: Description
A8: Year 1
D9: =B9*C9 -> 0
A10: Year 1 Total | D10: =SUM(D9:D9) -> 0
A11: Year 2
D12: =B12*C12 -> 0
A13: Year 2 Total | D13: =SUM(D12:D12) -> 0
A14: Year 3
D15: =B15*C15 -> 0
A16: Year 3 Total | D16: =SUM(D15:D15) -> 0
A17: Year 4
D18: =B18*C18 -> 0
A19: Year 4 Total | D19: =SUM(D18:D18) -> 0
A21: Additional Explanation (as needed):

Sheet e. Supplies
A2: e. Supplies
A3: INSTRUCTIONS - PLEASE READ Only blank white cells should be populated. 1. Supplies means all tangible personal property other than “equipment.” Supplies are generally defined as an item with an acquisition cost of less than $10,000 per unit and a useful life expectancy of less than one year. Supplies are generally consumed during the project performance. The budget description should identify categories of supplies to be procured (e.g., laboratory supplies or office supplies). Non-tangible goods and services associated with supplies, such as occasional photocopy services and rental costs should be included in the “Other” category. 2. List all proposed supplies below, providing a basis of costs (e.g. vendor quotes, catalog prices, prior invoices, etc.). Briefly justify the need for the Supplies as they apply to the workplan. 3. Multiple supply items valued at under $10,000 used to assemble an equipment item with a value greater than $10,000 with a useful life of more than one year should be included under d. Equipment. 4. Add rows as needed. If rows are added, formulas/calculations may need to be adjusted by the preparer. 5. Each budget period is rounded to the nearest dollar.
A6: Project Total | D6: =D15+D23+D31+D39 -> 0
A7: Supply Item | B7: Qty | C7: Unit Cost | D7: Total Cost | E7: Basis of Cost | F7: Description
A8: Year 1
D9: =B9*C9 -> 0
D10: =B10*C10 -> 0
D11: =B11*C11 -> 0
D12: =B12*C12 -> 0
D13: =B13*C13 -> 0
D14: =B14*C14 -> 0
A15: Year 1 Total | D15: =SUM(D9:D14) -> 0
A16: Year 2
D17: =B17*C17 -> 0
D18: =B18*C18 -> 0
D19: =B19*C19 -> 0
D20: =B20*C20 -> 0
D21: =B21*C21 -> 0
D22: =B22*C22 -> 0
A23: Year 2 Total | D23: =SUM(D17:D22) -> 0
A24: Year 3
D25: =B25*C25 -> 0
D26: =B26*C26 -> 0
D27: =B27*C27 -> 0
D28: =B28*C28 -> 0
D29: =B29*C29 -> 0
D30: =B30*C30 -> 0
A31: Year 3 Total | D31: =SUM(D25:D30) -> 0
A32: Year 4
D33: =B33*C33 -> 0
D34: =B34*C34 -> 0
D35: =B35*C35 -> 0
D36: =B36*C36 -> 0
D37: =B37*C37 -> 0
D38: =B38*C38 -> 0
A39: Year 4 Total | D39: =SUM(D33:D38) -> 0
A41: Additional Explanation (as needed):

Sheet f. Contractual
A2: f. Contractual
A3: INSTRUCTIONS - PLEASE READ Only blank white cells should be populated. 1. List all procurement contracts under the proposed project. Recipients use procurement contracts to acquire property (including intellectual property such software licenses) and services needed to carry out the NMED funded project or program. See the NM Model Accounting Practices Manual for procurement guidelines. 2. In the “Purpose and Basis of Cost” column below, briefly describe the scope of work or services to be provided, proposed duration, and proposed procurement method (competitive or non-competitive). 4. Each budget period is rounded to the nearest dollar.
A6: Contractor/Service | B6: Purpose and Basis of Cost | C6: Year 1 | D6: Year 2 | E6: Year 3 | F6: Year 4 | G6: Project Total
G8: =SUM(C8:F8) -> 0
G9: =SUM(C9:F9) -> 0
G10: =SUM(C10:F10) -> 0
G11: =SUM(C11:F11) -> 0
G12: =SUM(C12:F12) -> 0
G13: =SUM(C13:F13) -> 0
G14: =SUM(C14:F14) -> 0
G15: =SUM(C15:F15) -> 0
G16: =SUM(C16:F16) -> 0
A17: Total Contractual | C17: =SUM(C8:C16) -> 0 | D17: =SUM(D8:D16) -> 0 | E17: =SUM(E8:E16) -> 0 | F17: =SUM(F8:F16) -> 0 | G17: =SUM(C17:F17) -> 0
A19: Additional Explanation (as needed):
F33: .
F34: .

Sheet g. Other
A2: h. Other
A3: INSTRUCTIONS - PLEASE READ Only blank white cells should be populated. 1. This category must include only those types of direct costs that do not fit in any of the specific budget categories. Examples of costs that may be in this category are: insurance; telephone services and utilities; occasional document reproduction at local copying centers; rental/lease of equipment, office space, and meeting facilities; participant support costs; subawards; and land acquisition costs when authorized under the financial assistance program. 2. Basis of cost are items such as vendor quotes, prior purchases of similar or like items, published price list, etc. 3. Please fill out the Description and Justification column with a detailed description of "Other" cost items and how they will be used in the project. 4. Please be sure to tag any expenses/items next to the "Item name (in parentheses)" that may go to subawardees with “Subaward,” and any participant support costs (such as stipends/incentives/rebates) with “PSC.” Provide detail (or reference to your workplan) such as how much each participant will receive, merit to receive item or money, and how many participants will get the incentive. 4. Each budget period is rounded to the nearest dollar.
A6: Project Total | D6: =D10+D13+D16+D19 -> 0
A7: Item | B7: Unit Cost | C7: Quantity | D7: Total Cost | E7: Basis of Cost | F7: Description and Justification
A8: Year 1
D9: =B9*C9 -> 0
A10: Year 1 Total | D10: =SUM(D9:D9) -> 0
A11: Year 2
D12: =B12*C12 -> 0
A13: Year 2 Total | D13: =SUM(D12:D12) -> 0
A14: Year 3
D15: =B15*C15 -> 0
A16: Year 3 Total | D16: =SUM(D15:D15) -> 0
A17: Year 4
D18: =B18*C18 -> 0
A19: Year 4 Total | D19: =SUM(D18:D18) -> 0
A21: Additional Explanation (as needed):

Sheet h. Contingencies
A2: h. Contingencies
A3: INSTRUCTIONS - PLEASE READ Only blank white cells should be populated. 1. If needed, list any funds set aside to cover possible unforseen expenses or risks that may arise during the initial 4-year project period. This section should not include funds budgeted for activities beyond the 4-year project period - those are accounted for in the Budget Instructions and Summary tab. 2. In the Purpose and Basis of Cost column below, briefly provide a justification for the contingency funds. 4. Briefly explain in the the Additional Explanation section below how the amount of funds to set aside for contingencies was determined. 5. Each budget period is rounded to the nearest dollar.
A6: Contingency | B6: Purpose and Basis of Cost | C6: Year 1 | D6: Year 2 | E6: Year 3 | F6: Year 4 | G6: Project Total
G7: =SUM(C7:F7) -> 0
G8: =SUM(C8:F8) -> 0
G9: =SUM(C9:F9) -> 0
G10: =SUM(C10:F10) -> 0
G11: =SUM(C11:F11) -> 0
G12: =SUM(C12:F12) -> 0
G13: =SUM(C13:F13) -> 0
A14: Total Contractual | C14: =SUM(C8:C13) -> 0 | D14: =SUM(D8:D13) -> 0 | E14: =SUM(E8:E13) -> 0 | F14: 0 | G14: =SUM(C14:F14) -> 0
A16: Additional Explanation (as needed):

Sheet SF-424A
A1: Applicant Name: | E1: Award Number:
A2: Budget Information - Non Construction Programs
A3: OMB Approval No. 0348-0044
A4: Section A - Budget Summary
B5: Grant Program Function or Activity | C5: Catalog of Federal Domestic Assistance Number | D5: Estimated Unobligated Funds | F5: New or Revised Budget
D6: Federal | E6: Non-Federal | F6: Federal | G6: Non-Federal | H6: Total
B7: (a) | C7: (b) | D7: (c ) | E7: (d) | F7: (e) | G7: (f) | H7: (g)
A8: 1. | B8: Budget period 1 | F8: =D26-G8 -> #REF! | G8: =#REF! -> #REF! | H8: =SUM(D8:G8) -> #REF!
A9: 2. | B9: Budget period 2 | F9: =E26-G9 -> #REF! | G9: =#REF! -> #REF! | H9: =SUM(D9:G9) -> #REF!
A10: 3. | B10: Budget period 3 | F10: =F26-#REF! -> #REF! | G10: =#REF! -> #REF! | H10: =SUM(D10:G10) -> #REF!
A11: 4. | H11: =SUM(D11:G11) -> 0
A12: 5. | B12: Totals | D12: =SUM(D8:D11) -> 0 | E12: =SUM(E8:E11) -> 0 | F12: =SUM(F8:F11) -> #REF! | G12: =SUM(G8:G11) -> #REF! | H12: =SUM(H8:H11) -> #REF!
A13: Section B - Budget Categories
A14: 6. | B14: Object Class Categories | D14: Grant Program, Function or Activity | H14: Total (5)
D15: Budget period 1 | E15: Budget period 2 | F15: Budget period 3 | G15: (4)
B16: a. Personnel | D16: ='Budget Instructions and Summary'!B11 -> 0 | E16: ='Budget Instructions and Summary'!C11 -> 0 | F16: ='Budget Instructions and Summary'!#REF! -> #REF! | H16: =SUM(D16:G16) -> #REF!
B17: b. Fringe Benefits | D17: ='Budget Instructions and Summary'!B12 -> 0 | E17: ='Budget Instructions and Summary'!C12 -> 0 | F17: ='Budget Instructions and Summary'!#REF! -> #REF! | H17: =SUM(D17:G17) -> #REF!
B18: c. Travel | D18: ='Budget Instructions and Summary'!B13 -> 0 | E18: ='Budget Instructions and Summary'!C13 -> 0 | F18: ='Budget Instructions and Summary'!#REF! -> #REF! | H18: =SUM(D18:G18) -> #REF!
B19: d. Equipment | D19: ='Budget Instructions and Summary'!B14 -> 0 | E19: ='Budget Instructions and Summary'!C14 -> 0 | F19: ='Budget Instructions and Summary'!#REF! -> #REF! | H19: =SUM(D19:G19) -> #REF!
B20: e. Supplies | D20: ='Budget Instructions and Summary'!B15 -> 0 | E20: ='Budget Instructions and Summary'!C15 -> 0 | F20: ='Budget Instructions and Summary'!#REF! -> #REF! | H20: =SUM(D20:G20) -> #REF!
B21: f. Contractual | D21: ='Budget Instructions and Summary'!#REF! -> #REF! | E21: ='Budget Instructions and Summary'!#REF! -> #REF! | F21: ='Budget Instructions and Summary'!#REF! -> #REF! | H21: =SUM(D21:G21) -> #REF!
B22: g. Construction | D22: ='Budget Instructions and Summary'!#REF! -> #REF! | E22: ='Budget Instructions and Summary'!#REF! -> #REF! | F22: ='Budget Instructions and Summary'!#REF! -> #REF! | H22: =SUM(D22:G22) -> #REF!
B23: h. Other | D23: ='Budget Instructions and Summary'!B17 -> 0 | E23: ='Budget Instructions and Summary'!C17 -> 0 | F23: ='Budget Instructions and Summary'!#REF! -> #REF! | H23: =SUM(D23:G23) -> #REF!
B24: i. Total Direct Charges (sum of 6a-6h) | D24: =SUM(D16:D23) -> #REF! | E24: =SUM(E16:E23) -> #REF! | F24: =SUM(F16:F23) -> #REF! | G24: =SUM(G16:G23) -> 0 | H24: =SUM(D24:G24) -> #REF!
B25: j. Indirect Charges | D25: ='Budget Instructions and Summary'!B18 -> 0 | E25: ='Budget Instructions and Summary'!C18 -> 0 | F25: ='Budget Instructions and Summary'!#REF! -> #REF! | H25: =SUM(D25:G25) -> #REF!
B26: k. Totals (sum of 6i-6j) | D26: =SUM(D24:D25) -> #REF! | E26: =SUM(E24:E25) -> #REF! | F26: =SUM(F24:F25) -> #REF! | G26: =SUM(G24:G25) -> 0 | H26: =SUM(H24:H25) -> #REF!
A28: 7. | B28: Program Income | H28: =SUM(D28:G28) -> 0
H30: SF-424A (Rev. 4-92)
A31: Previous Edition Usable | G31: Prescribed by OMB Circular A-102
A32: Authorized for Local Reproduction
A34: Section C - Non-Federal Resources
B35: (a) Grant Program | E35: (b) Applicant | F35: (c ) State | G35: (d) Other Sources | H35: (e) Totals
A36: 8. | B36: Budget period 1 | H36: =SUM(E36:G36) -> 0
A37: 9. | B37: Budget period 2 | H37: =SUM(E37:G37) -> 0
A38: 10. | B38: Budget period 3 | H38: =SUM(E38:G38) -> 0
A39: 11. | H39: =SUM(E39:G39) -> 0
A40: 12. | B40: Total (sum of lines 8 - 11) | E40: =SUM(E36:E39) -> 0 | F40: =SUM(F36:F39) -> 0 | G40: =SUM(G36:G39) -> 0 | H40: =SUM(H36:H39) -> 0
A41: Section D - Forecasted Cash Needs
D42: Total for 1st Year | E42: 1st Quarter | F42: 2nd Quarter | G42: 3rd Quarter | H42: 4th quarter
A43: 13. | B43: Federal | D43: =SUM(E43:H43) -> 0
...
