Workbook
Name kWh2BTU: [1]Fuel_Specs!$F$208

Sheet CI_Summary
C2: New Mexico Clean Transportation Fuel Program (CTFP)
C4: 2025 Electricity Distribution Utility (EDU) Carbon Intensity (CI) Calculations
B6: WTW CI (gCO₂e/MJ):
B7: Fuel / Utility | C7: PNM | D7: Xcel Energy | E7: Tri-State G&T | F7: El Paso Electric | G7: Los Alamos County | H7: Western Farmers | I7: Novapache | J7: eGRID_AZNM | K7: eGRID_SPSO
B8: CI (gCO₂e/MJ) | C8: =PNM!C18 -> 51.692902 | D8: =Xcel!C18 -> 114.32876 | E8: =TriState!C18 -> 113.61873 | F8: =ElPaso!C18 -> 80.181782 | G8: =LosAlamos!C18 -> 117.53842 | H8: =Western_Farmers!C18 -> 112.1899 | I8: =Navopache!C18 -> 181.55398 | J8: =eGRID_AZNM!C16 -> 106.78281 | K8: =eGRID_SPSO!C17 -> 121.46526
B10: Electricity Procurement Volume (MWh), if available
B11: Fuel / Utility | C11: PNM | D11: Xcel Energy | E11: Tri-State G&T | F11: El Paso Electric | G11: Los Alamos County | H11: Western Farmers* | I11: Navopache* | J11: eGRID_AZNM* | K11: eGRID_SPSO*
B12: =PNM!B5 -> Oil/Petroleum | C12: =PNM!C5 -> 0 | D12: =Xcel!C5 -> 332 | E12: =TriState!C5 -> 0 | F12: =ElPaso!C5 -> 0 | G12: =LosAlamos!C5 -> 0
B13: =PNM!B6 -> Coal | C13: =PNM!C6 -> 408292 | D13: =Xcel!C6 -> 2566753 | E13: =TriState!C6 -> 3724380 | F13: =ElPaso!C6 -> 0 | G13: =LosAlamos!C6 -> 66876
B14: =PNM!B7 -> Natural Gas | C14: =PNM!C7 -> 1641097 | D14: =Xcel!C7 -> 9924878 | E14: =TriState!C7 -> 786227 | F14: =ElPaso!C7 -> 5734528 | G14: =LosAlamos!C7 -> 10703
B15: =PNM!B8 -> Geothermal | C15: =PNM!C8 -> 58072 | D15: =Xcel!C8 -> 0 | E15: =TriState!C8 -> 0 | F15: =ElPaso!C8 -> 0 | G15: =LosAlamos!C8 -> 0
B16: =PNM!B9 -> Biomass | C16: =PNM!C9 -> 0 | D16: =Xcel!C9 -> 0 | E16: =TriState!C9 -> 0 | F16: =ElPaso!C9 -> 0 | G16: =LosAlamos!C9 -> 0
B17: =PNM!B10 -> Nuclear | C17: =PNM!C10 -> 2284469 | D17: =Xcel!C10 -> 0 | E17: =TriState!C10 -> 0 | F17: =ElPaso!C10 -> 4948104 | G17: =LosAlamos!C10 -> 0
B18: =PNM!B11 -> Hydro | C18: =PNM!C11 -> 0 | D18: =Xcel!C11 -> 0 | E18: =TriState!C11 -> 0 | F18: =ElPaso!C11 -> 0 | G18: =LosAlamos!C11 -> 72405
B19: =PNM!B12 -> Wind | C19: =PNM!C12 -> 1746125 | D19: =Xcel!C12 -> 4049649 | E19: =TriState!C12 -> 6486641 | F19: =ElPaso!C12 -> 0 | G19: =LosAlamos!C12 -> 0
B20: =PNM!B13 -> Solar | C20: =PNM!C13 -> 3901333 | D20: =Xcel!C13 -> 19 | E20: =TriState!C13 -> 0 | F20: =ElPaso!C13 -> 867899 | G20: =LosAlamos!C13 -> 0
B21: =PNM!B14 -> Market Purchase (Known Source) | C21: =PNM!C14 -> 0 | D21: =Xcel!C14 -> 12770809 | E21: =TriState!C14 -> 0 | F21: =ElPaso!C14 -> 0 | G21: =LosAlamos!C14 -> 0
B22: =PNM!B15 -> Market Purchase (Unknown Source) | C22: =PNM!C15 -> 2657144 | D22: =Xcel!C15 -> 3066.9505 | E22: =TriState!C15 -> 2822947 | F22: =ElPaso!C15 -> 2546098 | G22: =LosAlamos!C15 -> 431869
B23: =PNM!B16 -> TOTAL | C23: =PNM!C16 -> 12696532 | D23: =Xcel!C16 -> 29315507 | E23: =TriState!C16 -> 13820195 | F23: =ElPaso!C16 -> 14096629 | G23: =LosAlamos!C16 -> 581853
B24: *Note: 2025 MWh data were not available for those profiles; NMED used available percent-of-total fuel mix shares to calculate share-weighted CI values.
B26: 2025 Proportional Fuel Mix (%)
B27: Fuel / Utility | C27: PNM | D27: Xcel Energy | E27: Tri-State G&T | F27: El Paso Electric | G27: Los Alamos County | H27: Western Farmers | I27: Navopache | J27: eGRID_AZNM | K27: eGRID_SPSO
B28: =PNM!B5 -> Oil/Petroleum | C28: =PNM!D5 -> 0 | D28: =Xcel!D5 -> 1.1325064e-05 | E28: =TriState!D5 -> 0 | F28: =ElPaso!D5 -> 0 | G28: =LosAlamos!D5 -> 0 | H28: =Western_Farmers!D5 -> 0 | I28: =Navopache!D5 -> 0 | J28: =eGRID_AZNM!D5 -> 0 | K28: =eGRID_SPSO!D5 -> 0.005
B29: =PNM!B6 -> Coal | C29: =PNM!D6 -> 0.032157758 | D29: =Xcel!D6 -> 0.087556152 | E29: =TriState!D6 -> 0.26948824 | F29: =ElPaso!D6 -> 0 | G29: =LosAlamos!D6 -> 0.11493625 | H29: =Western_Farmers!D6 -> 0.11 | I29: =Navopache!D6 -> 0.24 | J29: =eGRID_AZNM!D6 -> 0.111 | K29: =eGRID_SPSO!D6 -> 0.162
B30: =PNM!B7 -> Natural Gas | C30: =PNM!D7 -> 0.12925553 | D30: =Xcel!D7 -> 0.33855386 | E30: =TriState!D7 -> 0.056889718 | F30: =ElPaso!D7 -> 0.40680137 | G30: =LosAlamos!D7 -> 0.01839468 | H30: =Western_Farmers!D7 -> 0.06 | I30: =Navopache!D7 -> 0.62 | J30: =eGRID_AZNM!D7 -> 0.485 | K30: =eGRID_SPSO!D7 -> 0.461
B31: =PNM!B8 -> Geothermal | C31: =PNM!D8 -> 0.0045738474 | D31: =Xcel!D8 -> 0 | E31: =TriState!D8 -> 0 | F31: =ElPaso!D8 -> 0 | G31: =LosAlamos!D8 -> 0 | H31: =Western_Farmers!D8 -> 0 | I31: =Navopache!D8 -> 0 | J31: =eGRID_AZNM!D8 -> 0.036 | K31: =eGRID_SPSO!D8 -> 0
B32: =PNM!B9 -> Biomass | C32: =PNM!D9 -> 0 | D32: =Xcel!D9 -> 0 | E32: =TriState!D9 -> 0 | F32: =ElPaso!D9 -> 0 | G32: =LosAlamos!D9 -> 0 | H32: =Western_Farmers!D9 -> 0 | I32: =Navopache!D9 -> 0 | J32: =eGRID_AZNM!D9 -> 0.003 | K32: =eGRID_SPSO!D9 -> 0.012
B33: =PNM!B10 -> Nuclear | C33: =PNM!D10 -> 0.17992858 | D33: =Xcel!D10 -> 0 | E33: =TriState!D10 -> 0 | F33: =ElPaso!D10 -> 0.35101328 | G33: =LosAlamos!D10 -> 0 | H33: =Western_Farmers!D10 -> 0 | I33: =Navopache!D10 -> 0 | J33: =eGRID_AZNM!D10 -> 0.18 | K33: =eGRID_SPSO!D10 -> 0
B34: =PNM!B11 -> Hydro | C34: =PNM!D11 -> 0 | D34: =Xcel!D11 -> 0 | E34: =TriState!D11 -> 0 | F34: =ElPaso!D11 -> 0 | G34: =LosAlamos!D11 -> 0.12443865 | H34: =Western_Farmers!D11 -> 0.05 | I34: =Navopache!D11 -> 0 | J34: =eGRID_AZNM!D11 -> 0.026 | K34: =eGRID_SPSO!D11 -> 0.025
B35: =PNM!B12 -> Wind | C35: =PNM!D12 -> 0.13752771 | D35: =Xcel!D12 -> 0.13814017 | E35: =TriState!D12 -> 0.46935959 | F35: =ElPaso!D12 -> 0 | G35: =LosAlamos!D12 -> 0 | H35: =Western_Farmers!D12 -> 0.19 | I35: =Navopache!D12 -> 0 | J35: =eGRID_AZNM!D12 -> 0.077 | K35: =eGRID_SPSO!D12 -> 0.325
B36: =PNM!B13 -> Solar | C36: =PNM!D13 -> 0.30727548 | D36: =Xcel!D13 -> 6.4812114e-07 | E36: =TriState!D13 -> 0 | F36: =ElPaso!D13 -> 0.06156784 | G36: =LosAlamos!D13 -> 0 | H36: =Western_Farmers!D13 -> 0.02 | I36: =Navopache!D13 -> 0 | J36: =eGRID_AZNM!D13 -> 0.082 | K36: =eGRID_SPSO!D13 -> 0.004
B37: =PNM!B14 -> Market Purchase (Known Source) | C37: =PNM!D14 -> 0 | D37: =Xcel!D14 -> 0.43563323 | E37: =TriState!D14 -> 0 | F37: =ElPaso!D14 -> 0 | G37: =LosAlamos!D14 -> 0 | H37: =Western_Farmers!D14 -> 0 | I37: =Navopache!D14 -> 0
B38: =PNM!B15 -> Market Purchase (Unknown Source) | C38: =PNM!D15 -> 0.20928109 | D38: =Xcel!D15 -> 0.00010461871 | E38: =TriState!D15 -> 0.20426246 | F38: =ElPaso!D15 -> 0.18061751 | G38: =LosAlamos!D15 -> 0.74223043 | H38: =Western_Farmers!D15 -> 0.57 | I38: =Navopache!D15 -> 0.14
B39: =PNM!B16 -> TOTAL | C39: =PNM!D16 -> 1 | D39: =Xcel!D16 -> 1 | E39: =TriState!D16 -> 1 | F39: =ElPaso!D16 -> 1 | G39: =LosAlamos!D16 -> 1 | H39: =Western_Farmers!D16 -> 1 | I39: =Navopache!D16 -> 1 | J39: =eGRID_AZNM!D14 -> 1 | K39: =eGRID_SPSO!D15 -> 1
B42: Emissions (MT CO₂e)
B43: Fuel / Utility | C43: PNM | D43: Xcel Energy | E43: Tri-State G&T | F43: El Paso Electric | G43: Los Alamos County | H43: Western Farmers* | I43: Novapache* | J43: eGRID_AZNM* | K43: eGRID_SPSO*
B44: =PNM!B5 -> Oil/Petroleum | C44: =PNM!F5 -> 0 | D44: =Xcel!F5 -> 382.51353 | E44: =TriState!F5 -> 0 | F44: =ElPaso!F5 -> 0 | G44: =LosAlamos!F5 -> 0
B45: =PNM!B6 -> Coal | C45: =PNM!F6 -> 454496.88 | D45: =Xcel!F6 -> 2857222.8 | E45: =TriState!F6 -> 4145854.1 | F45: =ElPaso!F6 -> 0 | G45: =LosAlamos!F6 -> 74444.106
B46: =PNM!B7 -> Natural Gas | C46: =PNM!F7 -> 880411.18 | D46: =Xcel!F7 -> 5324471.1 | E46: =TriState!F7 -> 421792.89 | F46: =ElPaso!F7 -> 3076443.7 | G46: =LosAlamos!F7 -> 5741.9158
B47: =PNM!B8 -> Geothermal | C47: =PNM!F8 -> 0 | D47: =Xcel!F8 -> 0 | E47: =TriState!F8 -> 0 | F47: =ElPaso!F8 -> 0 | G47: =LosAlamos!F8 -> 0
...

Sheet EDU FPC_CI
B2: EDU Name | C2: EDU Abbreviation | D2: Year | E2: Pathway Code | F2: Utility Specific CI (gCO2e/MJ)
B3: City of Truth or Consequences | C3: TOC | D3: 2026 | E3: ELCNMTOC2026 | F3: 106.8
B4: City of Aztec | C4: AZT | D4: 2026 | E4: ELCNMAZT2026 | F4: 106.8
B5: City of Farmington | C5: FMT | D5: 2026 | E5: ELCNMFMT2026 | F5: 106.8
B6: City of Gallup | C6: GAL | D6: 2026 | E6: ELCNMGAL2026 | F6: 106.8
B7: City of Raton | C7: RPS | D7: 2026 | E7: ELCNMRPS2026 | F7: 106.8
B8: Los Alamos Department of Public Utilities | C8: LAC | D8: 2026 | E8: ELCNMLAC2026 | F8: 117.5
B9: El Paso Electric | C9: EPE | D9: 2026 | E9: ELCNMEPE2026 | F9: 80.2
B10: Public Service Company of New Mexico | C10: PNM | D10: 2026 | E10: ELCNMPNM2026 | F10: 51.7
B11: Xcel Energy | C11: SPS | D11: 2026 | E11: ELCNMSPS2026 | F11: 114.3
B12: City of Springer | C12: SPR | D12: 2026 | E12: ELCNMSPR2026 | F12: 106.8
B13: Central New Mexico Electric Coop | C13: CNM | D13: 2026 | E13: ELCNMCNM2026 | F13: 113.6
B14: Columbus Electric Coop | C14: COL | D14: 2026 | E14: ELCNMCOL2026 | F14: 113.6
... B31: Roosevelt County Electric Coop | C31: ROC | D31: 2026 | E31: ELCNMROC2026 | F31: 112.2
B33: Note: Use the pathway code corresponding to the EDU service territory where the electricity is dispensed. These pathway codes and CI values do not apply to electricity supported by a separately approved low-CI or renewable electricity pathway.

Sheet PNM
B2: Public Service Company of New Mexico (PNM) — 2025 Generation Profile
B4: Fuel Source | C4: MWh (2025), if available | D4: % of Total Share | E4: CI (gCO₂e/MJ) | F4: Emissions (MT CO₂e) | G4: Notes
B5: Oil/Petroleum | C5: 0 | D5: =IF($C$16>0,C5/$C$16,0) -> 0 | E5: 320.04144 | F5: =C5*3600*E5/1000000 -> 0
B6: Coal | C6: 408292 | D6: =IF($C$16>0,C6/$C$16,0) -> 0.032157758 | E6: 309.21285 | F6: =C6*3600*E6/1000000 -> 454496.88
B7: Natural Gas | C7: 1641097 | D7: =IF($C$16>0,C7/$C$16,0) -> 0.12925553 | E7: 149.02145 | F7: =C7*3600*E7/1000000 -> 880411.18
B8: Geothermal | C8: 58072 | D8: =IF($C$16>0,C8/$C$16,0) -> 0.0045738474 | E8: 0 | F8: =C8*3600*E8/1000000 -> 0
B9: Biomass | C9: 0 | D9: =IF($C$16>0,C9/$C$16,0) -> 0 | E9: 14.962897 | F9: =C9*3600*E9/1000000 -> 0
B10: Nuclear | C10: 2284469 | D10: =IF($C$16>0,C10/$C$16,0) -> 0.17992858 | E10: 0.77719259 | F10: =C10*3600*E10/1000000 -> 6391.7005
B11: Hydro | C11: 0 | D11: =IF($C$16>0,C11/$C$16,0) -> 0 | E11: 0 | F11: =C11*3600*E11/1000000 -> 0
B12: Wind | C12: 1746125 | D12: =IF($C$16>0,C12/$C$16,0) -> 0.13752771 | E12: 0 | F12: =C12*3600*E12/1000000 -> 0
B13: Solar | C13: 3901333 | D13: =IF($C$16>0,C13/$C$16,0) -> 0.30727548 | E13: 0 | F13: =C13*3600*E13/1000000 -> 0
B14: Market Purchase (Known Source) | C14: 0 | D14: =IF($C$16>0,C14/$C$16,0) -> 0 | E14: 0 | F14: =C14*3600*E14/1000000 -> 0
B15: Market Purchase (Unknown Source) | C15: 2657144 | D15: =IF($C$16>0,C15/$C$16,0) -> 0.20928109 | E15: =eGRID_AZNM!C16 -> 106.78281 | F15: =C15*3600*E15/1000000 -> 1021454.3 | G15: Assigned eGRID_AZNM proxy because source-specific fuel mix was unavailable.
B16: TOTAL | C16: =SUM(C5:C15) -> 12696532 | D16: =SUM(D5:D15) -> 1 | F16: =SUM(F5:F15) -> 2362754.1
B18: WTW CI (gCO₂e/MJ): | C18: =IF(C16>0,F16*1000000/(C16*3600),0) -> 51.692902

Sheet Xcel
B2: Xcel Energy (SPS) — 2025 Generation Profile
J3: Xcel Energy Purchased Electricity_2025 | V3: Xcel Energy Purchased Electricity (2025) CI Calculation
B4: Fuel Source | C4: MWh (2025), if available | D4: % of Total Share | E4: CI (gCO₂e/MJ) | F4: Emissions (MT CO₂e) | G4: Notes | J4: Entity | K4: Year | L4: Total Of Net_MWh | M4: Biomass | N4: Coal | O4: Gas | P4: Hydro | Q4: Oil | R4: Other | S4: Solar | T4: Wind | V4: Fuel Source | W4: MWh (2025), if available | X4: % of Total Share | Y4: EF (gCO₂e/MJ) | Z4: Emissions (MT CO₂e) | AA4: Notes
B5: Oil/Petroleum | C5: 332 | D5: =IF($C$16>0,C5/$C$16,0) -> 1.1325064e-05 | E5: =PNM!E5 -> 320.04144 | F5: =C5*3600*E5/1000000 -> 382.51353 | J5: Borger Energy Associates, Limited Partnership | K5: 2025 | L5: 1373688.4 | O5: 1373688.4 | V5: Oil/Petroleum | W5: =SUM(Q5:Q32) -> 1383.2026 | X5: =IF($W$14>0,W5/$W$14,0) -> 0.00010830971 | Y5: =PNM!E5 -> 320.04144 | Z5: =W5*3600*Y5/1000000 -> 1593.6558
B6: Coal | C6: 2566753 | D6: =IF($C$16>0,C6/$C$16,0) -> 0.087556152 | E6: =PNM!E6 -> 309.21285 | F6: =C6*3600*E6/1000000 -> 2857222.8 | J6: Chaves County Solar, LLC | K6: 2025 | L6: 154746.4 | S6: 154746.4 | V6: Coal | W6: =SUM(N5:N32) -> 540509.33 | X6: =IF($W$14>0,W6/$W$14,0) -> 0.042323812 | Y6: =PNM!E6 -> 309.21285 | Z6: =W6*3600*Y6/1000000 -> 601676.74
B7: Natural Gas | C7: 9924878 | D7: =IF($C$16>0,C7/$C$16,0) -> 0.33855386 | E7: =PNM!E7 -> 149.02145 | F7: =C7*3600*E7/1000000 -> 5324471.1 | J7: Cirrus Wind I, LLC | K7: 2025 | L7: 29230.443 | T7: 29230.443 | V7: Natural Gas | W7: =SUM(O5:O32) -> 6110026.1 | X7: =IF($W$14>0,W7/$W$14,0) -> 0.47843688 | Y7: =PNM!E7 -> 149.02145 | Z7: =W7*3600*Y7/1000000 -> 3277889.9
B8: Geothermal | C8: 0 | D8: =IF($C$16>0,C8/$C$16,0) -> 0 | E8: =PNM!E8 -> 0 | F8: =C8*3600*E8/1000000 -> 0 | J8: Engineered Carbons Incorporated | K8: 2025 | L8: 17463.818 | O8: 17463.818 | V8: Geothermal | W8: 0 | X8: =IF($W$14>0,W8/$W$14,0) -> 0 | Y8: =PNM!E8 -> 0 | Z8: =W8*3600*Y8/1000000 -> 0
B9: Biomass | C9: 0 | D9: =IF($C$16>0,C9/$C$16,0) -> 0 | E9: =PNM!E9 -> 14.962897 | F9: =C9*3600*E9/1000000 -> 0 | J9: Lea Power Partners LLC | K9: 2025 | L9: 3292714.8 | O9: 3292714.8 | V9: Biomass | W9: =SUM(M5:M32) -> 22327.015 | X9: =IF($W$14>0,W9/$W$14,0) -> 0.001748285 | Y9: =PNM!E9 -> 14.962897 | Z9: =W9*3600*Y9/1000000 -> 1202.6766
B10: Nuclear | C10: 0 | D10: =IF($C$16>0,C10/$C$16,0) -> 0 | E10: =PNM!E10 -> 0.77719259 | F10: =C10*3600*E10/1000000 -> 0 | J10: Lorenzo Wind, LLC | K10: 2025 | L10: 337678.18 | T10: 337678.18 | V10: Nuclear | W10: 0 | X10: =IF($W$14>0,W10/$W$14,0) -> 0 | Y10: =PNM!E10 -> 0.77719259 | Z10: =W10*3600*Y10/1000000 -> 0
B11: Hydro | C11: 0 | D11: =IF($C$16>0,C11/$C$16,0) -> 0 | E11: =PNM!E11 -> 0 | F11: =C11*3600*E11/1000000 -> 0 | J11: Mammoth Plains | K11: 2025 | L11: 623249 | T11: 623249 | V11: Hydro | W11: =SUM(P5:P32) -> 6241.5007 | X11: =IF($W$14>0,W11/$W$14,0) -> 0.00048873181 | Y11: =PNM!E11 -> 0 | Z11: =W11*3600*Y11/1000000 -> 0
B12: Wind | C12: 4049649 | D12: =IF($C$16>0,C12/$C$16,0) -> 0.13814017 | E12: =PNM!E12 -> 0 | F12: =C12*3600*E12/1000000 -> 0 | J12: Milo Wind Project LLC | K12: 2025 | L12: 61739.667 | T12: 61739.667 | V12: Wind | W12: =SUM(T5:T32) -> 5635264.4 | X12: =IF($W$14>0,W12/$W$14,0) -> 0.44126134 | Y12: =PNM!E12 -> 0 | Z12: =W12*3600*Y12/1000000 -> 0
B13: Solar | C13: 19 | D13: =IF($C$16>0,C13/$C$16,0) -> 6.4812114e-07 | E13: =PNM!E13 -> 0 | F13: =C13*3600*E13/1000000 -> 0 | J13: Palo Duro | K13: 2025 | L13: 841257 | T13: 841257 | V13: Solar | W13: =SUM(S5:S32) -> 455057.55 | X13: =IF($W$14>0,W13/$W$14,0) -> 0.035632633 | Y13: =PNM!E13 -> 0 | Z13: =W13*3600*Y13/1000000 -> 0
B14: Market Purchase (Known Source) | C14: =W14 -> 12770809 | D14: =IF($C$16>0,C14/$C$16,0) -> 0.43563323 | E14: =W16 -> 84.44525 | F14: =C14*3600*E14/1000000 -> 3882363 | G14: Calculated from reported source allocation in columns J:AA. | J14: Pantex | K14: 2025 | L14: 1160.215 | T14: 1160.215 | V14: TOTAL | W14: =SUM(W5:W13) -> 12770809 | X14: =SUM(X5:X13) -> 1 | Z14: =SUM(Z5:Z13) -> 3882363
B15: Market Purchase (Unknown Source) | C15: =SUM(R5:R32) -> 3066.9505 | D15: =IF($C$16>0,C15/$C$16,0) -> 0.00010461871 | E15: =eGRID_SPSO!C17 -> 121.46526 | F15: =C15*3600*E15/1000000 -> 1341.1006 | G15: Assigned eGRID_SPSO proxy because source-specific fuel mix was unavailable. | J15: Pleasant Hill Wind Energy (Ralls II) | K15: 2025 | L15: 32960.842 | T15: 32960.842
B16: TOTAL | C16: =SUM(C5:C15) -> 29315507 | D16: =SUM(D5:D15) -> 1 | F16: =SUM(F5:F15) -> 12065781 | J16: Ralls Wind Farm LLC | K16: 2025 | L16: 7716.594 | T16: 7716.594 | V16: WTW CI (gCO₂e/MJ): | W16: =IF(W14>0,Z14*1000000/(W14*3600),0) -> 84.44525
J17: Roosevelt Wind Ranch | K17: 2025 | L17: 983873.56 | T17: 983873.56
B18: WTW CI (gCO₂e/MJ): | C18: =IF(C16>0,F16*1000000/(C16*3600),0) -> 114.32876 | J18: Roswell Solar, LLC | K18: 2025 | L18: 153246.72 | S18: 153246.72
J19: San Juan Mesa Wind Project, L.L.C. | K19: 2025 | L19: 255655.37 | T19: 255655.37
J20: SoCore Clovis 1, LLC | K20: 2025 | L20: 3929.415 | S20: 3929.415
J21: Southwest Power Pool | K21: 2025 | L21: 2783587.5 | M21: 22327.015 | N21: 540509.33 | O21: 1425962.2 | P21: 6241.5007 | Q21: 1383.2026 | R21: 2601.4743 | S21: 8564.9216 | T21: 775997.91
J22: Spinning Spur Wind | K22: 2025 | L22: 346504.4 | T22: 346504.4
J23: SPS Misc. Small Solar | K23: 2025 | L23: 24112.168 | S23: 24112.168
J24: SPS Misc. Small Wind | K24: 2025 | L24: 12016.244 | T24: 12016.244
J25: SunE SPS1 LLC | K25: 2025 | L25: 22626.165 | S25: 22626.165
J26: SunE SPS2 LLC | K26: 2025 | L26: 21983.038 | S26: 21983.038
J27: SunE SPS3 LLC | K27: 2025 | L27: 23012.883 | S27: 23012.883
J28: SunE SPS4 LLC | K28: 2025 | L28: 21919.965 | S28: 21919.965
J29: SunE SPS5 LLC | K29: 2025 | L29: 20915.874 | S29: 20915.874
J30: Tokai Carbon | K30: 2025 | L30: 662.411 | O30: 196.93479 | R30: 465.47621
J31: Wildcat Ranch Wind Project | K31: 2025 | L31: 652157.53 | T31: 652157.53
J32: Wildorado Wind LP | K32: 2025 | L32: 674067.46 | T32: 674067.46

Sheet TriState
B2: Tri-State G&T — 2025 Generation Profile
B4: Fuel Source | C4: MWh (2025), if available | D4: % of Total Share | E4: CI (gCO₂e/MJ) | F4: Emissions (MT CO₂e) | G4: Notes
B5: Oil/Petroleum | C5: 0 | D5: =IF($C$16>0,C5/$C$16,0) -> 0 | E5: =PNM!E5 -> 320.04144 | F5: =C5*3600*E5/1000000 -> 0
B6: Coal | C6: 3724380 | D6: =IF($C$16>0,C6/$C$16,0) -> 0.26948824 | E6: =PNM!E6 -> 309.21285 | F6: =C6*3600*E6/1000000 -> 4145854.1
B7: Natural Gas | C7: 786227 | D7: =IF($C$16>0,C7/$C$16,0) -> 0.056889718 | E7: =PNM!E7 -> 149.02145 | F7: =C7*3600*E7/1000000 -> 421792.89
B8: Geothermal | C8: 0 | D8: =IF($C$16>0,C8/$C$16,0) -> 0 | E8: =PNM!E8 -> 0 | F8: =C8*3600*E8/1000000 -> 0
B9: Biomass | C9: 0 | D9: =IF($C$16>0,C9/$C$16,0) -> 0 | E9: =PNM!E9 -> 14.962897 | F9: =C9*3600*E9/1000000 -> 0
B10: Nuclear | C10: 0 | D10: =IF($C$16>0,C10/$C$16,0) -> 0 | E10: =PNM!E10 -> 0.77719259 | F10: =C10*3600*E10/1000000 -> 0
B11: Hydro | C11: 0 | D11: =IF($C$16>0,C11/$C$16,0) -> 0 | E11: =PNM!E11 -> 0 | F11: =C11*3600*E11/1000000 -> 0
B12: Wind | C12: 6486641 | D12: =IF($C$16>0,C12/$C$16,0) -> 0.46935959 | E12: =PNM!E12 -> 0 | F12: =C12*3600*E12/1000000 -> 0 | G12: Reported 'Member Renewables'
B13: Solar | C13: 0 | D13: =IF($C$16>0,C13/$C$16,0) -> 0 | E13: =PNM!E13 -> 0 | F13: =C13*3600*E13/1000000 -> 0
B14: Market Purchase (Known Source) | C14: 0 | D14: =IF($C$16>0,C14/$C$16,0) -> 0 | E14: 0 | F14: =C14*3600*E14/1000000 -> 0
B15: Market Purchase (Unknown Source) | C15: 2822947 | D15: =IF($C$16>0,C15/$C$16,0) -> 0.20426246 | E15: =eGRID_AZNM!C16 -> 106.78281 | F15: =C15*3600*E15/1000000 -> 1085192 | G15: Reported category: market purchases plus 'Basin non-renewable generation'. Assigned eGRID_AZNM proxy because source-specific fuel mix was not available in submitted data.
B16: TOTAL | C16: =SUM(C5:C15) -> 13820195 | D16: =SUM(D5:D15) -> 1 | F16: =SUM(F5:F15) -> 5652839
B18: WTW CI (gCO₂e/MJ): | C18: =IF(C16>0,F16*1000000/(C16*3600),0) -> 113.61873
B20: Note on Cooperative CI Applicability
B21: The following New Mexico rural electric cooperatives are confirmed member systems of the Tri-State Generation and Transmission network. For the purposes of regulatory reporting and baseline CI establishment, these distribution utilities may utilize the aggregated Tri-State wholesale carbon intensity (CI) calculated within this sheet:
B22: • Central New Mexico Electric | D22: • Otero County Electric
B23: • Columbus Electric | D23: • Sierra Electric
B24: • Continental Divide Electric | D24: • Socorro Electric
B25: • Jemez Mountains Electric | D25: • Springer Electric
B26: • Mora-San Miguel Electric | D26: • Southwestern Electric
B27: • Northern Rio Arriba Electric

Sheet ElPaso
B2: El Paso Electric — 2025 Generation Profile
B4: Fuel Source | C4: MWh (2025), if available | D4: % of Total Share | E4: CI (gCO₂e/MJ) | F4: Emissions (MT CO₂e) | G4: Notes
B5: Oil/Petroleum | C5: 0 | D5: =IF($C$16>0,C5/$C$16,0) -> 0 | E5: =PNM!E5 -> 320.04144 | F5: =C5*3600*E5/1000000 -> 0
B6: Coal | C6: 0 | D6: =IF($C$16>0,C6/$C$16,0) -> 0 | E6: =PNM!E6 -> 309.21285 | F6: =C6*3600*E6/1000000 -> 0
B7: Natural Gas | C7: 5734528 | D7: =IF($C$16>0,C7/$C$16,0) -> 0.40680137 | E7: =PNM!E7 -> 149.02145 | F7: =C7*3600*E7/1000000 -> 3076443.7
B8: Geothermal | C8: 0 | D8: =IF($C$16>0,C8/$C$16,0) -> 0 | E8: =PNM!E8 -> 0 | F8: =C8*3600*E8/1000000 -> 0
B9: Biomass | C9: 0 | D9: =IF($C$16>0,C9/$C$16,0) -> 0 | E9: =PNM!E9 -> 14.962897 | F9: =C9*3600*E9/1000000 -> 0
B10: Nuclear | C10: 4948104 | D10: =IF($C$16>0,C10/$C$16,0) -> 0.35101328 | E10: =PNM!E10 -> 0.77719259 | F10: =C10*3600*E10/1000000 -> 13844.267
B11: Hydro | C11: 0 | D11: =IF($C$16>0,C11/$C$16,0) -> 0 | E11: =PNM!E11 -> 0 | F11: =C11*3600*E11/1000000 -> 0
B12: Wind | C12: 0 | D12: =IF($C$16>0,C12/$C$16,0) -> 0 | E12: =PNM!E12 -> 0 | F12: =C12*3600*E12/1000000 -> 0
B13: Solar | C13: 867899 | D13: =IF($C$16>0,C13/$C$16,0) -> 0.06156784 | E13: =PNM!E13 -> 0 | F13: =C13*3600*E13/1000000 -> 0
B14: Market Purchase (Known Source) | C14: 0 | D14: =IF($C$16>0,C14/$C$16,0) -> 0 | E14: 0 | F14: =C14*3600*E14/1000000 -> 0
B15: Market Purchase (Unknown Source) | C15: 2546098 | D15: =IF($C$16>0,C15/$C$16,0) -> 0.18061751 | E15: =eGRID_AZNM!C16 -> 106.78281 | F15: =C15*3600*E15/1000000 -> 978766.24 | G15: Assigned eGRID_AZNM proxy because source-specific fuel mix was unavailable.
B16: TOTAL | C16: =SUM(C5:C15) -> 14096629 | D16: =SUM(D5:D15) -> 1 | F16: =SUM(F5:F15) -> 4069054.2
B18: WTW CI (gCO₂e/MJ): | C18: =IF(C16>0,F16*1000000/(C16*3600),0) -> 80.181782

Sheet LosAlamos
B2: Los Alamos County — 2025 Generation Profile
B4: Fuel Source | C4: MWh (2025), if available | D4: % of Total Share | E4: CI (gCO₂e/MJ) | F4: Emissions (MT CO₂e) | G4: Notes
B5: Oil/Petroleum | C5: 0 | D5: =IF($C$16>0,C5/$C$16,0) -> 0 | E5: =PNM!E5 -> 320.04144 | F5: =C5*3600*E5/1000000 -> 0
B6: Coal | C6: 66876 | D6: =IF($C$16>0,C6/$C$16,0) -> 0.11493625 | E6: =PNM!E6 -> 309.21285 | F6: =C6*3600*E6/1000000 -> 74444.106
B7: Natural Gas | C7: 10703 | D7: =IF($C$16>0,C7/$C$16,0) -> 0.01839468 | E7: =PNM!E7 -> 149.02145 | F7: =C7*3600*E7/1000000 -> 5741.9158
B8: Geothermal | C8: 0 | D8: =IF($C$16>0,C8/$C$16,0) -> 0 | E8: =PNM!E8 -> 0 | F8: =C8*3600*E8/1000000 -> 0
B9: Biomass | C9: 0 | D9: =IF($C$16>0,C9/$C$16,0) -> 0 | E9: =PNM!E9 -> 14.962897 | F9: =C9*3600*E9/1000000 -> 0
B10: Nuclear | C10: 0 | D10: =IF($C$16>0,C10/$C$16,0) -> 0 | E10: =PNM!E10 -> 0.77719259 | F10: =C10*3600*E10/1000000 -> 0
B11: Hydro | C11: 72405 | D11: =IF($C$16>0,C11/$C$16,0) -> 0.12443865 | E11: =PNM!E11 -> 0 | F11: =C11*3600*E11/1000000 -> 0
B12: Wind | C12: 0 | D12: =IF($C$16>0,C12/$C$16,0) -> 0 | E12: =PNM!E12 -> 0 | F12: =C12*3600*E12/1000000 -> 0
B13: Solar | C13: 0 | D13: =IF($C$16>0,C13/$C$16,0) -> 0 | E13: =PNM!E13 -> 0 | F13: =C13*3600*E13/1000000 -> 0
B14: Market Purchase (Known Source) | C14: 0 | D14: =IF($C$16>0,C14/$C$16,0) -> 0 | E14: 0 | F14: =C14*3600*E14/1000000 -> 0
B15: Market Purchase (Unknown Source) | C15: 431869 | D15: =IF($C$16>0,C15/$C$16,0) -> 0.74223043 | E15: =eGRID_AZNM!C16 -> 106.78281 | F15: =C15*3600*E15/1000000 -> 166018.27 | G15: Assigned eGRID_AZNM proxy because source-specific fuel mix was unavailable.
B16: TOTAL | C16: =SUM(C5:C15) -> 581853 | D16: =SUM(D5:D15) -> 1 | F16: =SUM(F5:F15) -> 246204.3
B18: WTW CI (gCO₂e/MJ): | C18: =IF(C16>0,F16*1000000/(C16*3600),0) -> 117.53842

Sheet Navopache
B2: Navopache Electric Cooperative — 2025 Generation Profile*
B4: Fuel Source | C4: MWh (2025), if available | D4: % of Total Share | E4: CI (gCO₂e/MJ) | F4: Emissions (MT CO₂e) | G4: Notes
B5: Oil/Petroleum | D5: 0 | E5: =PNM!E5 -> 320.04144
B6: Coal | D6: 0.24 | E6: =PNM!E6 -> 309.21285
B7: Natural Gas | D7: 0.62 | E7: =PNM!E7 -> 149.02145
B8: Geothermal | D8: =IF($C$16>0,C8/$C$16,0) -> 0 | E8: =PNM!E8 -> 0
B9: Biomass | D9: =IF($C$16>0,C9/$C$16,0) -> 0 | E9: =PNM!E9 -> 14.962897
B10: Nuclear | D10: =IF($C$16>0,C10/$C$16,0) -> 0 | E10: =PNM!E10 -> 0.77719259
B11: Hydro | D11: =IF($C$16>0,C11/$C$16,0) -> 0 | E11: =PNM!E11 -> 0
B12: Wind | D12: =IF($C$16>0,C12/$C$16,0) -> 0 | E12: =PNM!E12 -> 0
B13: Solar | D13: =IF($C$16>0,C13/$C$16,0) -> 0 | E13: =PNM!E13 -> 0
B14: Market Purchase (Known Source) | D14: =IF($C$16>0,C14/$C$16,0) -> 0 | E14: 0
B15: Market Purchase (Unknown Source) | D15: 0.14 | E15: =eGRID_AZNM!C16 -> 106.78281 | G15: Assigned eGRID_AZNM proxy because source-specific fuel mix was unavailable.
B16: TOTAL | D16: =SUM(D5:D15) -> 1
B18: WTW CI (gCO₂e/MJ): | C18: =(D5*E5+D6*E6+D7*E7+D8*E8+D9*E9+D10*E10+D11*E11+D12*E12+D13*E13+D15*E15) -> 181.55398
B20: Note: 2025 MWh data were not available for this profile. The calculation uses the available percent-of-total fuel mix shares provided for Tucson Electric Power supply to Navopache Electric Cooperative. The resulting CI is calculated as a share-weighted average of the applicable source-specific CI factors.

Sheet Western_Farmers
B2: Western Farmers Electric Coop (WFEC) — 2025 Generation Profile*
B4: Fuel Source | C4: MWh (2025), if available | D4: % of Total Share | E4: CI (gCO₂e/MJ) | F4: Emissions (MT CO₂e) | G4: Notes
B5: Oil/Petroleum | D5: 0 | E5: =PNM!E5 -> 320.04144
B6: Coal | D6: 0.11 | E6: =PNM!E6 -> 309.21285
B7: Natural Gas | D7: 0.06 | E7: =PNM!E7 -> 149.02145
B8: Geothermal | D8: =IF($C$16>0,C8/$C$16,0) -> 0 | E8: =PNM!E8 -> 0
B9: Biomass | D9: =IF($C$16>0,C9/$C$16,0) -> 0 | E9: =PNM!E9 -> 14.962897
B10: Nuclear | D10: =IF($C$16>0,C10/$C$16,0) -> 0 | E10: =PNM!E10 -> 0.77719259
B11: Hydro | D11: 0.05 | E11: =PNM!E11 -> 0
B12: Wind | D12: 0.19 | E12: =PNM!E12 -> 0
B13: Solar | D13: 0.02 | E13: =PNM!E13 -> 0
B14: Market Purchase (Known Source) | D14: =IF($C$16>0,C14/$C$16,0) -> 0 | E14: 0
B15: Market Purchase (Unknown Source) | D15: 0.57 | E15: =eGRID_SPSO!C17 -> 121.46526 | G15: Assigned eGRID_SPSO proxy because source-specific fuel mix was unavailable.
B16: TOTAL | D16: =SUM(D5:D15) -> 1
B18: WTW CI (gCO₂e/MJ): | C18: =(D5*E5+D6*E6+D7*E7+D8*E8+D9*E9+D10*E10+D11*E11+D12*E12+D13*E13+D15*E15) -> 112.1899
B20: Note on Cooperative CI Applicability:
B21: The following New Mexico rural electric cooperatives are confirmed member systems of the Western Farmers Electric Coop (WFEC) network. For the purposes of regulatory reporting and baseline CI establishment, these distribution utilities may utilize the aggregated Western Farmers Electric Coop (WFEC) carbon intensity (CI) calculated within this sheet:
B22: • Central Valley Electric Cooperative | D22: • Lea County Electric Cooperative
B23: • Farmers’ Electric Cooperative | D23: • Roosevelt County Electric Cooperative
B25: Note on WFEC Power Purchase Agreements (PPAs): The Western Farmers Electric Cooperative (WFEC) 2025 Annual Report indicates that 23% of its generation portfolio is procured through PPAs historically sourced from the Southwestern Power Administration (SWPA), the Oneta Power Plant, and the Grand River Dam Authority (GRDA). Because the public report does not disaggregate the specific proportional allocation or volume obtained from each individual entity, this 23% procurement fraction is classified as a "Market Purchase (Unknown Source)" for baseline fuel mix and carbon intensity modeling.
B27: Note: 2025 MWh data were not available for this profile. The calculation uses available percent-of-total fuel mix shares from Western Farmers Electric Cooperative source information. The resulting CI is calculated as a share-weighted average of the applicable source-specific CI factors.

Sheet eGRID_AZNM
B2: eGRID_AZNM | eGRID2023 Fuel Mix Proxy
B4: Fuel Source | C4: MWh (2025), if available | D4: % of Total Share | E4: CI (gCO₂e/MJ) | F4: Emissions (MT CO₂e) | G4: Notes
B5: Oil/Petroleum | D5: 0 | E5: =PNM!E5 -> 320.04144
B6: Coal | D6: 0.111 | E6: =PNM!E6 -> 309.21285
B7: Natural Gas | D7: 0.485 | E7: =PNM!E7 -> 149.02145 | G7: The raw 2023 eGRID data yielded a total of 100.2%; therefore, 0.2% was subtracted from the natural gas allocation to normalize the fuel mix to exactly 100.0%.
B8: Geothermal | D8: 0.036 | E8: =PNM!E8 -> 0
B9: Biomass | D9: 0.003 | E9: =PNM!E9 -> 14.962897
B10: Nuclear | D10: 0.18 | E10: =PNM!E10 -> 0.77719259
B11: Hydro | D11: 0.026 | E11: =PNM!E11 -> 0
B12: Wind | D12: 0.077 | E12: =PNM!E12 -> 0
B13: Solar | D13: 0.082 | E13: =PNM!E13 -> 0
B14: TOTAL | D14: =SUM(D5:D13) -> 1 | E14: =PNM!E14 -> 0
B16: WTW CI (gCO₂e/MJ): | C16: =(D5*E5+D6*E6+D7*E7+D8*E8+D9*E9+D10*E10+D11*E11+D12*E12+D13*E13) -> 106.78281
B19: Note: This sheet uses EPA eGRID fuel mix percentages as a regional proxy. It does not use 2025 utility-specific MWh data. The resulting CI is calculated as a share-weighted average using eGRID fuel mix shares and NM-GREET-derived source-specific CI factors.

Sheet eGRID_SPSO
B2: eGRID_SPSO | eGRID2023 Fuel Mix Proxy
B4: Fuel Source | C4: MWh (2025), if available | D4: % of Total Share | E4: CI (gCO₂e/MJ) | F4: Emissions (MT CO₂e) | G4: Notes
B5: Oil/Petroleum | D5: 0.005 | E5: =PNM!E5 -> 320.04144
B6: Coal | D6: 0.162 | E6: =PNM!E6 -> 309.21285
B7: Natural Gas | D7: 0.461 | E7: =PNM!E7 -> 149.02145
B8: Geothermal | D8: 0 | E8: =PNM!E8 -> 0
B9: Biomass | D9: 0.012 | E9: =PNM!E9 -> 14.962897
B10: Nuclear | D10: 0 | E10: =PNM!E10 -> 0.77719259
B11: Hydro | D11: 0.025 | E11: =PNM!E11 -> 0
B12: Wind | D12: 0.325 | E12: =PNM!E12 -> 0
B13: Solar | D13: 0.004 | E13: =PNM!E13 -> 0
B14: Unknown Source | D14: 0.006 | E14: =E7 -> 149.02145 | G14: Assigned natural gas CI as the proxy for eGRID unknown fossil generation.
B15: TOTAL | D15: =SUM(D5:D14) -> 1
B17: WTW CI (gCO₂e/MJ): | C17: =(D5*E5+D6*E6+D7*E7+D8*E8+D9*E9+D10*E10+D11*E11+D12*E12+D13*E13+D14*E14) -> 121.46526
B20: Note: This sheet uses EPA eGRID fuel mix percentages as a regional proxy. It does not use 2025 utility-specific MWh data. The resulting CI is calculated as a share-weighted average using eGRID fuel mix shares and NM-GREET-derived source-specific CI factors.
