Workbook
Name AnnualCIchange: '(H) OptionLists'!$H$5:$H$8
Name Capacity__DCFC: '[1](A) Capacity and Use'!$B$5:$B$8
Name Capacity__DCFC: '(A) Capacity and Use'!$C$5:$C$8
Name Capacity__Level2: '[1](A) Capacity and Use'!$A$5:$A$8
Name Capacity__Level2: '(A) Capacity and Use'!$B$5:$B$8
Name DailyUse__DCFC: '[1](A) Capacity and Use'!$D$5:$D$8
Name DailyUse__DCFC: '(A) Capacity and Use'!$E$5:$E$8
Name DailyUse__Level2: '[1](A) Capacity and Use'!$C$5:$C$8
Name DailyUse__Level2: '(A) Capacity and Use'!$D$5:$D$8
Name EDU_CI_Lookup: '(H) OptionLists'!$F$5:$G$15
Name GridCIMulti: '[1](H) OptionLists'!$B$6:$B$9
Name GridCIMulti: '(H) OptionLists'!$C$5:$C$15
Name GridCISingle: '[1](H) OptionLists'!$A$6:$A$8
Name GridCISingle: '(H) OptionLists'!$B$5:$B$14
Name Inflation: '[1](G) Inflation'!$A$5:$A$9
Name Inflation: '(G) Inflation'!$B$5:$B$9
Name NoInflation: '[1](G) Inflation'!$A$22
Name NoInflation: '(G) Inflation'!$B$20
Name NoManualChange: '(H) OptionLists'!$H$9
Name PricesMulti: '[1](H) OptionLists'!$E$6:$E$9
Name PricesMulti: '(H) OptionLists'!$E$5:$E$8
Name PricesSingle: '[1](H) OptionLists'!$D$6:$D$8
Name PricesSingle: '(H) OptionLists'!$D$5:$D$7
Name SingleYear: '(B) CI Standard'!$B$21
Name StateGridAvg_2026: '(C) StatewideGridAvg'!$D$25
Name Years: '[1](B) CI Standard'!$A$5:$A$19
Name Years: '(B) CI Standard'!$B$5:$B$19

Sheet Start here
A1: CTFP EV Charger Credit Revenue Calculator
A3: General notes
B5: 1. All calculation values and assumptions come from the Clean Transportation Fuel Program rule under 20.2.92 NMAC, associated analyses, and external data sources where indicated.
B6: 2. The only sheet with values to populate is the Calculator tab. All other sheets contain input and parameter values and are for observation only.
B7: 3. In this sheet and the Calculator sheet, superscript numbers refer to notes on each page. Superscript letters refer to rows referencing data from input assumption sheets (A)-(H).
A9: Calculator directions
B11: 1. In Column B of the Calculator sheet, select operating inputs in the brown cells.
B12: 2. Depending upon your selections in Column B, you may see orange cells in Column C or Column I where manual input is required. If so, please populate those cells!
A14: Calculator input notes
A16: Charger details - Rows 11-15 of Calculator sheetA,1
B17: 1. Row 11 (Charger type): Select whether the charger(s) are Direct Current Fast Chargers (Level-3, DCFC) or Level-2 chargers.
C18: a. You can only select one of the two charger types. If you are using both charger types, you must do separate calculations for each.
B19: 2. Row 12 (Vehicle type): Select whether the charger(s) are used for Light-medium-duty (14,000 pounds or less) or Mediaum-heavy-duty (above 14,000 pounds) vehicles.
B20: 3. Row 13 (Number of chargers): Indicate the number of charging units that meet the criteria outlined in Rows 11 and 12 (whole numbers only).
B21: 4. Row 14 Capacity per charger (kilowatts): Enter the capacity (in kilowatts) of the charger. This is the amount of electricity (in kilowatt hours) that the charger could dispensed if used continuously for one hour.
C22: a. Make sure in populating this row to account for any discrepencies between the charger's nameplate capacity and the amount of power it actually dispenses into a motor vehicle over this period of time.
B23: 5. Row 15 Average daily use (hours/day/charger): Enter the average time each day that a charger is used over the course of a year.
C24: a. In this calculation, consider that there are days in a typical year that the charger may be used more, less, or not at all.
A26: 2026 Grid/EDU carbon intensity - Row 16 of Calculator sheetC,D,H
A27: Note: Options 1-3 require an entry into Row 16 to determine grid electricity carbon intensity (CI) changes for years after 2026.
B28: 1. The The "EDU-based estimate" determines the 2026 grid electricity CI for an EDU based upon its 2026 EDU-specific CI value from NMED. See the '(D) EDU CI Values' sheet for a reference list.
B29: 2. The "Statewide" option calculates the 2026 grid electricity CI as a weighted average of EDU carbon intensities and the number of registered on-road EVs in each from Atlas Public Policy, EvaluateNM (Kumar, 2026).
B30: 3. If you select "Manual (single CI)," enter your desired 2026 CI for grid electricity in Cell C16.
B31: 4. If you select "Manual (Different annual CIs)" in Cell B16, you must manually enter the CI for each year in Column K based upon custom projections.
C32: a. Unlike Options 1-3, Option 4 does not require an entry into Row 17 to determine grid electricity CI chages for years after 2026.
A34: Annual carbon intensity change - Row 17 of Calculator sheetE,H
A35: Note: This selection is only available if one of Options 1-3 is selected in Row 16. Selecting Option 4 in Row 16 will require the user to enter each year's CI in Column K based upon custom projections, rendering this row (Row 17) obsolete.
B36: 1. The "Statewide change" option in Cell B17 uses projected changed in statewide grid CI from the Benefits-Cost Analysis and Rebuttal Sensitivity Analysis that account for the Energy Transition Act.
B37: 2. The "Zero-carbon by 2040" option in Cell B17 adjusts CI based upon a linear path culminating in a grid carbon intensity of zero by 2040, when power comes from zero-carbon sources like Geothermal, Hydro, Wind, and Solar.
B38: 3. The "Manual percentage" option in Cell B17 allows the user to manually enter a percentage change applied linearly for all years after 2026.
C39: a. If selecting this option, specify that the percentage is negative for a CI that goes down over time.
B40: 4. The "Flat" option in Cell B17 assumes a CI that is unchanging over time.
A42: Output results year(s) - Row 19 of Calculator sheet
B43: If you would like results for multiple years until 2040, select "All years" in Cell B19. If you would like results for a single year, select "Single year" in Cell B19 and specify that year in Cell C19.
A45: Credit price scenarios - Row 20 of Calculator sheetF,H
B46: 1. The "Benefit-Cost Analysis" option in Cell B20 refers to price projections that assume the continuation of state and federal EV-supporting policies in New Mexico through 2040.
C47: a. More information on each scenario is available in the '(F) CreditPrice_Nom' sheet.
C48: b. In this scenario, unlike in the "Rebuttal Sensitivity Analysis" scenario, credit prices fall to zero by 2036 due to credit supply that exceeds compliance obligations.
B49: 3. If you select "Manual (single price)" for CTFP credit prices in Cell B20, you will need to enter your desired credit price in Cell C20.
B50: 4. If you select "Manual (different annual prices) for CTFP credit prices in Cell B20, you will need to enter the credit price for each year in Column L.
...

Sheet Calculator
A1: Calculator sheet - For user input and results
A2: As desired, select inputs from brown cells in Column B. Populate any orange cells in Column C, K, and L. Observe revenue results in Column J.
A4: Color legend: | E4: Results
A5: Input optional | E5: Year | F5: Fuel use | G5: Fuel CI | H5: Credits | I5: Credit price | J5: Revenue
A6: Input required | F6: (MWh) | G6: (gCO2e/MJ)2 | H6: (MT CO2e)4,5 | I6: ($/MT CO2e)4 | J6: ($US) | K6: =IF(B16="Manual (Different annual CIs)","Annual CIs","") | L6: =IF(B20="Manual (Different annual prices)","Annual prices","")
A7: Category or result - do not edit | E7: {=IF(B$19="All Years",INDEX(Years,ROW()-6),IF(C19="","Populate cell C18",C19))} -> 2026 | F7: =IF(AND($B$14="Manual",$C$14=""),"Populate Cell C14",IF(AND($B$15="Manual",$C$15=""),"Populate Cell C15",IF($B$14="Manual",$C$14,$B$14)/1000*IF($B$15="Manual",$C$15,$B$15)*IFERROR((DATE(E7+1,1,1)-DATE(E7,1,1)),366)*$B$13)) -> 41.0625 | G7: =IF(E7="","",IF(AND($B$16='(H) OptionLists'!$C$14,$C$16=""),"Populate Cell C16",IF($B$16='(H) OptionLists'!$C$5,IF(AND(B$17='(H) OptionLists'!$H$7,C$17=""),"Populate Cell C17",ROUND(StateGridAvg_2026*(IF(B$17='(H) OptionLists'!$H$5,VLOOKUP(E7,'(E) StatewideChange'!$B$5:$C$19,2,FALSE)/VLOOKUP(2026,'(E) StatewideChange'!$B$5:$C$19,2,FALSE),IF(B$17='(H) OptionLists'!$H$8,1,IF(B$17='(H) OptionLists'!$H$6,VLOOKUP(2026,'(E) StatewideChange'!$B$5:$C$19,2,FALSE)/VLOOKUP(E7,'(E) StatewideChange'!$B$5:$C$19,2,FALSE)*(2040-VALUE(LEFT(E7,4)))/(2040-2026),IF(B$17='(H) OptionLists'!$H$7,(1+C$17)^(VALUE(LEFT(E7,4))-2026),1))))),2)),IF($B$16='(H) OptionLists'!$C$14,IF(AND(B$17='(H) OptionLists'!$H$7,C$17=""),"Populate Cell C17",ROUND($C$16*(IF(B$17='(H) OptionLists'!$H$5,VLOOKUP(E7,'(E) StatewideChange'!$B$5:$C$19,2,FALSE)/VLOOKUP(2026,'(E) StatewideChange'!$B$5:$C$19,2,FALSE),IF(B$17='(H) OptionLists'!$H$8,1,IF(B$17='(H) OptionLists'!$H$6,(2040-VALUE(LEFT(E7,4)))/(2040-2026),IF(B$17='(H) OptionLists'!$H$7,(1+C$17)^(VALUE(LEFT(E7,4))-2026),1))))),2)),IF(B$16='(H) OptionLists'!$C$15,IF(K7="","Populate Column K",ROUND(K7,2)),IF(AND(B$17='(H) OptionLists'!$H$7,C$17=""),"Populate Cell C17",IFERROR(ROUND(VLOOKUP($B$16,EDU_CI_Lookup,2,FALSE)*(IF(B$17='(H) OptionLists'!$H$5,VLOOKUP(E7,'(E) StatewideChange'!$B$5:$C$19,2,FALSE)/VLOOKUP(2026,'(E) StatewideChange'!$B$5:$C$19,2,FALSE),IF(B$17='(H) OptionLists'!$H$8,1,IF(B$17='(H) OptionLists'!$H$6,(2040-VALUE(LEFT(E7,4)))/(2040-2026),IF(B$17='(H) OptionLists'!$H$7,(1+C$17)^(VALUE(LEFT(E7,4))-2026),1))))),2),"Select valid EDU option"))))))) -> 117.5 | H7: =IF(LEFT(F7,3)="Pop",F7,IF(LEFT(G7,3)="Pop",G7,IFERROR(IF(E7="","",ROUND((IF($B$12="Light-medium-duty (14k pounds or less)",3.4,5)*VLOOKUP(E7,'(B) CI Standard'!$B$5:$D$19,IF($B$12="Light-medium-duty (14k pounds or less)",2,3),FALSE)-G7)*3.6/1000*F7,0)),""))) -> 30 | I7: {=IF(E7="","",_xlfn.IFNA(IF(B$20='(H) OptionLists'!$E$7,IF(C$20="","Populate Cell C20",ROUND(C$20*IF($B$21="Nominal",1,INDEX('(G) Inflation'!$C$12:$N$16,MATCH($B$22,'(G) Inflation'!$B$12:$B$16,0),MATCH($C$21,'(F) Credit Price_nom'!$C$5:$Q$5,0))/INDEX('(G) Inflation'!$C$12:$N$16,MATCH($B$22,'(G) Inflation'!$B$12:$B$16,0),MATCH($E$7,'(F) Credit Price_nom'!$C$5:$Q$5,0))),2)),IF(B$20='(H) OptionLists'!$E$8,IF(L7="","Populate Column L",L7),ROUND(INDEX('(F) Credit Price_nom'!$C$6:$Q$7,MATCH($B$20,'(F) Credit Price_nom'!$B$6:$B$7,0),MATCH(E7,'(F) Credit Price_nom'!$C$5:$Q$5,0))*IF($B$21="Nominal",1,INDEX('(G) Inflation'!$C$12:$R$16,MATCH($B$22,'(G) Inflation'!$B$12:$B$16,0),MATCH(E7,'(G) Inflation'!$C$11:$R$11,0))/INDEX('(G) Inflation'!$C$12:$R$16,MATCH($B$22,'(G) Inflation'!$B$12:$B$16,0),MATCH(E7,'(G) Inflation'!$C$11:$R$11,0))),2))),IF(AND($B$19="single year",$C$19=""),"Populate Cell C19",IF(AND($B$21="Real (input dollar year in Column C)",$C$21=""),"Populate Cell C21","Check Cells C18:C21"))))} -> 91.27 | J7: =IF(LEFT(H7,3)="Pop",H7,IF(LEFT(I7,3)="Pop",I7,H7*I7)) -> 2738.1
E8: {=IF(B$19="All Years",INDEX(Years,ROW()-6),"")} -> 2027 | F8: =IF(AND($B$14="Manual",$C$14=""),"Populate Cell C14",IF(AND($B$15="Manual",$C$15=""),"Populate Cell C15",IF($B$14="Manual",$C$14,$B$14)/1000*IF($B$15="Manual",$C$15,$B$15)*IFERROR((DATE(E8+1,1,1)-DATE(E8,1,1)),366)*$B$13)) -> 41.0625 | G8: =IF(E8="","",IF(AND($B$16='(H) OptionLists'!$C$14,$C$16=""),"Populate Cell C16",IF($B$16='(H) OptionLists'!$C$5,IF(AND(B$17='(H) OptionLists'!$H$7,C$17=""),"Populate Cell C17",ROUND(StateGridAvg_2026*(IF(B$17='(H) OptionLists'!$H$5,VLOOKUP(E8,'(E) StatewideChange'!$B$5:$C$19,2,FALSE)/VLOOKUP(2026,'(E) StatewideChange'!$B$5:$C$19,2,FALSE),IF(B$17='(H) OptionLists'!$H$8,1,IF(B$17='(H) OptionLists'!$H$6,VLOOKUP(2026,'(E) StatewideChange'!$B$5:$C$19,2,FALSE)/VLOOKUP(E8,'(E) StatewideChange'!$B$5:$C$19,2,FALSE)*(2040-VALUE(LEFT(E8,4)))/(2040-2026),IF(B$17='(H) OptionLists'!$H$7,(1+C$17)^(VALUE(LEFT(E8,4))-2026),1))))),2)),IF($B$16='(H) OptionLists'!$C$14,IF(AND(B$17='(H) OptionLists'!$H$7,C$17=""),"Populate Cell C17",ROUND($C$16*(IF(B$17='(H) OptionLists'!$H$5,VLOOKUP(E8,'(E) StatewideChange'!$B$5:$C$19,2,FALSE)/VLOOKUP(2026,'(E) StatewideChange'!$B$5:$C$19,2,FALSE),IF(B$17='(H) OptionLists'!$H$8,1,IF(B$17='(H) OptionLists'!$H$6,(2040-VALUE(LEFT(E8,4)))/(2040-2026),IF(B$17='(H) OptionLists'!$H$7,(1+C$17)^(VALUE(LEFT(E8,4))-2026),1))))),2)),IF(B$16='(H) OptionLists'!$C$15,IF(K8="","Populate Column K",ROUND(K8,2)),IF(AND(B$17='(H) OptionLists'!$H$7,C$17=""),"Populate Cell C17",IFERROR(ROUND(VLOOKUP($B$16,EDU_CI_Lookup,2,FALSE)*(IF(B$17='(H) OptionLists'!$H$5,VLOOKUP(E8,'(E) StatewideChange'!$B$5:$C$19,2,FALSE)/VLOOKUP(2026,'(E) StatewideChange'!$B$5:$C$19,2,FALSE),IF(B$17='(H) OptionLists'!$H$8,1,IF(B$17='(H) OptionLists'!$H$6,(2040-VALUE(LEFT(E8,4)))/(2040-2026),IF(B$17='(H) OptionLists'!$H$7,(1+C$17)^(VALUE(LEFT(E8,4))-2026),1))))),2),"Select valid EDU option"))))))) -> 115.48 | H8: =IF(LEFT(F8,3)="Pop",F8,IF(LEFT(G8,3)="Pop",G8,IFERROR(IF(E8="","",ROUND((IF($B$12="Light-medium-duty (14k pounds or less)",3.4,5)*VLOOKUP(E8,'(B) CI Standard'!$B$5:$D$19,IF($B$12="Light-medium-duty (14k pounds or less)",2,3),FALSE)-G8)*3.6/1000*F8,0)),""))) -> 29 | I8: =IF(E8="","",_xlfn.IFNA(IF(B$20='(H) OptionLists'!$E$7,IF(C$20="","Populate Cell C20",ROUND(C$20*IF($B$21="Nominal",1,INDEX('(G) Inflation'!$C$12:$N$16,MATCH($B$22,'(G) Inflation'!$B$12:$B$16,0),MATCH($C$21,'(F) Credit Price_nom'!$C$5:$Q$5,0))/INDEX('(G) Inflation'!$C$12:$N$16,MATCH($B$22,'(G) Inflation'!$B$12:$B$16,0),MATCH($E$7,'(F) Credit Price_nom'!$C$5:$Q$5,0))),2)),IF(B$20='(H) OptionLists'!$E$8,IF(L8="","Populate Column L",L8),ROUND(INDEX('(F) Credit Price_nom'!$C$6:$Q$7,MATCH($B$20,'(F) Credit Price_nom'!$B$6:$B$7,0),MATCH(E8,'(F) Credit Price_nom'!$C$5:$Q$5,0))*IF($B$21="Nominal",1,INDEX('(G) Inflation'!$C$12:$N$16,MATCH($B$22,'(G) Inflation'!$B$12:$B$16,0),MATCH($C$21,'(F) Credit Price_nom'!$C$5:$Q$5,0))/INDEX('(G) Inflation'!$C$12:$N$16,MATCH($B$22,'(G) Inflation'!$B$12:$B$16,0),MATCH($E$7,'(F) Credit Price_nom'!$C$5:$Q$5,0))),2))),IF(AND($B$19="single year",$C$19=""),"Populate Cell C19",IF(AND($B$21="Real (input dollar year in Column C)",$C$21=""),"Populate Cell C21","Check Cells C18:C21")))) -> 69.12 | J8: =IF(LEFT(H8,3)="Pop",H8,IF(LEFT(I8,3)="Pop",I8,H8*I8)) -> 2004.48
A9: Inputs | E9: {=IF(B$19="All Years",INDEX(Years,ROW()-6),"")} -> 2028 | F9: =IF(AND($B$14="Manual",$C$14=""),"Populate Cell C14",IF(AND($B$15="Manual",$C$15=""),"Populate Cell C15",IF($B$14="Manual",$C$14,$B$14)/1000*IF($B$15="Manual",$C$15,$B$15)*IFERROR((DATE(E9+1,1,1)-DATE(E9,1,1)),366)*$B$13)) -> 41.175 | G9: =IF(E9="","",IF(AND($B$16='(H) OptionLists'!$C$14,$C$16=""),"Populate Cell C16",IF($B$16='(H) OptionLists'!$C$5,IF(AND(B$17='(H) OptionLists'!$H$7,C$17=""),"Populate Cell C17",ROUND(StateGridAvg_2026*(IF(B$17='(H) OptionLists'!$H$5,VLOOKUP(E9,'(E) StatewideChange'!$B$5:$C$19,2,FALSE)/VLOOKUP(2026,'(E) StatewideChange'!$B$5:$C$19,2,FALSE),IF(B$17='(H) OptionLists'!$H$8,1,IF(B$17='(H) OptionLists'!$H$6,VLOOKUP(2026,'(E) StatewideChange'!$B$5:$C$19,2,FALSE)/VLOOKUP(E9,'(E) StatewideChange'!$B$5:$C$19,2,FALSE)*(2040-VALUE(LEFT(E9,4)))/(2040-2026),IF(B$17='(H) OptionLists'!$H$7,(1+C$17)^(VALUE(LEFT(E9,4))-2026),1))))),2)),IF($B$16='(H) OptionLists'!$C$14,IF(AND(B$17='(H) OptionLists'!$H$7,C$17=""),"Populate Cell C17",ROUND($C$16*(IF(B$17='(H) OptionLists'!$H$5,VLOOKUP(E9,'(E) StatewideChange'!$B$5:$C$19,2,FALSE)/VLOOKUP(2026,'(E) StatewideChange'!$B$5:$C$19,2,FALSE),IF(B$17='(H) OptionLists'!$H$8,1,IF(B$17='(H) OptionLists'!$H$6,(2040-VALUE(LEFT(E9,4)))/(2040-2026),IF(B$17='(H) OptionLists'!$H$7,(1+C$17)^(VALUE(LEFT(E9,4))-2026),1))))),2)),IF(B$16='(H) OptionLists'!$C$15,IF(K9="","Populate Column K",ROUND(K9,2)),IF(AND(B$17='(H) OptionLists'!$H$7,C$17=""),"Populate Cell C17",IFERROR(ROUND(VLOOKUP($B$16,EDU_CI_Lookup,2,FALSE)*(IF(B$17='(H) OptionLists'!$H$5,VLOOKUP(E9,'(E) StatewideChange'!$B$5:$C$19,2,FALSE)/VLOOKUP(2026,'(E) StatewideChange'!$B$5:$C$19,2,FALSE),IF(B$17='(H) OptionLists'!$H$8,1,IF(B$17='(H) OptionLists'!$H$6,(2040-VALUE(LEFT(E9,4)))/(2040-2026),IF(B$17='(H) OptionLists'!$H$7,(1+C$17)^(VALUE(LEFT(E9,4))-2026),1))))),2),"Select valid EDU option"))))))) -> 114.01 | H9: =IF(LEFT(F9,3)="Pop",F9,IF(LEFT(G9,3)="Pop",G9,IFERROR(IF(E9="","",ROUND((IF($B$12="Light-medium-duty (14k pounds or less)",3.4,5)*VLOOKUP(E9,'(B) CI Standard'!$B$5:$D$19,IF($B$12="Light-medium-duty (14k pounds or less)",2,3),FALSE)-G9)*3.6/1000*F9,0)),""))) -> 28 | I9: =IF(E9="","",_xlfn.IFNA(IF(B$20='(H) OptionLists'!$E$7,IF(C$20="","Populate Cell C20",ROUND(C$20*IF($B$21="Nominal",1,INDEX('(G) Inflation'!$C$12:$N$16,MATCH($B$22,'(G) Inflation'!$B$12:$B$16,0),MATCH($C$21,'(F) Credit Price_nom'!$C$5:$Q$5,0))/INDEX('(G) Inflation'!$C$12:$N$16,MATCH($B$22,'(G) Inflation'!$B$12:$B$16,0),MATCH($E$7,'(F) Credit Price_nom'!$C$5:$Q$5,0))),2)),IF(B$20='(H) OptionLists'!$E$8,IF(L9="","Populate Column L",L9),ROUND(INDEX('(F) Credit Price_nom'!$C$6:$Q$7,MATCH($B$20,'(F) Credit Price_nom'!$B$6:$B$7,0),MATCH(E9,'(F) Credit Price_nom'!$C$5:$Q$5,0))*IF($B$21="Nominal",1,INDEX('(G) Inflation'!$C$12:$N$16,MATCH($B$22,'(G) Inflation'!$B$12:$B$16,0),MATCH($C$21,'(F) Credit Price_nom'!$C$5:$Q$5,0))/INDEX('(G) Inflation'!$C$12:$N$16,MATCH($B$22,'(G) Inflation'!$B$12:$B$16,0),MATCH($E$7,'(F) Credit Price_nom'!$C$5:$Q$5,0))),2))),IF(AND($B$19="single year",$C$19=""),"Populate Cell C19",IF(AND($B$21="Real (input dollar year in Column C)",$C$21=""),"Populate Cell C21","Check Cells C18:C21")))) -> 65.31 | J9: =IF(LEFT(H9,3)="Pop",H9,IF(LEFT(I9,3)="Pop",I9,H9*I9)) -> 1828.68
A10: Operating info | C10: Input value if orange | E10: {=IF(B$19="All Years",INDEX(Years,ROW()-6),"")} -> 2029 | F10: =IF(AND($B$14="Manual",$C$14=""),"Populate Cell C14",IF(AND($B$15="Manual",$C$15=""),"Populate Cell C15",IF($B$14="Manual",$C$14,$B$14)/1000*IF($B$15="Manual",$C$15,$B$15)*IFERROR((DATE(E10+1,1,1)-DATE(E10,1,1)),366)*$B$13)) -> 41.0625 | G10: =IF(E10="","",IF(AND($B$16='(H) OptionLists'!$C$14,$C$16=""),"Populate Cell C16",IF($B$16='(H) OptionLists'!$C$5,IF(AND(B$17='(H) OptionLists'!$H$7,C$17=""),"Populate Cell C17",ROUND(StateGridAvg_2026*(IF(B$17='(H) OptionLists'!$H$5,VLOOKUP(E10,'(E) StatewideChange'!$B$5:$C$19,2,FALSE)/VLOOKUP(2026,'(E) StatewideChange'!$B$5:$C$19,2,FALSE),IF(B$17='(H) OptionLists'!$H$8,1,IF(B$17='(H) OptionLists'!$H$6,VLOOKUP(2026,'(E) StatewideChange'!$B$5:$C$19,2,FALSE)/VLOOKUP(E10,'(E) StatewideChange'!$B$5:$C$19,2,FALSE)*(2040-VALUE(LEFT(E10,4)))/(2040-2026),IF(B$17='(H) OptionLists'!$H$7,(1+C$17)^(VALUE(LEFT(E10,4))-2026),1))))),2)),IF($B$16='(H) OptionLists'!$C$14,IF(AND(B$17='(H) OptionLists'!$H$7,C$17=""),"Populate Cell C17",ROUND($C$16*(IF(B$17='(H) OptionLists'!$H$5,VLOOKUP(E10,'(E) StatewideChange'!$B$5:$C$19,2,FALSE)/VLOOKUP(2026,'(E) StatewideChange'!$B$5:$C$19,2,FALSE),IF(B$17='(H) OptionLists'!$H$8,1,IF(B$17='(H) OptionLists'!$H$6,(2040-VALUE(LEFT(E10,4)))/(2040-2026),IF(B$17='(H) OptionLists'!$H$7,(1+C$17)^(VALUE(LEFT(E10,4))-2026),1))))),2)),IF(B$16='(H) OptionLists'!$C$15,IF(K10="","Populate Column K",ROUND(K10,2)),IF(AND(B$17='(H) OptionLists'!$H$7,C$17=""),"Populate Cell C17",IFERROR(ROUND(VLOOKUP($B$16,EDU_CI_Lookup,2,FALSE)*(IF(B$17='(H) OptionLists'!$H$5,VLOOKUP(E10,'(E) StatewideChange'!$B$5:$C$19,2,FALSE)/VLOOKUP(2026,'(E) StatewideChange'!$B$5:$C$19,2,FALSE),IF(B$17='(H) OptionLists'!$H$8,1,IF(B$17='(H) OptionLists'!$H$6,(2040-VALUE(LEFT(E10,4)))/(2040-2026),IF(B$17='(H) OptionLists'!$H$7,(1+C$17)^(VALUE(LEFT(E10,4))-2026),1))))),2),"Select valid EDU option"))))))) -> 111.03 | H10: =IF(LEFT(F10,3)="Pop",F10,IF(LEFT(G10,3)="Pop",G10,IFERROR(IF(E10="","",ROUND((IF($B$12="Light-medium-duty (14k pounds or less)",3.4,5)*VLOOKUP(E10,'(B) CI Standard'!$B$5:$D$19,IF($B$12="Light-medium-duty (14k pounds or less)",2,3),FALSE)-G10)*3.6/1000*F10,0)),""))) -> 26 | I10: =IF(E10="","",_xlfn.IFNA(IF(B$20='(H) OptionLists'!$E$7,IF(C$20="","Populate Cell C20",ROUND(C$20*IF($B$21="Nominal",1,INDEX('(G) Inflation'!$C$12:$N$16,MATCH($B$22,'(G) Inflation'!$B$12:$B$16,0),MATCH($C$21,'(F) Credit Price_nom'!$C$5:$Q$5,0))/INDEX('(G) Inflation'!$C$12:$N$16,MATCH($B$22,'(G) Inflation'!$B$12:$B$16,0),MATCH($E$7,'(F) Credit Price_nom'!$C$5:$Q$5,0))),2)),IF(B$20='(H) OptionLists'!$E$8,IF(L10="","Populate Column L",L10),ROUND(INDEX('(F) Credit Price_nom'!$C$6:$Q$7,MATCH($B$20,'(F) Credit Price_nom'!$B$6:$B$7,0),MATCH(E10,'(F) Credit Price_nom'!$C$5:$Q$5,0))*IF($B$21="Nominal",1,INDEX('(G) Inflation'!$C$12:$N$16,MATCH($B$22,'(G) Inflation'!$B$12:$B$16,0),MATCH($C$21,'(F) Credit Price_nom'!$C$5:$Q$5,0))/INDEX('(G) Inflation'!$C$12:$N$16,MATCH($B$22,'(G) Inflation'!$B$12:$B$16,0),MATCH($E$7,'(F) Credit Price_nom'!$C$5:$Q$5,0))),2))),IF(AND($B$19="single year",$C$19=""),"Populate Cell C19",IF(AND($B$21="Real (input dollar year in Column C)",$C$21=""),"Populate Cell C21","Check Cells C18:C21")))) -> 47.92 | J10: =IF(LEFT(H10,3)="Pop",H10,IF(LEFT(I10,3)="Pop",I10,H10*I10)) -> 1245.92
A11: Charger type | B11: Direct Current Fast Charger | E11: {=IF(B$19="All Years",INDEX(Years,ROW()-6),"")} -> 2030 | F11: =IF(AND($B$14="Manual",$C$14=""),"Populate Cell C14",IF(AND($B$15="Manual",$C$15=""),"Populate Cell C15",IF($B$14="Manual",$C$14,$B$14)/1000*IF($B$15="Manual",$C$15,$B$15)*IFERROR((DATE(E11+1,1,1)-DATE(E11,1,1)),366)*$B$13)) -> 41.0625 | G11: =IF(E11="","",IF(AND($B$16='(H) OptionLists'!$C$14,$C$16=""),"Populate Cell C16",IF($B$16='(H) OptionLists'!$C$5,IF(AND(B$17='(H) OptionLists'!$H$7,C$17=""),"Populate Cell C17",ROUND(StateGridAvg_2026*(IF(B$17='(H) OptionLists'!$H$5,VLOOKUP(E11,'(E) StatewideChange'!$B$5:$C$19,2,FALSE)/VLOOKUP(2026,'(E) StatewideChange'!$B$5:$C$19,2,FALSE),IF(B$17='(H) OptionLists'!$H$8,1,IF(B$17='(H) OptionLists'!$H$6,VLOOKUP(2026,'(E) StatewideChange'!$B$5:$C$19,2,FALSE)/VLOOKUP(E11,'(E) StatewideChange'!$B$5:$C$19,2,FALSE)*(2040-VALUE(LEFT(E11,4)))/(2040-2026),IF(B$17='(H) OptionLists'!$H$7,(1+C$17)^(VALUE(LEFT(E11,4))-2026),1))))),2)),IF($B$16='(H) OptionLists'!$C$14,IF(AND(B$17='(H) OptionLists'!$H$7,C$17=""),"Populate Cell C17",ROUND($C$16*(IF(B$17='(H) OptionLists'!$H$5,VLOOKUP(E11,'(E) StatewideChange'!$B$5:$C$19,2,FALSE)/VLOOKUP(2026,'(E) StatewideChange'!$B$5:$C$19,2,FALSE),IF(B$17='(H) OptionLists'!$H$8,1,IF(B$17='(H) OptionLists'!$H$6,(2040-VALUE(LEFT(E11,4)))/(2040-2026),IF(B$17='(H) OptionLists'!$H$7,(1+C$17)^(VALUE(LEFT(E11,4))-2026),1))))),2)),IF(B$16='(H) OptionLists'!$C$15,IF(K11="","Populate Column K",ROUND(K11,2)),IF(AND(B$17='(H) OptionLists'!$H$7,C$17=""),"Populate Cell C17",IFERROR(ROUND(VLOOKUP($B$16,EDU_CI_Lookup,2,FALSE)*(IF(B$17='(H) OptionLists'!$H$5,VLOOKUP(E11,'(E) StatewideChange'!$B$5:$C$19,2,FALSE)/VLOOKUP(2026,'(E) StatewideChange'!$B$5:$C$19,2,FALSE),IF(B$17='(H) OptionLists'!$H$8,1,IF(B$17='(H) OptionLists'!$H$6,(2040-VALUE(LEFT(E11,4)))/(2040-2026),IF(B$17='(H) OptionLists'!$H$7,(1+C$17)^(VALUE(LEFT(E11,4))-2026),1))))),2),"Select valid EDU option"))))))) -> 92.16 | H11: =IF(LEFT(F11,3)="Pop",F11,IF(LEFT(G11,3)="Pop",G11,IFERROR(IF(E11="","",ROUND((IF($B$12="Light-medium-duty (14k pounds or less)",3.4,5)*VLOOKUP(E11,'(B) CI Standard'!$B$5:$D$19,IF($B$12="Light-medium-duty (14k pounds or less)",2,3),FALSE)-G11)*3.6/1000*F11,0)),""))) -> 25 | I11: =IF(E11="","",_xlfn.IFNA(IF(B$20='(H) OptionLists'!$E$7,IF(C$20="","Populate Cell C20",ROUND(C$20*IF($B$21="Nominal",1,INDEX('(G) Inflation'!$C$12:$N$16,MATCH($B$22,'(G) Inflation'!$B$12:$B$16,0),MATCH($C$21,'(F) Credit Price_nom'!$C$5:$Q$5,0))/INDEX('(G) Inflation'!$C$12:$N$16,MATCH($B$22,'(G) Inflation'!$B$12:$B$16,0),MATCH($E$7,'(F) Credit Price_nom'!$C$5:$Q$5,0))),2)),IF(B$20='(H) OptionLists'!$E$8,IF(L11="","Populate Column L",L11),ROUND(INDEX('(F) Credit Price_nom'!$C$6:$Q$7,MATCH($B$20,'(F) Credit Price_nom'!$B$6:$B$7,0),MATCH(E11,'(F) Credit Price_nom'!$C$5:$Q$5,0))*IF($B$21="Nominal",1,INDEX('(G) Inflation'!$C$12:$N$16,MATCH($B$22,'(G) Inflation'!$B$12:$B$16,0),MATCH($C$21,'(F) Credit Price_nom'!$C$5:$Q$5,0))/INDEX('(G) Inflation'!$C$12:$N$16,MATCH($B$22,'(G) Inflation'!$B$12:$B$16,0),MATCH($E$7,'(F) Credit Price_nom'!$C$5:$Q$5,0))),2))),IF(AND($B$19="single year",$C$19=""),"Populate Cell C19",IF(AND($B$21="Real (input dollar year in Column C)",$C$21=""),"Populate Cell C21","Check Cells C18:C21")))) -> 122.85 | J11: =IF(LEFT(H11,3)="Pop",H11,IF(LEFT(I11,3)="Pop",I11,H11*I11)) -> 3071.25
A12: Vehicle class | B12: Light-medium-duty (14k pounds or less) | E12: {=IF(B$19="All Years",INDEX(Years,ROW()-6),"")} -> 2031 | F12: =IF(AND($B$14="Manual",$C$14=""),"Populate Cell C14",IF(AND($B$15="Manual",$C$15=""),"Populate Cell C15",IF($B$14="Manual",$C$14,$B$14)/1000*IF($B$15="Manual",$C$15,$B$15)*IFERROR((DATE(E12+1,1,1)-DATE(E12,1,1)),366)*$B$13)) -> 41.0625 | G12: =IF(E12="","",IF(AND($B$16='(H) OptionLists'!$C$14,$C$16=""),"Populate Cell C16",IF($B$16='(H) OptionLists'!$C$5,IF(AND(B$17='(H) OptionLists'!$H$7,C$17=""),"Populate Cell C17",ROUND(StateGridAvg_2026*(IF(B$17='(H) OptionLists'!$H$5,VLOOKUP(E12,'(E) StatewideChange'!$B$5:$C$19,2,FALSE)/VLOOKUP(2026,'(E) StatewideChange'!$B$5:$C$19,2,FALSE),IF(B$17='(H) OptionLists'!$H$8,1,IF(B$17='(H) OptionLists'!$H$6,VLOOKUP(2026,'(E) StatewideChange'!$B$5:$C$19,2,FALSE)/VLOOKUP(E12,'(E) StatewideChange'!$B$5:$C$19,2,FALSE)*(2040-VALUE(LEFT(E12,4)))/(2040-2026),IF(B$17='(H) OptionLists'!$H$7,(1+C$17)^(VALUE(LEFT(E12,4))-2026),1))))),2)),IF($B$16='(H) OptionLists'!$C$14,IF(AND(B$17='(H) OptionLists'!$H$7,C$17=""),"Populate Cell C17",ROUND($C$16*(IF(B$17='(H) OptionLists'!$H$5,VLOOKUP(E12,'(E) StatewideChange'!$B$5:$C$19,2,FALSE)/VLOOKUP(2026,'(E) StatewideChange'!$B$5:$C$19,2,FALSE),IF(B$17='(H) OptionLists'!$H$8,1,IF(B$17='(H) OptionLists'!$H$6,(2040-VALUE(LEFT(E12,4)))/(2040-2026),IF(B$17='(H) OptionLists'!$H$7,(1+C$17)^(VALUE(LEFT(E12,4))-2026),1))))),2)),IF(B$16='(H) OptionLists'!$C$15,IF(K12="","Populate Column K",ROUND(K12,2)),IF(AND(B$17='(H) OptionLists'!$H$7,C$17=""),"Populate Cell C17",IFERROR(ROUND(VLOOKUP($B$16,EDU_CI_Lookup,2,FALSE)*(IF(B$17='(H) OptionLists'!$H$5,VLOOKUP(E12,'(E) StatewideChange'!$B$5:$C$19,2,FALSE)/VLOOKUP(2026,'(E) StatewideChange'!$B$5:$C$19,2,FALSE),IF(B$17='(H) OptionLists'!$H$8,1,IF(B$17='(H) OptionLists'!$H$6,(2040-VALUE(LEFT(E12,4)))/(2040-2026),IF(B$17='(H) OptionLists'!$H$7,(1+C$17)^(VALUE(LEFT(E12,4))-2026),1))))),2),"Select valid EDU option"))))))) -> 65.12 | H12: =IF(LEFT(F12,3)="Pop",F12,IF(LEFT(G12,3)="Pop",G12,IFERROR(IF(E12="","",ROUND((IF($B$12="Light-medium-duty (14k pounds or less)",3.4,5)*VLOOKUP(E12,'(B) CI Standard'!$B$5:$D$19,IF($B$12="Light-medium-duty (14k pounds or less)",2,3),FALSE)-G12)*3.6/1000*F12,0)),""))) -> 28 | I12: =IF(E12="","",_xlfn.IFNA(IF(B$20='(H) OptionLists'!$E$7,IF(C$20="","Populate Cell C20",ROUND(C$20*IF($B$21="Nominal",1,INDEX('(G) Inflation'!$C$12:$N$16,MATCH($B$22,'(G) Inflation'!$B$12:$B$16,0),MATCH($C$21,'(F) Credit Price_nom'!$C$5:$Q$5,0))/INDEX('(G) Inflation'!$C$12:$N$16,MATCH($B$22,'(G) Inflation'!$B$12:$B$16,0),MATCH($E$7,'(F) Credit Price_nom'!$C$5:$Q$5,0))),2)),IF(B$20='(H) OptionLists'!$E$8,IF(L12="","Populate Column L",L12),ROUND(INDEX('(F) Credit Price_nom'!$C$6:$Q$7,MATCH($B$20,'(F) Credit Price_nom'!$B$6:$B$7,0),MATCH(E12,'(F) Credit Price_nom'!$C$5:$Q$5,0))*IF($B$21="Nominal",1,INDEX('(G) Inflation'!$C$12:$N$16,MATCH($B$22,'(G) Inflation'!$B$12:$B$16,0),MATCH($C$21,'(F) Credit Price_nom'!$C$5:$Q$5,0))/INDEX('(G) Inflation'!$C$12:$N$16,MATCH($B$22,'(G) Inflation'!$B$12:$B$16,0),MATCH($E$7,'(F) Credit Price_nom'!$C$5:$Q$5,0))),2))),IF(AND($B$19="single year",$C$19=""),"Populate Cell C19",IF(AND($B$21="Real (input dollar year in Column C)",$C$21=""),"Populate Cell C21","Check Cells C18:C21")))) -> 106.1 | J12: =IF(LEFT(H12,3)="Pop",H12,IF(LEFT(I12,3)="Pop",I12,H12*I12)) -> 2970.8
A13: Number of chargers | B13: 5 | E13: {=IF(B$19="All Years",INDEX(Years,ROW()-6),"")} -> 2032 | F13: =IF(AND($B$14="Manual",$C$14=""),"Populate Cell C14",IF(AND($B$15="Manual",$C$15=""),"Populate Cell C15",IF($B$14="Manual",$C$14,$B$14)/1000*IF($B$15="Manual",$C$15,$B$15)*IFERROR((DATE(E13+1,1,1)-DATE(E13,1,1)),366)*$B$13)) -> 41.175 | G13: =IF(E13="","",IF(AND($B$16='(H) OptionLists'!$C$14,$C$16=""),"Populate Cell C16",IF($B$16='(H) OptionLists'!$C$5,IF(AND(B$17='(H) OptionLists'!$H$7,C$17=""),"Populate Cell C17",ROUND(StateGridAvg_2026*(IF(B$17='(H) OptionLists'!$H$5,VLOOKUP(E13,'(E) StatewideChange'!$B$5:$C$19,2,FALSE)/VLOOKUP(2026,'(E) StatewideChange'!$B$5:$C$19,2,FALSE),IF(B$17='(H) OptionLists'!$H$8,1,IF(B$17='(H) OptionLists'!$H$6,VLOOKUP(2026,'(E) StatewideChange'!$B$5:$C$19,2,FALSE)/VLOOKUP(E13,'(E) StatewideChange'!$B$5:$C$19,2,FALSE)*(2040-VALUE(LEFT(E13,4)))/(2040-2026),IF(B$17='(H) OptionLists'!$H$7,(1+C$17)^(VALUE(LEFT(E13,4))-2026),1))))),2)),IF($B$16='(H) OptionLists'!$C$14,IF(AND(B$17='(H) OptionLists'!$H$7,C$17=""),"Populate Cell C17",ROUND($C$16*(IF(B$17='(H) OptionLists'!$H$5,VLOOKUP(E13,'(E) StatewideChange'!$B$5:$C$19,2,FALSE)/VLOOKUP(2026,'(E) StatewideChange'!$B$5:$C$19,2,FALSE),IF(B$17='(H) OptionLists'!$H$8,1,IF(B$17='(H) OptionLists'!$H$6,(2040-VALUE(LEFT(E13,4)))/(2040-2026),IF(B$17='(H) OptionLists'!$H$7,(1+C$17)^(VALUE(LEFT(E13,4))-2026),1))))),2)),IF(B$16='(H) OptionLists'!$C$15,IF(K13="","Populate Column K",ROUND(K13,2)),IF(AND(B$17='(H) OptionLists'!$H$7,C$17=""),"Populate Cell C17",IFERROR(ROUND(VLOOKUP($B$16,EDU_CI_Lookup,2,FALSE)*(IF(B$17='(H) OptionLists'!$H$5,VLOOKUP(E13,'(E) StatewideChange'!$B$5:$C$19,2,FALSE)/VLOOKUP(2026,'(E) StatewideChange'!$B$5:$C$19,2,FALSE),IF(B$17='(H) OptionLists'!$H$8,1,IF(B$17='(H) OptionLists'!$H$6,(2040-VALUE(LEFT(E13,4)))/(2040-2026),IF(B$17='(H) OptionLists'!$H$7,(1+C$17)^(VALUE(LEFT(E13,4))-2026),1))))),2),"Select valid EDU option"))))))) -> 45.97 | H13: =IF(LEFT(F13,3)="Pop",F13,IF(LEFT(G13,3)="Pop",G13,IFERROR(IF(E13="","",ROUND((IF($B$12="Light-medium-duty (14k pounds or less)",3.4,5)*VLOOKUP(E13,'(B) CI Standard'!$B$5:$D$19,IF($B$12="Light-medium-duty (14k pounds or less)",2,3),FALSE)-G13)*3.6/1000*F13,0)),""))) -> 31 | I13: =IF(E13="","",_xlfn.IFNA(IF(B$20='(H) OptionLists'!$E$7,IF(C$20="","Populate Cell C20",ROUND(C$20*IF($B$21="Nominal",1,INDEX('(G) Inflation'!$C$12:$N$16,MATCH($B$22,'(G) Inflation'!$B$12:$B$16,0),MATCH($C$21,'(F) Credit Price_nom'!$C$5:$Q$5,0))/INDEX('(G) Inflation'!$C$12:$N$16,MATCH($B$22,'(G) Inflation'!$B$12:$B$16,0),MATCH($E$7,'(F) Credit Price_nom'!$C$5:$Q$5,0))),2)),IF(B$20='(H) OptionLists'!$E$8,IF(L13="","Populate Column L",L13),ROUND(INDEX('(F) Credit Price_nom'!$C$6:$Q$7,MATCH($B$20,'(F) Credit Price_nom'!$B$6:$B$7,0),MATCH(E13,'(F) Credit Price_nom'!$C$5:$Q$5,0))*IF($B$21="Nominal",1,INDEX('(G) Inflation'!$C$12:$N$16,MATCH($B$22,'(G) Inflation'!$B$12:$B$16,0),MATCH($C$21,'(F) Credit Price_nom'!$C$5:$Q$5,0))/INDEX('(G) Inflation'!$C$12:$N$16,MATCH($B$22,'(G) Inflation'!$B$12:$B$16,0),MATCH($E$7,'(F) Credit Price_nom'!$C$5:$Q$5,0))),2))),IF(AND($B$19="single year",$C$19=""),"Populate Cell C19",IF(AND($B$21="Real (input dollar year in Column C)",$C$21=""),"Populate Cell C21","Check Cells C18:C21")))) -> 89.08 | J13: =IF(LEFT(H13,3)="Pop",H13,IF(LEFT(I13,3)="Pop",I13,H13*I13)) -> 2761.48
A14: Capacity per charger (kilowatts)1,A | B14: 75 | E14: {=IF(B$19="All Years",INDEX(Years,ROW()-6),"")} -> 2033 | F14: =IF(AND($B$14="Manual",$C$14=""),"Populate Cell C14",IF(AND($B$15="Manual",$C$15=""),"Populate Cell C15",IF($B$14="Manual",$C$14,$B$14)/1000*IF($B$15="Manual",$C$15,$B$15)*IFERROR((DATE(E14+1,1,1)-DATE(E14,1,1)),366)*$B$13)) -> 41.0625 | G14: =IF(E14="","",IF(AND($B$16='(H) OptionLists'!$C$14,$C$16=""),"Populate Cell C16",IF($B$16='(H) OptionLists'!$C$5,IF(AND(B$17='(H) OptionLists'!$H$7,C$17=""),"Populate Cell C17",ROUND(StateGridAvg_2026*(IF(B$17='(H) OptionLists'!$H$5,VLOOKUP(E14,'(E) StatewideChange'!$B$5:$C$19,2,FALSE)/VLOOKUP(2026,'(E) StatewideChange'!$B$5:$C$19,2,FALSE),IF(B$17='(H) OptionLists'!$H$8,1,IF(B$17='(H) OptionLists'!$H$6,VLOOKUP(2026,'(E) StatewideChange'!$B$5:$C$19,2,FALSE)/VLOOKUP(E14,'(E) StatewideChange'!$B$5:$C$19,2,FALSE)*(2040-VALUE(LEFT(E14,4)))/(2040-2026),IF(B$17='(H) OptionLists'!$H$7,(1+C$17)^(VALUE(LEFT(E14,4))-2026),1))))),2)),IF($B$16='(H) OptionLists'!$C$14,IF(AND(B$17='(H) OptionLists'!$H$7,C$17=""),"Populate Cell C17",ROUND($C$16*(IF(B$17='(H) OptionLists'!$H$5,VLOOKUP(E14,'(E) StatewideChange'!$B$5:$C$19,2,FALSE)/VLOOKUP(2026,'(E) StatewideChange'!$B$5:$C$19,2,FALSE),IF(B$17='(H) OptionLists'!$H$8,1,IF(B$17='(H) OptionLists'!$H$6,(2040-VALUE(LEFT(E14,4)))/(2040-2026),IF(B$17='(H) OptionLists'!$H$7,(1+C$17)^(VALUE(LEFT(E14,4))-2026),1))))),2)),IF(B$16='(H) OptionLists'!$C$15,IF(K14="","Populate Column K",ROUND(K14,2)),IF(AND(B$17='(H) OptionLists'!$H$7,C$17=""),"Populate Cell C17",IFERROR(ROUND(VLOOKUP($B$16,EDU_CI_Lookup,2,FALSE)*(IF(B$17='(H) OptionLists'!$H$5,VLOOKUP(E14,'(E) StatewideChange'!$B$5:$C$19,2,FALSE)/VLOOKUP(2026,'(E) StatewideChange'!$B$5:$C$19,2,FALSE),IF(B$17='(H) OptionLists'!$H$8,1,IF(B$17='(H) OptionLists'!$H$6,(2040-VALUE(LEFT(E14,4)))/(2040-2026),IF(B$17='(H) OptionLists'!$H$7,(1+C$17)^(VALUE(LEFT(E14,4))-2026),1))))),2),"Select valid EDU option"))))))) -> 42.8 | H14: =IF(LEFT(F14,3)="Pop",F14,IF(LEFT(G14,3)="Pop",G14,IFERROR(IF(E14="","",ROUND((IF($B$12="Light-medium-duty (14k pounds or less)",3.4,5)*VLOOKUP(E14,'(B) CI Standard'!$B$5:$D$19,IF($B$12="Light-medium-duty (14k pounds or less)",2,3),FALSE)-G14)*3.6/1000*F14,0)),""))) -> 31 | I14: =IF(E14="","",_xlfn.IFNA(IF(B$20='(H) OptionLists'!$E$7,IF(C$20="","Populate Cell C20",ROUND(C$20*IF($B$21="Nominal",1,INDEX('(G) Inflation'!$C$12:$N$16,MATCH($B$22,'(G) Inflation'!$B$12:$B$16,0),MATCH($C$21,'(F) Credit Price_nom'!$C$5:$Q$5,0))/INDEX('(G) Inflation'!$C$12:$N$16,MATCH($B$22,'(G) Inflation'!$B$12:$B$16,0),MATCH($E$7,'(F) Credit Price_nom'!$C$5:$Q$5,0))),2)),IF(B$20='(H) OptionLists'!$E$8,IF(L14="","Populate Column L",L14),ROUND(INDEX('(F) Credit Price_nom'!$C$6:$Q$7,MATCH($B$20,'(F) Credit Price_nom'!$B$6:$B$7,0),MATCH(E14,'(F) Credit Price_nom'!$C$5:$Q$5,0))*IF($B$21="Nominal",1,INDEX('(G) Inflation'!$C$12:$N$16,MATCH($B$22,'(G) Inflation'!$B$12:$B$16,0),MATCH($C$21,'(F) Credit Price_nom'!$C$5:$Q$5,0))/INDEX('(G) Inflation'!$C$12:$N$16,MATCH($B$22,'(G) Inflation'!$B$12:$B$16,0),MATCH($E$7,'(F) Credit Price_nom'!$C$5:$Q$5,0))),2))),IF(AND($B$19="single year",$C$19=""),"Populate Cell C19",IF(AND($B$21="Real (input dollar year in Column C)",$C$21=""),"Populate Cell C21","Check Cells C18:C21")))) -> 73.54 | J14: =IF(LEFT(H14,3)="Pop",H14,IF(LEFT(I14,3)="Pop",I14,H14*I14)) -> 2279.74
A15: Average daily use (hours/day/charger)A | B15: 0.3 | C15: 5 | E15: {=IF(B$19="All Years",INDEX(Years,ROW()-6),"")} -> 2034 | F15: =IF(AND($B$14="Manual",$C$14=""),"Populate Cell C14",IF(AND($B$15="Manual",$C$15=""),"Populate Cell C15",IF($B$14="Manual",$C$14,$B$14)/1000*IF($B$15="Manual",$C$15,$B$15)*IFERROR((DATE(E15+1,1,1)-DATE(E15,1,1)),366)*$B$13)) -> 41.0625 | G15: =IF(E15="","",IF(AND($B$16='(H) OptionLists'!$C$14,$C$16=""),"Populate Cell C16",IF($B$16='(H) OptionLists'!$C$5,IF(AND(B$17='(H) OptionLists'!$H$7,C$17=""),"Populate Cell C17",ROUND(StateGridAvg_2026*(IF(B$17='(H) OptionLists'!$H$5,VLOOKUP(E15,'(E) StatewideChange'!$B$5:$C$19,2,FALSE)/VLOOKUP(2026,'(E) StatewideChange'!$B$5:$C$19,2,FALSE),IF(B$17='(H) OptionLists'!$H$8,1,IF(B$17='(H) OptionLists'!$H$6,VLOOKUP(2026,'(E) StatewideChange'!$B$5:$C$19,2,FALSE)/VLOOKUP(E15,'(E) StatewideChange'!$B$5:$C$19,2,FALSE)*(2040-VALUE(LEFT(E15,4)))/(2040-2026),IF(B$17='(H) OptionLists'!$H$7,(1+C$17)^(VALUE(LEFT(E15,4))-2026),1))))),2)),IF($B$16='(H) OptionLists'!$C$14,IF(AND(B$17='(H) OptionLists'!$H$7,C$17=""),"Populate Cell C17",ROUND($C$16*(IF(B$17='(H) OptionLists'!$H$5,VLOOKUP(E15,'(E) StatewideChange'!$B$5:$C$19,2,FALSE)/VLOOKUP(2026,'(E) StatewideChange'!$B$5:$C$19,2,FALSE),IF(B$17='(H) OptionLists'!$H$8,1,IF(B$17='(H) OptionLists'!$H$6,(2040-VALUE(LEFT(E15,4)))/(2040-2026),IF(B$17='(H) OptionLists'!$H$7,(1+C$17)^(VALUE(LEFT(E15,4))-2026),1))))),2)),IF(B$16='(H) OptionLists'!$C$15,IF(K15="","Populate Column K",ROUND(K15,2)),IF(AND(B$17='(H) OptionLists'!$H$7,C$17=""),"Populate Cell C17",IFERROR(ROUND(VLOOKUP($B$16,EDU_CI_Lookup,2,FALSE)*(IF(B$17='(H) OptionLists'!$H$5,VLOOKUP(E15,'(E) StatewideChange'!$B$5:$C$19,2,FALSE)/VLOOKUP(2026,'(E) StatewideChange'!$B$5:$C$19,2,FALSE),IF(B$17='(H) OptionLists'!$H$8,1,IF(B$17='(H) OptionLists'!$H$6,(2040-VALUE(LEFT(E15,4)))/(2040-2026),IF(B$17='(H) OptionLists'!$H$7,(1+C$17)^(VALUE(LEFT(E15,4))-2026),1))))),2),"Select valid EDU option"))))))) -> 42.2 | H15: =IF(LEFT(F15,3)="Pop",F15,IF(LEFT(G15,3)="Pop",G15,IFERROR(IF(E15="","",ROUND((IF($B$12="Light-medium-duty (14k pounds or less)",3.4,5)*VLOOKUP(E15,'(B) CI Standard'!$B$5:$D$19,IF($B$12="Light-medium-duty (14k pounds or less)",2,3),FALSE)-G15)*3.6/1000*F15,0)),""))) -> 30 | I15: =IF(E15="","",_xlfn.IFNA(IF(B$20='(H) OptionLists'!$E$7,IF(C$20="","Populate Cell C20",ROUND(C$20*IF($B$21="Nominal",1,INDEX('(G) Inflation'!$C$12:$N$16,MATCH($B$22,'(G) Inflation'!$B$12:$B$16,0),MATCH($C$21,'(F) Credit Price_nom'!$C$5:$Q$5,0))/INDEX('(G) Inflation'!$C$12:$N$16,MATCH($B$22,'(G) Inflation'!$B$12:$B$16,0),MATCH($E$7,'(F) Credit Price_nom'!$C$5:$Q$5,0))),2)),IF(B$20='(H) OptionLists'!$E$8,IF(L15="","Populate Column L",L15),ROUND(INDEX('(F) Credit Price_nom'!$C$6:$Q$7,MATCH($B$20,'(F) Credit Price_nom'!$B$6:$B$7,0),MATCH(E15,'(F) Credit Price_nom'!$C$5:$Q$5,0))*IF($B$21="Nominal",1,INDEX('(G) Inflation'!$C$12:$N$16,MATCH($B$22,'(G) Inflation'!$B$12:$B$16,0),MATCH($C$21,'(F) Credit Price_nom'!$C$5:$Q$5,0))/INDEX('(G) Inflation'!$C$12:$N$16,MATCH($B$22,'(G) Inflation'!$B$12:$B$16,0),MATCH($E$7,'(F) Credit Price_nom'!$C$5:$Q$5,0))),2))),IF(AND($B$19="single year",$C$19=""),"Populate Cell C19",IF(AND($B$21="Real (input dollar year in Column C)",$C$21=""),"Populate Cell C21","Check Cells C18:C21")))) -> 75.24 | J15: =IF(LEFT(H15,3)="Pop",H15,IF(LEFT(I15,3)="Pop",I15,H15*I15)) -> 2257.2
A16: 2026 Grid/EDU carbon intensity (gCO2e/MJ)2,C,D,H | B16: Los Alamos DPUE (117.5 gCO2e/MJ) | C16: 80 | E16: {=IF(B$19="All Years",INDEX(Years,ROW()-6),"")} -> 2035 | F16: =IF(AND($B$14="Manual",$C$14=""),"Populate Cell C14",IF(AND($B$15="Manual",$C$15=""),"Populate Cell C15",IF($B$14="Manual",$C$14,$B$14)/1000*IF($B$15="Manual",$C$15,$B$15)*IFERROR((DATE(E16+1,1,1)-DATE(E16,1,1)),366)*$B$13)) -> 41.0625 | G16: =IF(E16="","",IF(AND($B$16='(H) OptionLists'!$C$14,$C$16=""),"Populate Cell C16",IF($B$16='(H) OptionLists'!$C$5,IF(AND(B$17='(H) OptionLists'!$H$7,C$17=""),"Populate Cell C17",ROUND(StateGridAvg_2026*(IF(B$17='(H) OptionLists'!$H$5,VLOOKUP(E16,'(E) StatewideChange'!$B$5:$C$19,2,FALSE)/VLOOKUP(2026,'(E) StatewideChange'!$B$5:$C$19,2,FALSE),IF(B$17='(H) OptionLists'!$H$8,1,IF(B$17='(H) OptionLists'!$H$6,VLOOKUP(2026,'(E) StatewideChange'!$B$5:$C$19,2,FALSE)/VLOOKUP(E16,'(E) StatewideChange'!$B$5:$C$19,2,FALSE)*(2040-VALUE(LEFT(E16,4)))/(2040-2026),IF(B$17='(H) OptionLists'!$H$7,(1+C$17)^(VALUE(LEFT(E16,4))-2026),1))))),2)),IF($B$16='(H) OptionLists'!$C$14,IF(AND(B$17='(H) OptionLists'!$H$7,C$17=""),"Populate Cell C17",ROUND($C$16*(IF(B$17='(H) OptionLists'!$H$5,VLOOKUP(E16,'(E) StatewideChange'!$B$5:$C$19,2,FALSE)/VLOOKUP(2026,'(E) StatewideChange'!$B$5:$C$19,2,FALSE),IF(B$17='(H) OptionLists'!$H$8,1,IF(B$17='(H) OptionLists'!$H$6,(2040-VALUE(LEFT(E16,4)))/(2040-2026),IF(B$17='(H) OptionLists'!$H$7,(1+C$17)^(VALUE(LEFT(E16,4))-2026),1))))),2)),IF(B$16='(H) OptionLists'!$C$15,IF(K16="","Populate Column K",ROUND(K16,2)),IF(AND(B$17='(H) OptionLists'!$H$7,C$17=""),"Populate Cell C17",IFERROR(ROUND(VLOOKUP($B$16,EDU_CI_Lookup,2,FALSE)*(IF(B$17='(H) OptionLists'!$H$5,VLOOKUP(E16,'(E) StatewideChange'!$B$5:$C$19,2,FALSE)/VLOOKUP(2026,'(E) StatewideChange'!$B$5:$C$19,2,FALSE),IF(B$17='(H) OptionLists'!$H$8,1,IF(B$17='(H) OptionLists'!$H$6,(2040-VALUE(LEFT(E16,4)))/(2040-2026),IF(B$17='(H) OptionLists'!$H$7,(1+C$17)^(VALUE(LEFT(E16,4))-2026),1))))),2),"Select valid EDU option"))))))) -> 37.43 | H16: =IF(LEFT(F16,3)="Pop",F16,IF(LEFT(G16,3)="Pop",G16,IFERROR(IF(E16="","",ROUND((IF($B$12="Light-medium-duty (14k pounds or less)",3.4,5)*VLOOKUP(E16,'(B) CI Standard'!$B$5:$D$19,IF($B$12="Light-medium-duty (14k pounds or less)",2,3),FALSE)-G16)*3.6/1000*F16,0)),""))) -> 31 | I16: =IF(E16="","",_xlfn.IFNA(IF(B$20='(H) OptionLists'!$E$7,IF(C$20="","Populate Cell C20",ROUND(C$20*IF($B$21="Nominal",1,INDEX('(G) Inflation'!$C$12:$N$16,MATCH($B$22,'(G) Inflation'!$B$12:$B$16,0),MATCH($C$21,'(F) Credit Price_nom'!$C$5:$Q$5,0))/INDEX('(G) Inflation'!$C$12:$N$16,MATCH($B$22,'(G) Inflation'!$B$12:$B$16,0),MATCH($E$7,'(F) Credit Price_nom'!$C$5:$Q$5,0))),2)),IF(B$20='(H) OptionLists'!$E$8,IF(L16="","Populate Column L",L16),ROUND(INDEX('(F) Credit Price_nom'!$C$6:$Q$7,MATCH($B$20,'(F) Credit Price_nom'!$B$6:$B$7,0),MATCH(E16,'(F) Credit Price_nom'!$C$5:$Q$5,0))*IF($B$21="Nominal",1,INDEX('(G) Inflation'!$C$12:$N$16,MATCH($B$22,'(G) Inflation'!$B$12:$B$16,0),MATCH($C$21,'(F) Credit Price_nom'!$C$5:$Q$5,0))/INDEX('(G) Inflation'!$C$12:$N$16,MATCH($B$22,'(G) Inflation'!$B$12:$B$16,0),MATCH($E$7,'(F) Credit Price_nom'!$C$5:$Q$5,0))),2))),IF(AND($B$19="single year",$C$19=""),"Populate Cell C19",IF(AND($B$21="Real (input dollar year in Column C)",$C$21=""),"Populate Cell C21","Check Cells C18:C21")))) -> 77.25 | J16: =IF(LEFT(H16,3)="Pop",H16,IF(LEFT(I16,3)="Pop",I16,H16*I16)) -> 2394.75
A17: Annual carbon intensity changeE,H | B17: Statewide change | C17: -0.05 | E17: {=IF(B$19="All Years",INDEX(Years,ROW()-6),"")} -> 2036 | F17: =IF(AND($B$14="Manual",$C$14=""),"Populate Cell C14",IF(AND($B$15="Manual",$C$15=""),"Populate Cell C15",IF($B$14="Manual",$C$14,$B$14)/1000*IF($B$15="Manual",$C$15,$B$15)*IFERROR((DATE(E17+1,1,1)-DATE(E17,1,1)),366)*$B$13)) -> 41.175 | G17: =IF(E17="","",IF(AND($B$16='(H) OptionLists'!$C$14,$C$16=""),"Populate Cell C16",IF($B$16='(H) OptionLists'!$C$5,IF(AND(B$17='(H) OptionLists'!$H$7,C$17=""),"Populate Cell C17",ROUND(StateGridAvg_2026*(IF(B$17='(H) OptionLists'!$H$5,VLOOKUP(E17,'(E) StatewideChange'!$B$5:$C$19,2,FALSE)/VLOOKUP(2026,'(E) StatewideChange'!$B$5:$C$19,2,FALSE),IF(B$17='(H) OptionLists'!$H$8,1,IF(B$17='(H) OptionLists'!$H$6,VLOOKUP(2026,'(E) StatewideChange'!$B$5:$C$19,2,FALSE)/VLOOKUP(E17,'(E) StatewideChange'!$B$5:$C$19,2,FALSE)*(2040-VALUE(LEFT(E17,4)))/(2040-2026),IF(B$17='(H) OptionLists'!$H$7,(1+C$17)^(VALUE(LEFT(E17,4))-2026),1))))),2)),IF($B$16='(H) OptionLists'!$C$14,IF(AND(B$17='(H) OptionLists'!$H$7,C$17=""),"Populate Cell C17",ROUND($C$16*(IF(B$17='(H) OptionLists'!$H$5,VLOOKUP(E17,'(E) StatewideChange'!$B$5:$C$19,2,FALSE)/VLOOKUP(2026,'(E) StatewideChange'!$B$5:$C$19,2,FALSE),IF(B$17='(H) OptionLists'!$H$8,1,IF(B$17='(H) OptionLists'!$H$6,(2040-VALUE(LEFT(E17,4)))/(2040-2026),IF(B$17='(H) OptionLists'!$H$7,(1+C$17)^(VALUE(LEFT(E17,4))-2026),1))))),2)),IF(B$16='(H) OptionLists'!$C$15,IF(K17="","Populate Column K",ROUND(K17,2)),IF(AND(B$17='(H) OptionLists'!$H$7,C$17=""),"Populate Cell C17",IFERROR(ROUND(VLOOKUP($B$16,EDU_CI_Lookup,2,FALSE)*(IF(B$17='(H) OptionLists'!$H$5,VLOOKUP(E17,'(E) StatewideChange'!$B$5:$C$19,2,FALSE)/VLOOKUP(2026,'(E) StatewideChange'!$B$5:$C$19,2,FALSE),IF(B$17='(H) OptionLists'!$H$8,1,IF(B$17='(H) OptionLists'!$H$6,(2040-VALUE(LEFT(E17,4)))/(2040-2026),IF(B$17='(H) OptionLists'!$H$7,(1+C$17)^(VALUE(LEFT(E17,4))-2026),1))))),2),"Select valid EDU option"))))))) -> 34.9 | H17: =IF(LEFT(F17,3)="Pop",F17,IF(LEFT(G17,3)="Pop",G17,IFERROR(IF(E17="","",ROUND((IF($B$12="Light-medium-duty (14k pounds or less)",3.4,5)*VLOOKUP(E17,'(B) CI Standard'!$B$5:$D$19,IF($B$12="Light-medium-duty (14k pounds or less)",2,3),FALSE)-G17)*3.6/1000*F17,0)),""))) -> 30 | I17: =IF(E17="","",_xlfn.IFNA(IF(B$20='(H) OptionLists'!$E$7,IF(C$20="","Populate Cell C20",ROUND(C$20*IF($B$21="Nominal",1,INDEX('(G) Inflation'!$C$12:$N$16,MATCH($B$22,'(G) Inflation'!$B$12:$B$16,0),MATCH($C$21,'(F) Credit Price_nom'!$C$5:$Q$5,0))/INDEX('(G) Inflation'!$C$12:$N$16,MATCH($B$22,'(G) Inflation'!$B$12:$B$16,0),MATCH($E$7,'(F) Credit Price_nom'!$C$5:$Q$5,0))),2)),IF(B$20='(H) OptionLists'!$E$8,IF(L17="","Populate Column L",L17),ROUND(INDEX('(F) Credit Price_nom'!$C$6:$Q$7,MATCH($B$20,'(F) Credit Price_nom'!$B$6:$B$7,0),MATCH(E17,'(F) Credit Price_nom'!$C$5:$Q$5,0))*IF($B$21="Nominal",1,INDEX('(G) Inflation'!$C$12:$N$16,MATCH($B$22,'(G) Inflation'!$B$12:$B$16,0),MATCH($C$21,'(F) Credit Price_nom'!$C$5:$Q$5,0))/INDEX('(G) Inflation'!$C$12:$N$16,MATCH($B$22,'(G) Inflation'!$B$12:$B$16,0),MATCH($E$7,'(F) Credit Price_nom'!$C$5:$Q$5,0))),2))),IF(AND($B$19="single year",$C$19=""),"Populate Cell C19",IF(AND($B$21="Real (input dollar year in Column C)",$C$21=""),"Populate Cell C21","Check Cells C18:C21")))) -> 78.93 | J17: =IF(LEFT(H17,3)="Pop",H17,IF(LEFT(I17,3)="Pop",I17,H17*I17)) -> 2367.9
A18: Financial info | C18: Input value if orange | E18: {=IF(B$19="All Years",INDEX(Years,ROW()-6),"")} -> 2037 | F18: =IF(AND($B$14="Manual",$C$14=""),"Populate Cell C14",IF(AND($B$15="Manual",$C$15=""),"Populate Cell C15",IF($B$14="Manual",$C$14,$B$14)/1000*IF($B$15="Manual",$C$15,$B$15)*IFERROR((DATE(E18+1,1,1)-DATE(E18,1,1)),366)*$B$13)) -> 41.0625 | G18: =IF(E18="","",IF(AND($B$16='(H) OptionLists'!$C$14,$C$16=""),"Populate Cell C16",IF($B$16='(H) OptionLists'!$C$5,IF(AND(B$17='(H) OptionLists'!$H$7,C$17=""),"Populate Cell C17",ROUND(StateGridAvg_2026*(IF(B$17='(H) OptionLists'!$H$5,VLOOKUP(E18,'(E) StatewideChange'!$B$5:$C$19,2,FALSE)/VLOOKUP(2026,'(E) StatewideChange'!$B$5:$C$19,2,FALSE),IF(B$17='(H) OptionLists'!$H$8,1,IF(B$17='(H) OptionLists'!$H$6,VLOOKUP(2026,'(E) StatewideChange'!$B$5:$C$19,2,FALSE)/VLOOKUP(E18,'(E) StatewideChange'!$B$5:$C$19,2,FALSE)*(2040-VALUE(LEFT(E18,4)))/(2040-2026),IF(B$17='(H) OptionLists'!$H$7,(1+C$17)^(VALUE(LEFT(E18,4))-2026),1))))),2)),IF($B$16='(H) OptionLists'!$C$14,IF(AND(B$17='(H) OptionLists'!$H$7,C$17=""),"Populate Cell C17",ROUND($C$16*(IF(B$17='(H) OptionLists'!$H$5,VLOOKUP(E18,'(E) StatewideChange'!$B$5:$C$19,2,FALSE)/VLOOKUP(2026,'(E) StatewideChange'!$B$5:$C$19,2,FALSE),IF(B$17='(H) OptionLists'!$H$8,1,IF(B$17='(H) OptionLists'!$H$6,(2040-VALUE(LEFT(E18,4)))/(2040-2026),IF(B$17='(H) OptionLists'!$H$7,(1+C$17)^(VALUE(LEFT(E18,4))-2026),1))))),2)),IF(B$16='(H) OptionLists'!$C$15,IF(K18="","Populate Column K",ROUND(K18,2)),IF(AND(B$17='(H) OptionLists'!$H$7,C$17=""),"Populate Cell C17",IFERROR(ROUND(VLOOKUP($B$16,EDU_CI_Lookup,2,FALSE)*(IF(B$17='(H) OptionLists'!$H$5,VLOOKUP(E18,'(E) StatewideChange'!$B$5:$C$19,2,FALSE)/VLOOKUP(2026,'(E) StatewideChange'!$B$5:$C$19,2,FALSE),IF(B$17='(H) OptionLists'!$H$8,1,IF(B$17='(H) OptionLists'!$H$6,(2040-VALUE(LEFT(E18,4)))/(2040-2026),IF(B$17='(H) OptionLists'!$H$7,(1+C$17)^(VALUE(LEFT(E18,4))-2026),1))))),2),"Select valid EDU option"))))))) -> 31.6 | H18: =IF(LEFT(F18,3)="Pop",F18,IF(LEFT(G18,3)="Pop",G18,IFERROR(IF(E18="","",ROUND((IF($B$12="Light-medium-duty (14k pounds or less)",3.4,5)*VLOOKUP(E18,'(B) CI Standard'!$B$5:$D$19,IF($B$12="Light-medium-duty (14k pounds or less)",2,3),FALSE)-G18)*3.6/1000*F18,0)),""))) -> 30 | I18: =IF(E18="","",_xlfn.IFNA(IF(B$20='(H) OptionLists'!$E$7,IF(C$20="","Populate Cell C20",ROUND(C$20*IF($B$21="Nominal",1,INDEX('(G) Inflation'!$C$12:$N$16,MATCH($B$22,'(G) Inflation'!$B$12:$B$16,0),MATCH($C$21,'(F) Credit Price_nom'!$C$5:$Q$5,0))/INDEX('(G) Inflation'!$C$12:$N$16,MATCH($B$22,'(G) Inflation'!$B$12:$B$16,0),MATCH($E$7,'(F) Credit Price_nom'!$C$5:$Q$5,0))),2)),IF(B$20='(H) OptionLists'!$E$8,IF(L18="","Populate Column L",L18),ROUND(INDEX('(F) Credit Price_nom'!$C$6:$Q$7,MATCH($B$20,'(F) Credit Price_nom'!$B$6:$B$7,0),MATCH(E18,'(F) Credit Price_nom'!$C$5:$Q$5,0))*IF($B$21="Nominal",1,INDEX('(G) Inflation'!$C$12:$N$16,MATCH($B$22,'(G) Inflation'!$B$12:$B$16,0),MATCH($C$21,'(F) Credit Price_nom'!$C$5:$Q$5,0))/INDEX('(G) Inflation'!$C$12:$N$16,MATCH($B$22,'(G) Inflation'!$B$12:$B$16,0),MATCH($E$7,'(F) Credit Price_nom'!$C$5:$Q$5,0))),2))),IF(AND($B$19="single year",$C$19=""),"Populate Cell C19",IF(AND($B$21="Real (input dollar year in Column C)",$C$21=""),"Populate Cell C21","Check Cells C18:C21")))) -> 80.9 | J18: =IF(LEFT(H18,3)="Pop",H18,IF(LEFT(I18,3)="Pop",I18,H18*I18)) -> 2427
A19: Output results year(s) | B19: All years | C19: 2026 | E19: {=IF(B$19="All Years",INDEX(Years,ROW()-6),"")} -> 2038 | F19: =IF(AND($B$14="Manual",$C$14=""),"Populate Cell C14",IF(AND($B$15="Manual",$C$15=""),"Populate Cell C15",IF($B$14="Manual",$C$14,$B$14)/1000*IF($B$15="Manual",$C$15,$B$15)*IFERROR((DATE(E19+1,1,1)-DATE(E19,1,1)),366)*$B$13)) -> 41.0625 | G19: =IF(E19="","",IF(AND($B$16='(H) OptionLists'!$C$14,$C$16=""),"Populate Cell C16",IF($B$16='(H) OptionLists'!$C$5,IF(AND(B$17='(H) OptionLists'!$H$7,C$17=""),"Populate Cell C17",ROUND(StateGridAvg_2026*(IF(B$17='(H) OptionLists'!$H$5,VLOOKUP(E19,'(E) StatewideChange'!$B$5:$C$19,2,FALSE)/VLOOKUP(2026,'(E) StatewideChange'!$B$5:$C$19,2,FALSE),IF(B$17='(H) OptionLists'!$H$8,1,IF(B$17='(H) OptionLists'!$H$6,VLOOKUP(2026,'(E) StatewideChange'!$B$5:$C$19,2,FALSE)/VLOOKUP(E19,'(E) StatewideChange'!$B$5:$C$19,2,FALSE)*(2040-VALUE(LEFT(E19,4)))/(2040-2026),IF(B$17='(H) OptionLists'!$H$7,(1+C$17)^(VALUE(LEFT(E19,4))-2026),1))))),2)),IF($B$16='(H) OptionLists'!$C$14,IF(AND(B$17='(H) OptionLists'!$H$7,C$17=""),"Populate Cell C17",ROUND($C$16*(IF(B$17='(H) OptionLists'!$H$5,VLOOKUP(E19,'(E) StatewideChange'!$B$5:$C$19,2,FALSE)/VLOOKUP(2026,'(E) StatewideChange'!$B$5:$C$19,2,FALSE),IF(B$17='(H) OptionLists'!$H$8,1,IF(B$17='(H) OptionLists'!$H$6,(2040-VALUE(LEFT(E19,4)))/(2040-2026),IF(B$17='(H) OptionLists'!$H$7,(1+C$17)^(VALUE(LEFT(E19,4))-2026),1))))),2)),IF(B$16='(H) OptionLists'!$C$15,IF(K19="","Populate Column K",ROUND(K19,2)),IF(AND(B$17='(H) OptionLists'!$H$7,C$17=""),"Populate Cell C17",IFERROR(ROUND(VLOOKUP($B$16,EDU_CI_Lookup,2,FALSE)*(IF(B$17='(H) OptionLists'!$H$5,VLOOKUP(E19,'(E) StatewideChange'!$B$5:$C$19,2,FALSE)/VLOOKUP(2026,'(E) StatewideChange'!$B$5:$C$19,2,FALSE),IF(B$17='(H) OptionLists'!$H$8,1,IF(B$17='(H) OptionLists'!$H$6,(2040-VALUE(LEFT(E19,4)))/(2040-2026),IF(B$17='(H) OptionLists'!$H$7,(1+C$17)^(VALUE(LEFT(E19,4))-2026),1))))),2),"Select valid EDU option"))))))) -> 31.84 | H19: =IF(LEFT(F19,3)="Pop",F19,IF(LEFT(G19,3)="Pop",G19,IFERROR(IF(E19="","",ROUND((IF($B$12="Light-medium-duty (14k pounds or less)",3.4,5)*VLOOKUP(E19,'(B) CI Standard'!$B$5:$D$19,IF($B$12="Light-medium-duty (14k pounds or less)",2,3),FALSE)-G19)*3.6/1000*F19,0)),""))) -> 30 | I19: =IF(E19="","",_xlfn.IFNA(IF(B$20='(H) OptionLists'!$E$7,IF(C$20="","Populate Cell C20",ROUND(C$20*IF($B$21="Nominal",1,INDEX('(G) Inflation'!$C$12:$N$16,MATCH($B$22,'(G) Inflation'!$B$12:$B$16,0),MATCH($C$21,'(F) Credit Price_nom'!$C$5:$Q$5,0))/INDEX('(G) Inflation'!$C$12:$N$16,MATCH($B$22,'(G) Inflation'!$B$12:$B$16,0),MATCH($E$7,'(F) Credit Price_nom'!$C$5:$Q$5,0))),2)),IF(B$20='(H) OptionLists'!$E$8,IF(L19="","Populate Column L",L19),ROUND(INDEX('(F) Credit Price_nom'!$C$6:$Q$7,MATCH($B$20,'(F) Credit Price_nom'!$B$6:$B$7,0),MATCH(E19,'(F) Credit Price_nom'!$C$5:$Q$5,0))*IF($B$21="Nominal",1,INDEX('(G) Inflation'!$C$12:$N$16,MATCH($B$22,'(G) Inflation'!$B$12:$B$16,0),MATCH($C$21,'(F) Credit Price_nom'!$C$5:$Q$5,0))/INDEX('(G) Inflation'!$C$12:$N$16,MATCH($B$22,'(G) Inflation'!$B$12:$B$16,0),MATCH($E$7,'(F) Credit Price_nom'!$C$5:$Q$5,0))),2))),IF(AND($B$19="single year",$C$19=""),"Populate Cell C19",IF(AND($B$21="Real (input dollar year in Column C)",$C$21=""),"Populate Cell C21","Check Cells C18:C21")))) -> 82.85 | J19: =IF(LEFT(H19,3)="Pop",H19,IF(LEFT(I19,3)="Pop",I19,H19*I19)) -> 2485.5
A20: Credit Price ScenarioF,H | B20: Rebuttal Sensitivity Analysis | C20: 50 | E20: {=IF(B$19="All Years",INDEX(Years,ROW()-6),"")} -> 2039 | F20: =IF(AND($B$14="Manual",$C$14=""),"Populate Cell C14",IF(AND($B$15="Manual",$C$15=""),"Populate Cell C15",IF($B$14="Manual",$C$14,$B$14)/1000*IF($B$15="Manual",$C$15,$B$15)*IFERROR((DATE(E20+1,1,1)-DATE(E20,1,1)),366)*$B$13)) -> 41.0625 | G20: =IF(E20="","",IF(AND($B$16='(H) OptionLists'!$C$14,$C$16=""),"Populate Cell C16",IF($B$16='(H) OptionLists'!$C$5,IF(AND(B$17='(H) OptionLists'!$H$7,C$17=""),"Populate Cell C17",ROUND(StateGridAvg_2026*(IF(B$17='(H) OptionLists'!$H$5,VLOOKUP(E20,'(E) StatewideChange'!$B$5:$C$19,2,FALSE)/VLOOKUP(2026,'(E) StatewideChange'!$B$5:$C$19,2,FALSE),IF(B$17='(H) OptionLists'!$H$8,1,IF(B$17='(H) OptionLists'!$H$6,VLOOKUP(2026,'(E) StatewideChange'!$B$5:$C$19,2,FALSE)/VLOOKUP(E20,'(E) StatewideChange'!$B$5:$C$19,2,FALSE)*(2040-VALUE(LEFT(E20,4)))/(2040-2026),IF(B$17='(H) OptionLists'!$H$7,(1+C$17)^(VALUE(LEFT(E20,4))-2026),1))))),2)),IF($B$16='(H) OptionLists'!$C$14,IF(AND(B$17='(H) OptionLists'!$H$7,C$17=""),"Populate Cell C17",ROUND($C$16*(IF(B$17='(H) OptionLists'!$H$5,VLOOKUP(E20,'(E) StatewideChange'!$B$5:$C$19,2,FALSE)/VLOOKUP(2026,'(E) StatewideChange'!$B$5:$C$19,2,FALSE),IF(B$17='(H) OptionLists'!$H$8,1,IF(B$17='(H) OptionLists'!$H$6,(2040-VALUE(LEFT(E20,4)))/(2040-2026),IF(B$17='(H) OptionLists'!$H$7,(1+C$17)^(VALUE(LEFT(E20,4))-2026),1))))),2)),IF(B$16='(H) OptionLists'!$C$15,IF(K20="","Populate Column K",ROUND(K20,2)),IF(AND(B$17='(H) OptionLists'!$H$7,C$17=""),"Populate Cell C17",IFERROR(ROUND(VLOOKUP($B$16,EDU_CI_Lookup,2,FALSE)*(IF(B$17='(H) OptionLists'!$H$5,VLOOKUP(E20,'(E) StatewideChange'!$B$5:$C$19,2,FALSE)/VLOOKUP(2026,'(E) StatewideChange'!$B$5:$C$19,2,FALSE),IF(B$17='(H) OptionLists'!$H$8,1,IF(B$17='(H) OptionLists'!$H$6,(2040-VALUE(LEFT(E20,4)))/(2040-2026),IF(B$17='(H) OptionLists'!$H$7,(1+C$17)^(VALUE(LEFT(E20,4))-2026),1))))),2),"Select valid EDU option"))))))) -> 32.39 | H20: =IF(LEFT(F20,3)="Pop",F20,IF(LEFT(G20,3)="Pop",G20,IFERROR(IF(E20="","",ROUND((IF($B$12="Light-medium-duty (14k pounds or less)",3.4,5)*VLOOKUP(E20,'(B) CI Standard'!$B$5:$D$19,IF($B$12="Light-medium-duty (14k pounds or less)",2,3),FALSE)-G20)*3.6/1000*F20,0)),""))) -> 29 | I20: =IF(E20="","",_xlfn.IFNA(IF(B$20='(H) OptionLists'!$E$7,IF(C$20="","Populate Cell C20",ROUND(C$20*IF($B$21="Nominal",1,INDEX('(G) Inflation'!$C$12:$N$16,MATCH($B$22,'(G) Inflation'!$B$12:$B$16,0),MATCH($C$21,'(F) Credit Price_nom'!$C$5:$Q$5,0))/INDEX('(G) Inflation'!$C$12:$N$16,MATCH($B$22,'(G) Inflation'!$B$12:$B$16,0),MATCH($E$7,'(F) Credit Price_nom'!$C$5:$Q$5,0))),2)),IF(B$20='(H) OptionLists'!$E$8,IF(L20="","Populate Column L",L20),ROUND(INDEX('(F) Credit Price_nom'!$C$6:$Q$7,MATCH($B$20,'(F) Credit Price_nom'!$B$6:$B$7,0),MATCH(E20,'(F) Credit Price_nom'!$C$5:$Q$5,0))*IF($B$21="Nominal",1,INDEX('(G) Inflation'!$C$12:$N$16,MATCH($B$22,'(G) Inflation'!$B$12:$B$16,0),MATCH($C$21,'(F) Credit Price_nom'!$C$5:$Q$5,0))/INDEX('(G) Inflation'!$C$12:$N$16,MATCH($B$22,'(G) Inflation'!$B$12:$B$16,0),MATCH($E$7,'(F) Credit Price_nom'!$C$5:$Q$5,0))),2))),IF(AND($B$19="single year",$C$19=""),"Populate Cell C19",IF(AND($B$21="Real (input dollar year in Column C)",$C$21=""),"Populate Cell C21","Check Cells C18:C21")))) -> 84.72 | J20: =IF(LEFT(H20,3)="Pop",H20,IF(LEFT(I20,3)="Pop",I20,H20*I20)) -> 2456.88
A21: Dollar typeG | B21: Real (input dollar year in Column C) | C21: 2026 | E21: {=IF(B$19="All Years",INDEX(Years,ROW()-6),"")} -> 2040 and subsequent years | F21: =IF(AND($B$14="Manual",$C$14=""),"Populate Cell C14",IF(AND($B$15="Manual",$C$15=""),"Populate Cell C15",IF($B$14="Manual",$C$14,$B$14)/1000*IF($B$15="Manual",$C$15,$B$15)*IFERROR((DATE(E21+1,1,1)-DATE(E21,1,1)),366)*$B$13)) -> 41.175 | G21: =IF(E21="","",IF(AND($B$16='(H) OptionLists'!$C$14,$C$16=""),"Populate Cell C16",IF($B$16='(H) OptionLists'!$C$5,IF(AND(B$17='(H) OptionLists'!$H$7,C$17=""),"Populate Cell C17",ROUND(StateGridAvg_2026*(IF(B$17='(H) OptionLists'!$H$5,VLOOKUP(E21,'(E) StatewideChange'!$B$5:$C$19,2,FALSE)/VLOOKUP(2026,'(E) StatewideChange'!$B$5:$C$19,2,FALSE),IF(B$17='(H) OptionLists'!$H$8,1,IF(B$17='(H) OptionLists'!$H$6,VLOOKUP(2026,'(E) StatewideChange'!$B$5:$C$19,2,FALSE)/VLOOKUP(E21,'(E) StatewideChange'!$B$5:$C$19,2,FALSE)*(2040-VALUE(LEFT(E21,4)))/(2040-2026),IF(B$17='(H) OptionLists'!$H$7,(1+C$17)^(VALUE(LEFT(E21,4))-2026),1))))),2)),IF($B$16='(H) OptionLists'!$C$14,IF(AND(B$17='(H) OptionLists'!$H$7,C$17=""),"Populate Cell C17",ROUND($C$16*(IF(B$17='(H) OptionLists'!$H$5,VLOOKUP(E21,'(E) StatewideChange'!$B$5:$C$19,2,FALSE)/VLOOKUP(2026,'(E) StatewideChange'!$B$5:$C$19,2,FALSE),IF(B$17='(H) OptionLists'!$H$8,1,IF(B$17='(H) OptionLists'!$H$6,(2040-VALUE(LEFT(E21,4)))/(2040-2026),IF(B$17='(H) OptionLists'!$H$7,(1+C$17)^(VALUE(LEFT(E21,4))-2026),1))))),2)),IF(B$16='(H) OptionLists'!$C$15,IF(K21="","Populate Column K",ROUND(K21,2)),IF(AND(B$17='(H) OptionLists'!$H$7,C$17=""),"Populate Cell C17",IFERROR(ROUND(VLOOKUP($B$16,EDU_CI_Lookup,2,FALSE)*(IF(B$17='(H) OptionLists'!$H$5,VLOOKUP(E21,'(E) StatewideChange'!$B$5:$C$19,2,FALSE)/VLOOKUP(2026,'(E) StatewideChange'!$B$5:$C$19,2,FALSE),IF(B$17='(H) OptionLists'!$H$8,1,IF(B$17='(H) OptionLists'!$H$6,(2040-VALUE(LEFT(E21,4)))/(2040-2026),IF(B$17='(H) OptionLists'!$H$7,(1+C$17)^(VALUE(LEFT(E21,4))-2026),1))))),2),"Select valid EDU option"))))))) -> 27.23 | H21: =IF(LEFT(F21,3)="Pop",F21,IF(LEFT(G21,3)="Pop",G21,IFERROR(IF(E21="","",ROUND((IF($B$12="Light-medium-duty (14k pounds or less)",3.4,5)*VLOOKUP(E21,'(B) CI Standard'!$B$5:$D$19,IF($B$12="Light-medium-duty (14k pounds or less)",2,3),FALSE)-G21)*3.6/1000*F21,0)),""))) -> 30 | I21: =IF(E21="","",_xlfn.IFNA(IF(B$20='(H) OptionLists'!$E$7,IF(C$20="","Populate Cell C20",ROUND(C$20*IF($B$21="Nominal",1,INDEX('(G) Inflation'!$C$12:$N$16,MATCH($B$22,'(G) Inflation'!$B$12:$B$16,0),MATCH($C$21,'(F) Credit Price_nom'!$C$5:$Q$5,0))/INDEX('(G) Inflation'!$C$12:$N$16,MATCH($B$22,'(G) Inflation'!$B$12:$B$16,0),MATCH($E$7,'(F) Credit Price_nom'!$C$5:$Q$5,0))),2)),IF(B$20='(H) OptionLists'!$E$8,IF(L21="","Populate Column L",L21),ROUND(INDEX('(F) Credit Price_nom'!$C$6:$Q$7,MATCH($B$20,'(F) Credit Price_nom'!$B$6:$B$7,0),MATCH(E21,'(F) Credit Price_nom'!$C$5:$Q$5,0))*IF($B$21="Nominal",1,INDEX('(G) Inflation'!$C$12:$N$16,MATCH($B$22,'(G) Inflation'!$B$12:$B$16,0),MATCH($C$21,'(F) Credit Price_nom'!$C$5:$Q$5,0))/INDEX('(G) Inflation'!$C$12:$N$16,MATCH($B$22,'(G) Inflation'!$B$12:$B$16,0),MATCH($E$7,'(F) Credit Price_nom'!$C$5:$Q$5,0))),2))),IF(AND($B$19="single year",$C$19=""),"Populate Cell C19",IF(AND($B$21="Real (input dollar year in Column C)",$C$21=""),"Populate Cell C21","Check Cells C18:C21")))) -> 86.64 | J21: =IF(LEFT(H21,3)="Pop",H21,IF(LEFT(I21,3)="Pop",I21,H21*I21)) -> 2599.2
A22: Inflation index3,G | B22: Personal Consumption Expenditures | I22: Total | J22: =IF(LEFT(J21,3)="Pop",J21,SUM(J7:J21)) -> 35888.88
A24: 1 Adjust capacity per charger as needed via the manual option in cells B14 and C14 to account for expected differences between nameplate and operational capacity.
A25: 2 gCO2e/MJ = Grams of carbon dioxide equivalent lifecycle (well-to-wheel) greenhouse gas emissions per megajoule of useful energy consumed in a motor vehicle.
A26: 3 "Core" inflation indexes exclude the cost of food and energy.
A27: 4 MT CO2e = Metric ton of carbon dioxide equivalent
A28: 5 Rounded to the nearest MT CO2e.

Sheet (A) Capacity and Use
B1: Capacity and use sheet - For information and viewing only
B2: Shows Calculator sheet options for charger capacity and hours of daily use, with source references.
B4: Capacity, Level-2 (kilowatts) | C4: Capacity, DCFC (kilowatts) | D4: Daily use, Level-2 (Hours per day) | E4: Daily use, DCFC (Hours per day)
B5: 7.2 | C5: 75 | D5: 1.2 | E5: 0.3
B6: 13.2 | C6: 150 | D6: 2.4 | E6: 0.6
B7: 19.2 | C7: 300 | D7: 4.8 | E7: 1.2
B8: Manual | C8: Manual | D8: Manual | E8: Manual
B10: Estimates from Pritchard, Ewen, Brennan Borlaug, Fan Yan, and Jeff Gonder. "Evaluating Electric Vehicle Public Charging Utilization in the United States using the EV WATTS dataset."
B11: National Lab of the Rockies. October 2023. NREL/CP-5400-85902. https://docs.nlr.gov/docs/fy24osti/85902.pdf.
B13: Low and high capacity estimates from text on page 4. Midpoint chosen for average.
B14: "These include 100,765 level 2 (L2) ports, which use 240/208Volt alternating current (AC) electricity and deliver 7.2 to 19.2 kilowatts (kW) of power (around 25-75 miles of range added per hour)…"
B15: https://docs.nlr.gov/docs/fy24osti/85902.pdf#page=4
B17: Average use estimates from time series graphs on page 8. Low use equal to half of the average, high use equal to double the average.
B18: https://docs.nlr.gov/docs/fy24osti/85902.pdf#page=8

Sheet (B) CI Standard
B1: CI Standard sheet - For information and viewing only
