Workbook
Name C_per_tonne_urea: #REF!
Name GWP_CH4: #REF!
Name GWP_N2O: #REF!
Name IQ_CH: 110000
Name IQ_CQ: 5000
Name IQ_CY: 10000
Name IQ_DAILY: 500000
Name IQ_FH: 100000
Name IQ_FQ: 500
Name IQ_FY: 1000
Name IQ_LTM: 2000
Name IQ_MONTH: 15000
Name IQ_NTM: 6000
Name IQ_WEEK: 50000
Name IQ_YTD: 3000
Name kt_to_MMT: #REF!
Name kt_to_MMT2: #REF!
Name molc_ratio_C_to_CO2: #REF!
Name molc_ratio_C_to_CO22: #REF!
Name t_to_MMT: #REF!
Name t_to_MMT2: #REF!

Sheet SUMMARY TABLES
A1: Summary of Economy-wide GHG Emissions for Year 2023.
A2: Sector | B2: 2023 Emissions [MMT CO2e]
A3: Industry | B3: =SUM(B4:B7) -> 37.516535 | C3: =B3/B$15 -> 0.49027624
A4: - Oil and Gas | B4: =I23 -> 34.317709
A5: - Industrial Fuel Combustion | B5: =I24 -> 1.5933743
A6: - Industrial Processes and Product Use | B6: =I25 -> 1.5248924
A7: - Coal Mining and Abandoned Mines | B7: =I26 -> 0.080559262
A8: Transportation | B8: =I27 -> 17.235485 | C8: =B8/B$15 -> 0.22523798
A9: Agriculture | B9: =I28 -> 10.071883 | C9: =B9/B$15 -> 0.1316221
A10: Electricity Generation | B10: =I29 -> 6.5986417 | C10: =B10/B$15 -> 0.086232837
A11: Buildings | B11: =I30 -> 4.0503274 | C11: =B11/B$15 -> 0.052930776
A12: - Residential | B12: =I31 -> 2.3511232
A13: - Commercial | B13: =I32 -> 1.6992042
A14: Waste and Materials Management | B14: =I33 -> 1.0483459 | C14: =B14/B$15 -> 0.013700068
A15: Total Gross Emissions | B15: =I34 -> 76.521217 | C15: =SUM(C3:C14) -> 1
A16: Natural and Working Lands | B16: =I35 -> 6.4425683
A19: Economy-wide GHG Emissions for Year 2023 by Gas.
A20: Sector | B20: Emissions [MMT CO2e]
B21: CO2 | C21: CH4 | D21: N2O | E21: HFCs | F21: PFCs | G21: SF6 | H21: NF3 | I21: Total
A22: Industry | B22: =SUM(B23:B26) -> 24.790858 | C22: =SUM(C23:C26) -> 11.834514 | D22: =SUM(D23:D26) -> 0.039195522 | E22: =SUM(E23:E26) -> 0.72973332 | F22: =SUM(F23:F26) -> 0.019538622 | G22: =SUM(G23:G26) -> 0.098122018 | H22: =SUM(H23:H26) -> 0.0045732848 | I22: =SUM(B22:H22) -> 37.516535
A23: - Oil and Gas | B23: 22.561109 | C23: 11.7566 | D23: 0 | E23: — | F23: — | G23: — | H23: — | I23: =SUM(B23:H23) -> 34.317709
A24: - Industrial Fuel Combustion | B24: =IFC_Summary!E20/1000000 -> 1.5835323 | C24: =IFC_Summary!F20*'IFC_Pre-sector Adj'!$B$25/1000000 -> 0.0032208871 | D24: =IFC_Summary!G20*'IFC_Pre-sector Adj'!$B$26/1000000 -> 0.0066211385 | E24: — | F24: — | G24: — | H24: — | I24: =SUM(B24:H24) -> 1.5933743
A25: - Industrial Processes and Product Use | B25: =SUMIF(IPPU_Summary!B4:B25,"CO2",IPPU_Summary!G4:G25) -> 0.64035081 | C25: — | D25: =SUMIF(IPPU_Summary!B4:B25,"N2O",IPPU_Summary!G4:G25) -> 0.032574383 | E25: =SUMIF(IPPU_Summary!B4:B25,"HFC",IPPU_Summary!G4:G25)+SUMIF(IPPU_Summary!B4:B25,"Other HFCs",IPPU_Summary!G4:G25) -> 0.72973332 | F25: =SUMIF(IPPU_Summary!B4:B25,"PFC",IPPU_Summary!G4:G25)+SUMIF(IPPU_Summary!B4:B25,"Other PFCs",IPPU_Summary!G4:G25) -> 0.019538622 | G25: =SUMIF(IPPU_Summary!B4:B25,"SF6",IPPU_Summary!G4:G25) -> 0.098122018 | H25: =SUMIF(IPPU_Summary!B4:B25,"NF3",IPPU_Summary!G4:G25) -> 0.0045732848 | I25: =SUM(B25:H25) -> 1.5248924
A26: - Coal Mining and Abandoned Mines | B26: =CMAM!C7/1000000 -> 0.0058660755 | C26: =CMAM!B7*CMAM!B38/1000000 -> 0.074693186 | D26: — | E26: — | F26: — | G26: — | H26: — | I26: =SUM(B26:H26) -> 0.080559262
A27: Transportation | B27: =Transportation!B28 -> 17.010697 | C27: =Transportation!C28*Transportation!C57 -> 0.035505369 | D27: =SUM(Transportation!D7:D14)*Transportation!C58 -> 0.18928257 | E27: — | F27: — | G27: — | H27: — | I27: =SUM(B27:H27) -> 17.235485
A28: Agriculture | B28: =SUM(Agriculture!AK59:AK60) -> 0.0068938586 | C28: =SUM(Agriculture!AK15,Agriculture!AK58,Agriculture!AK62,Agriculture!AK24) -> 4.4687993 | D28: =SUM(Agriculture!AK55,Agriculture!AK63) -> 5.5961898 | E28: — | F28: — | G28: — | H28: — | I28: =SUM(B28:H28) -> 10.071883
A29: Electricity Generation | B29: ='Electricity Generation'!N16/1000000 -> 6.5917048 | C29: ='Electricity Generation'!O16*Transportation!C57/1000000 -> 0.0035315612 | D29: ='Electricity Generation'!P16*Transportation!C58/1000000 -> 0.0034053025 | E29: — | F29: — | G29: — | H29: — | I29: =SUM(B29:H29) -> 6.5986417
A30: Buildings | B30: =SUM(B31:B32) -> 3.969867 | C30: =SUM(C31:C32) -> 0.070020828 | D30: =SUM(D31:D32) -> 0.010439568 | E30: — | F30: — | G30: — | H30: — | I30: =SUM(B30:H30) -> 4.0503274
A31: - Residential | B31: ='Residential Buildings'!B12/1000000 -> 2.2869933 | C31: ='Residential Buildings'!C12*'Residential Buildings'!C58/1000000 -> 0.056097369 | D31: ='Residential Buildings'!D12*'Residential Buildings'!C59/1000000 -> 0.0080325601 | E31: — | F31: — | G31: — | H31: — | I31: =SUM(B31:H31) -> 2.3511232
A32: - Commercial | B32: ='Commercial Buildings'!B12/1000000 -> 1.6828737 | C32: ='Commercial Buildings'!C12*'Commercial Buildings'!C129/1000000 -> 0.013923459 | D32: ='Commercial Buildings'!D12*'Commercial Buildings'!C130/1000000 -> 0.0024070081 | E32: — | F32: — | G32: — | H32: — | I32: =SUM(B32:H32) -> 1.6992042
A33: Waste and Materials Management | B33: — | C33: =SUM(Waste!AX8:AX11,Waste!AX13,Waste!AX15) -> 0.92904924 | D33: =SUM(Waste!AX12,Waste!AX14,Waste!AX16) -> 0.11929667 | E33: — | F33: — | G33: — | H33: — | I33: =SUM(B33:H33) -> 1.0483459
A34: Total Gross Emissions | B34: =SUM(B22,B27:B30,B33) -> 52.37002 | C34: =SUM(C22,C27:C30,C33) -> 17.341421 | D34: =SUM(D22,D27:D30,D33) -> 5.9578095 | E34: =SUM(E22,E27:E30,E33) -> 0.72973332 | F34: =SUM(F22,F27:F30,F33) -> 0.019538622 | G34: =SUM(G22,G27:G30,G33) -> 0.098122018 | H34: =SUM(H22,H27:H30,H33) -> 0.0045732848 | I34: =SUM(B34:H34) -> 76.521217
A35: Natural and Working Lands | B35: =NWL!AK159 -> 5.8875701 | C35: =SUMIF(NWL!$C5:$C152,"CH4",NWL!AK5:AK152) -> 0.43491008 | D35: =SUMIF(NWL!$C5:$C152,"N2O",NWL!AK5:AK152) -> 0.12008813 | E35: — | F35: — | G35: — | H35: — | I35: =SUM(B35:H35) -> 6.4425683
A38: Summary of Economy-wide GHG Emissions Over Time.
A39: Sector | B39: 2005 Base Emissions [MMT CO2e] | C39: 2018 Interim Emissions [MMT CO2e] | D39: 2021 Interim Emissions [MMT CO2e] | E39: 2023 Current Emissions [MMT CO2e] | F39: Change Relative to 2005 [%] | G39: Change Relative to 2021 [%]
A40: Industry | B40: =SUM(B41:B44) -> 47.72 | C40: =SUM(C41:C44) -> 66.23 | D40: =SUM(D41:D44) -> 40.43 | E40: =I22 -> 37.516535 | F40: =(E40-B40)/B40 -> -0.21381947 | G40: =(E40-D40)/D40 -> -0.072061964 | H40: Industry: Oil and Gas Production
A41: - Oil and Gas | B41: =24.02+14.8 -> 38.82 | C41: 60.4 | D41: =15.47+18.92 -> 34.39 | E41: =I23 -> 34.317709 | F41: =(E41-B41)/B41 -> -0.11597865 | G41: =(E41-D41)/D41 -> -0.0021020997 | H41: Industry: Industrial Fuel Combusion
A42: - Industrial Fuel Combustion | B42: 4.68 | C42: 2.13 | D42: 3.63 | E42: =I24 -> 1.5933743 | F42: =(E42-B42)/B42 -> -0.6595354 | G42: =(E42-D42)/D42 -> -0.56105391 | H42: Industry: Industrial Processes and Product Use
A43: - Industrial Processes and Product Use | B43: 2.53 | C43: 2.75 | D43: 1.48 | E43: =I25 -> 1.5248924 | F43: =(E43-B43)/B43 -> -0.39727572 | G43: =(E43-D43)/D43 -> 0.030332726 | H43: Industry: Coal Mining and Abandoned Mines
A44: - Coal Mining and Abandoned Mines | B44: 1.69 | C44: 0.95 | D44: 0.93 | E44: =I26 -> 0.080559262 | F44: =(E44-B44)/B44 -> -0.9523318 | G44: =(E44-D44)/D44 -> -0.91337714 | H44: Transportation
...

Sheet IFC_Summary
A1: Industry: Industrial Fuel Combustion
A3: Fuel Type | B3: Fuel SubType | C3: Year | D3: State | E3: 2023_CO2 (MT) | F3: 2023_CH4 (MT) | G3: 2023_N2O (MT) | H3: 2023_Total CO2E (MMT)
A4: Coal | B4: Coal | C4: 2023 | D4: NM | E4: =SUMIFS('IFC_Pre-sector Adj'!N$3:N$20,'IFC_Pre-sector Adj'!$A$3:$A$20,$A4,'IFC_Pre-sector Adj'!$B$3:$B$20,$B4) -> 133081.47 | F4: =SUMIFS('IFC_Pre-sector Adj'!O$3:O$20,'IFC_Pre-sector Adj'!$A$3:$A$20,$A4,'IFC_Pre-sector Adj'!$B$3:$B$20,$B4) -> 14.2785 | G4: =SUMIFS('IFC_Pre-sector Adj'!P$3:P$20,'IFC_Pre-sector Adj'!$A$3:$A$20,$A4,'IFC_Pre-sector Adj'!$B$3:$B$20,$B4) -> 2.1375 | H4: =($E4+($F4*'IFC_Pre-sector Adj'!$B$25)+($G4*'IFC_Pre-sector Adj'!$B$26))/10^6 -> 0.1340477
A5: Natural Gas | B5: Natural Gas | C5: 2023 | D5: NM | E5: =SUMIFS('IFC_Pre-sector Adj'!N$3:N$20,'IFC_Pre-sector Adj'!$A$3:$A$20,$A5,'IFC_Pre-sector Adj'!$B$3:$B$20,$B5)-'IFC_Sector Adjustments'!$B$21 -> 520242.98 | F5: =SUMIFS('IFC_Pre-sector Adj'!O$3:O$20,'IFC_Pre-sector Adj'!$A$3:$A$20,$A5,'IFC_Pre-sector Adj'!$B$3:$B$20,$B5)-'IFC_Sector Adjustments'!$B$22 -> 9.9232372 | G5: =SUMIFS('IFC_Pre-sector Adj'!P$3:P$20,'IFC_Pre-sector Adj'!$A$3:$A$20,$A5,'IFC_Pre-sector Adj'!$B$3:$B$20,$B5)-'IFC_Sector Adjustments'!$B$23 -> 0.93592839 | H5: =($E5+($F5*'IFC_Pre-sector Adj'!$B$25)+($G5*'IFC_Pre-sector Adj'!$B$26))/10^6 -> 0.52076885 | I5: <-- EGU sector adjustment
A6: Petroleum | B6: Asphalt and road oil | C6: 2023 | D6: NM | E6: =SUMIFS('IFC_Pre-sector Adj'!N$3:N$20,'IFC_Pre-sector Adj'!$A$3:$A$20,$A6,'IFC_Pre-sector Adj'!$B$3:$B$20,$B6) -> 0 | F6: =SUMIFS('IFC_Pre-sector Adj'!O$3:O$20,'IFC_Pre-sector Adj'!$A$3:$A$20,$A6,'IFC_Pre-sector Adj'!$B$3:$B$20,$B6) -> 23.82415 | G6: =SUMIFS('IFC_Pre-sector Adj'!P$3:P$20,'IFC_Pre-sector Adj'!$A$3:$A$20,$A6,'IFC_Pre-sector Adj'!$B$3:$B$20,$B6) -> 4.749 | H6: =($E6+($F6*'IFC_Pre-sector Adj'!$B$25)+($G6*'IFC_Pre-sector Adj'!$B$26))/10^6 -> 0.0019255612
A7: Petroleum | B7: Distillate | C7: 2023 | D7: NM | E7: 0 | F7: =SUMIFS('IFC_Pre-sector Adj'!O$3:O$20,'IFC_Pre-sector Adj'!$A$3:$A$20,$A7,'IFC_Pre-sector Adj'!$B$3:$B$20,$B7)-'IFC_Sector Adjustments'!$C$12 -> 25.173445 | G7: =SUMIFS('IFC_Pre-sector Adj'!P$3:P$20,'IFC_Pre-sector Adj'!$A$3:$A$20,$A7,'IFC_Pre-sector Adj'!$B$3:$B$20,$B7) -> 7.1706 | H7: =($E7+($F7*'IFC_Pre-sector Adj'!$B$25)+($G7*'IFC_Pre-sector Adj'!$B$26))/10^6 -> 0.0026050655 | I7: <-- Nonroad sector adjustment
A8: Petroleum | B8: Fuel ethanol | C8: 2023 | D8: NM | E8: =SUMIFS('IFC_Pre-sector Adj'!N$3:N$20,'IFC_Pre-sector Adj'!$A$3:$A$20,$A8,'IFC_Pre-sector Adj'!$B$3:$B$20,$B8) -> 0 | F8: =SUMIFS('IFC_Pre-sector Adj'!O$3:O$20,'IFC_Pre-sector Adj'!$A$3:$A$20,$A8,'IFC_Pre-sector Adj'!$B$3:$B$20,$B8) -> 0 | G8: =SUMIFS('IFC_Pre-sector Adj'!P$3:P$20,'IFC_Pre-sector Adj'!$A$3:$A$20,$A8,'IFC_Pre-sector Adj'!$B$3:$B$20,$B8) -> 0 | H8: =($E8+($F8*'IFC_Pre-sector Adj'!$B$25)+($G8*'IFC_Pre-sector Adj'!$B$26))/10^6 -> 0
A9: Petroleum | B9: HGL | C9: 2023 | D9: NM | E9: =SUMIFS('IFC_Pre-sector Adj'!N$3:N$20,'IFC_Pre-sector Adj'!$A$3:$A$20,$A9,'IFC_Pre-sector Adj'!$B$3:$B$20,$B9) -> 8207.0114 | F9: =SUMIFS('IFC_Pre-sector Adj'!O$3:O$20,'IFC_Pre-sector Adj'!$A$3:$A$20,$A9,'IFC_Pre-sector Adj'!$B$3:$B$20,$B9) -> 2.709 | G9: =SUMIFS('IFC_Pre-sector Adj'!P$3:P$20,'IFC_Pre-sector Adj'!$A$3:$A$20,$A9,'IFC_Pre-sector Adj'!$B$3:$B$20,$B9) -> 0.54 | H9: =($E9+($F9*'IFC_Pre-sector Adj'!$B$25)+($G9*'IFC_Pre-sector Adj'!$B$26))/10^6 -> 0.0084259634
A10: Petroleum | B10: Kerosene | C10: 2023 | D10: NM | E10: =SUMIFS('IFC_Pre-sector Adj'!N$3:N$20,'IFC_Pre-sector Adj'!$A$3:$A$20,$A10,'IFC_Pre-sector Adj'!$B$3:$B$20,$B10) -> 146.4 | F10: =SUMIFS('IFC_Pre-sector Adj'!O$3:O$20,'IFC_Pre-sector Adj'!$A$3:$A$20,$A10,'IFC_Pre-sector Adj'!$B$3:$B$20,$B10) -> 0.00602 | G10: =SUMIFS('IFC_Pre-sector Adj'!P$3:P$20,'IFC_Pre-sector Adj'!$A$3:$A$20,$A10,'IFC_Pre-sector Adj'!$B$3:$B$20,$B10) -> 0.0012 | H10: =($E10+($F10*'IFC_Pre-sector Adj'!$B$25)+($G10*'IFC_Pre-sector Adj'!$B$26))/10^6 -> 0.00014688656
A11: Petroleum | B11: Lubricants | C11: 2023 | D11: NM | E11: =SUMIFS('IFC_Pre-sector Adj'!N$3:N$20,'IFC_Pre-sector Adj'!$A$3:$A$20,$A11,'IFC_Pre-sector Adj'!$B$3:$B$20,$B11) -> 0 | F11: =SUMIFS('IFC_Pre-sector Adj'!O$3:O$20,'IFC_Pre-sector Adj'!$A$3:$A$20,$A11,'IFC_Pre-sector Adj'!$B$3:$B$20,$B11) -> 2.77823 | G11: =SUMIFS('IFC_Pre-sector Adj'!P$3:P$20,'IFC_Pre-sector Adj'!$A$3:$A$20,$A11,'IFC_Pre-sector Adj'!$B$3:$B$20,$B11) -> 0.5538 | H11: =($E11+($F11*'IFC_Pre-sector Adj'!$B$25)+($G11*'IFC_Pre-sector Adj'!$B$26))/10^6 -> 0.00022454744
A12: Petroleum | B12: Motor gasoline | C12: 2023 | D12: NM | E12: =SUMIFS('IFC_Pre-sector Adj'!N$3:N$20,'IFC_Pre-sector Adj'!$A$3:$A$20,$A12,'IFC_Pre-sector Adj'!$B$3:$B$20,$B12)-'IFC_Sector Adjustments'!$B$11-'IFC_Sector Adjustments'!$B$31 -> 122428.57 | F12: 0 | G12: =SUMIFS('IFC_Pre-sector Adj'!P$3:P$20,'IFC_Pre-sector Adj'!$A$3:$A$20,$A12,'IFC_Pre-sector Adj'!$B$3:$B$20,$B12) -> 1.665 | H12: =($E12+($F12*'IFC_Pre-sector Adj'!$B$25)+($G12*'IFC_Pre-sector Adj'!$B$26))/10^6 -> 0.1228698 | I12: <-- Nonroad & Commercial sector adjustment
A13: Petroleum | B13: Misc petroleum products | C13: 2023 | D13: NM | E13: =SUMIFS('IFC_Pre-sector Adj'!N$3:N$20,'IFC_Pre-sector Adj'!$A$3:$A$20,$A13,'IFC_Pre-sector Adj'!$B$3:$B$20,$B13) -> 0 | F13: =SUMIFS('IFC_Pre-sector Adj'!O$3:O$20,'IFC_Pre-sector Adj'!$A$3:$A$20,$A13,'IFC_Pre-sector Adj'!$B$3:$B$20,$B13) -> 0.04816 | G13: =SUMIFS('IFC_Pre-sector Adj'!P$3:P$20,'IFC_Pre-sector Adj'!$A$3:$A$20,$A13,'IFC_Pre-sector Adj'!$B$3:$B$20,$B13) -> 0.0096 | H13: =($E13+($F13*'IFC_Pre-sector Adj'!$B$25)+($G13*'IFC_Pre-sector Adj'!$B$26))/10^6 -> 3.89248e-06
A14: Petroleum | B14: Other petroleum products | C14: 2023 | D14: NM | E14: =SUMIFS('IFC_Pre-sector Adj'!N$3:N$20,'IFC_Pre-sector Adj'!$A$3:$A$20,$A14,'IFC_Pre-sector Adj'!$B$3:$B$20,$B14) -> 0 | F14: =SUMIFS('IFC_Pre-sector Adj'!O$3:O$20,'IFC_Pre-sector Adj'!$A$3:$A$20,$A14,'IFC_Pre-sector Adj'!$B$3:$B$20,$B14) -> 0 | G14: =SUMIFS('IFC_Pre-sector Adj'!P$3:P$20,'IFC_Pre-sector Adj'!$A$3:$A$20,$A14,'IFC_Pre-sector Adj'!$B$3:$B$20,$B14) -> 0 | H14: =($E14+($F14*'IFC_Pre-sector Adj'!$B$25)+($G14*'IFC_Pre-sector Adj'!$B$26))/10^6 -> 0
A15: Petroleum | B15: Petroleum Coke | C15: 2023 | D15: NM | E15: =SUMIFS('IFC_Pre-sector Adj'!N$3:N$20,'IFC_Pre-sector Adj'!$A$3:$A$20,$A15,'IFC_Pre-sector Adj'!$B$3:$B$20,$B15) -> 193161.04 | F15: =SUMIFS('IFC_Pre-sector Adj'!O$3:O$20,'IFC_Pre-sector Adj'!$A$3:$A$20,$A15,'IFC_Pre-sector Adj'!$B$3:$B$20,$B15) -> 5.69492 | G15: =SUMIFS('IFC_Pre-sector Adj'!P$3:P$20,'IFC_Pre-sector Adj'!$A$3:$A$20,$A15,'IFC_Pre-sector Adj'!$B$3:$B$20,$B15) -> 1.1352 | H15: =($E15+($F15*'IFC_Pre-sector Adj'!$B$25)+($G15*'IFC_Pre-sector Adj'!$B$26))/10^6 -> 0.19362132
A16: Petroleum | B16: Propane | C16: 2023 | D16: NM | E16: =SUMIFS('IFC_Pre-sector Adj'!N$3:N$20,'IFC_Pre-sector Adj'!$A$3:$A$20,$A16,'IFC_Pre-sector Adj'!$B$3:$B$20,$B16) -> 56583 | F16: =SUMIFS('IFC_Pre-sector Adj'!O$3:O$20,'IFC_Pre-sector Adj'!$A$3:$A$20,$A16,'IFC_Pre-sector Adj'!$B$3:$B$20,$B16) -> 2.709 | G16: =SUMIFS('IFC_Pre-sector Adj'!P$3:P$20,'IFC_Pre-sector Adj'!$A$3:$A$20,$A16,'IFC_Pre-sector Adj'!$B$3:$B$20,$B16) -> 0.54 | H16: =($E16+($F16*'IFC_Pre-sector Adj'!$B$25)+($G16*'IFC_Pre-sector Adj'!$B$26))/10^6 -> 0.056801952
A17: Petroleum | B17: Still Gas | C17: 2023 | D17: NM | E17: =SUMIFS('IFC_Pre-sector Adj'!N$3:N$20,'IFC_Pre-sector Adj'!$A$3:$A$20,$A17,'IFC_Pre-sector Adj'!$B$3:$B$20,$B17) -> 549681.83 | F17: =SUMIFS('IFC_Pre-sector Adj'!O$3:O$20,'IFC_Pre-sector Adj'!$A$3:$A$20,$A17,'IFC_Pre-sector Adj'!$B$3:$B$20,$B17) -> 27.6619 | G17: =SUMIFS('IFC_Pre-sector Adj'!P$3:P$20,'IFC_Pre-sector Adj'!$A$3:$A$20,$A17,'IFC_Pre-sector Adj'!$B$3:$B$20,$B17) -> 5.514 | H17: =($E17+($F17*'IFC_Pre-sector Adj'!$B$25)+($G17*'IFC_Pre-sector Adj'!$B$26))/10^6 -> 0.55191757
A18: Petroleum | B18: Waxes | C18: 2023 | D18: NM | E18: =SUMIFS('IFC_Pre-sector Adj'!N$3:N$20,'IFC_Pre-sector Adj'!$A$3:$A$20,$A18,'IFC_Pre-sector Adj'!$B$3:$B$20,$B18) -> 0 | F18: =SUMIFS('IFC_Pre-sector Adj'!O$3:O$20,'IFC_Pre-sector Adj'!$A$3:$A$20,$A18,'IFC_Pre-sector Adj'!$B$3:$B$20,$B18) -> 0.05418 | G18: =SUMIFS('IFC_Pre-sector Adj'!P$3:P$20,'IFC_Pre-sector Adj'!$A$3:$A$20,$A18,'IFC_Pre-sector Adj'!$B$3:$B$20,$B18) -> 0.0108 | H18: =($E18+($F18*'IFC_Pre-sector Adj'!$B$25)+($G18*'IFC_Pre-sector Adj'!$B$26))/10^6 -> 4.37904e-06
A19: Wood | B19: Wood | C19: 2023 | D19: NM | E19: =SUMIFS('IFC_Pre-sector Adj'!N$3:N$20,'IFC_Pre-sector Adj'!$A$3:$A$20,$A19,'IFC_Pre-sector Adj'!$B$3:$B$20,$B19) -> 0 | F19: =SUMIFS('IFC_Pre-sector Adj'!O$3:O$20,'IFC_Pre-sector Adj'!$A$3:$A$20,$A19,'IFC_Pre-sector Adj'!$B$3:$B$20,$B19) -> 0.17094 | G19: =SUMIFS('IFC_Pre-sector Adj'!P$3:P$20,'IFC_Pre-sector Adj'!$A$3:$A$20,$A19,'IFC_Pre-sector Adj'!$B$3:$B$20,$B19) -> 0.0228 | H19: =($E19+($F19*'IFC_Pre-sector Adj'!$B$25)+($G19*'IFC_Pre-sector Adj'!$B$26))/10^6 -> 1.082832e-05
A20: All | B20: All | C20: 2023 | D20: NM | E20: =SUM(E4:E19) -> 1583532.3 | F20: =SUM(F4:F19) -> 115.03168 | G20: =SUM(G4:G19) -> 24.985428 | H20: =SUM(H4:H19) -> 1.5933743
A22: This table applies the sector adjustments to results from the "IndFuel_NM_Pre-sector adj" worksheet.
A23: Data for Chart:
A24: Fuel Type | B24: 2023_Total CO2E (MMT)
A25: Coal | B25: =H4 -> 0.1340477
A26: Natural Gas | B26: =H5 -> 0.52076885
A27: Petroleum | B27: =SUM(H6:H18) -> 0.93854694
A28: Wood | B28: =H19 -> 1.082832e-05
A29: All | B29: =SUM(B25:B28) -> 1.5933743

Sheet IFC_Sector Adjustments
A1: Industry: Industrial Fuel Combustion
A3: Nonroad Adjustment:
A4: Nonroad adjustment for motor gasoline and diesel fuel quantities reported under industrial segment by SEDS. SEDS includes gasoline and diesel consumption from agricultural, construction, and other industrial and commercial nonroad sources within the industrial sector consumption data. Since Nonroad sector emissions were estimated using MOVES and include all nonroad sources (agriculture, lawn & garden, construction, industrial, commercial, logging, etc.), nonroad emissions for gasoline and diesel from ag, const, ind, comm, logging, etc. are deducted from industrial emissions to avoid double-counting.
A7: See supporting sheet: Nonroad Adjustment
B9: metric tons | C9: metric tons
A10: Fuel | B10: Nonroad CO2 | C10: Nonroad CH4
A11: Motor Gasoline | B11: ='Nonroad Adjustment'!I32 -> 80957.677 | C11: ='Nonroad Adjustment'!I36 -> 56.507686
A12: Distillate | B12: ='Nonroad Adjustment'!I33 -> 859142.65 | C12: ='Nonroad Adjustment'!I37 -> 10.799065
A14: CHP-EGU-Adjustment:
A15: SEDS reported fuel quantity for the industrial sector includes fuel used for electricity/thermal output at CHP plants that are co-located at industrial and commercial facilities and use all energy for on-site purposes (i.e., no energy sales to public/grid).
A16: Deduct emissions from Chino Mines CHP from industrial natural gas emissions to avoid double-counting between industrial and EGU sectors.
A18: Plant file sequence number | B18: Data Year | C18: Plant state abbreviation | D18: Plant name | E18: Utility name | F18: Utility ID | G18: Plant-level sector | H18: Number of units | I18: Number of generators | J18: Plant primary fuel | K18: Plant annual CO2 emissions (tons) | L18: Plant annual CH4 emissions (lbs) | M18: Plant annual N2O emissions (lbs)
A19: 8400 | B19: 2023 | C19: NM | D19: Chino Mines | E19: FreePort-McMoRan-Corp-Chino Mines | F19: 3670 | G19: Industrial Non-CHP | H19: 2 | I19: 2 | J19: NG | K19: 48201.254 | L19: 1818.233 | M19: 181.442
A21: CO (MT) | B21: =$K$19*$B$25 -> 43727.455
A22: CH4 (MT) | B22: =($L$19/2000)*$B$25 -> 0.82473685
A23: N2O (MT) | B23: =($M$19/2000)*$B$25 -> 0.08230073
A25: 1 short ton = | B25: 0.907185 | C25: metric ton
A27: Commercial Sector Adjustment:
A28: Exclude commercial motor gasoline CO2 and CH4 emissions from industrial as the SEDS data groups industrial and commercial gasoline quantity together.
A30: Commercial | B30: CO2 (MT) | C30: CH4 (MT)
A31: Motor Gasoline | B31: 22450.323 | C31: 0

Sheet Nonroad Adjustment
A1: Technical Notes & Documentation: 2023 SEDS | Y1: Nonroad Emissions Results CO2 | AJ1: Nonroad Emissions Results CH4
A2: https://www.eia.gov/state/seds/seds-technical-notes-complete.php?sid=US#Consumption | Y2: yearid | Z2: stateid | AA2: pollutantid | AB2: fueltypeid | AC2: fuel | AD2: sectorid | AE2: sector | AF2: co2_inv | AG2: inv_units | AH2: co2_mmt | AJ2: yearid | AK2: stateid | AL2: pollutantid | AM2: fueltypeid | AN2: fuel | AO2: sectorid | AP2: sector | AQ2: ch4_inv | AR2: inv_units | AS2: ch4_mmt
Y3: 2023 | Z3: 35 | AA3: 90 | AB3: 1 | AC3: Gasoline | AD3: 1 | AE3: Recreational | AF3: 2.4401052e+10 | AG3: grams | AH3: 0.024401052 | AJ3: 2023 | AK3: 35 | AL3: 5 | AM3: 1 | AN3: Gasoline | AO3: 1 | AP3: Recreational | AQ3: 28359490 | AR3: grams | AS3: 2.835949e-05
A4: Full Documentation: | Y4: 2023 | Z4: 35 | AA4: 90 | AB4: 1 | AC4: Gasoline | AD4: 2 | AE4: Construction | AF4: 2.0815955e+10 | AG4: grams | AH4: 0.020815955 | AJ4: 2023 | AK4: 35 | AL4: 5 | AM4: 1 | AN4: Gasoline | AO4: 2 | AP4: Construction | AQ4: 15825875 | AR4: grams | AS4: 1.5825875e-05
A5: https://www.eia.gov/state/seds/sep_use/notes/use_technotes.pdf | Y5: 2023 | Z5: 35 | AA5: 90 | AB5: 1 | AC5: Gasoline | AD5: 3 | AE5: Industrial | AF5: 5.2660189e+09 | AG5: grams | AH5: 0.0052660189 | AJ5: 2023 | AK5: 35 | AL5: 5 | AM5: 1 | AN5: Gasoline | AO5: 3 | AP5: Industrial | AQ5: 1488360.5 | AR5: grams | AS5: 1.4883605e-06
A6: Pg 5 - Introduction | Y6: 2023 | Z6: 35 | AA6: 90 | AB6: 1 | AC6: Gasoline | AD6: 4 | AE6: Lawn/Garden | AF6: 1.3022841e+11 | AG6: grams | AH6: 0.13022841 | AJ6: 2023 | AK6: 35 | AL6: 5 | AM6: 1 | AN6: Gasoline | AO6: 4 | AP6: Lawn/Garden | AQ6: 1.0660854e+08 | AR6: grams | AS6: 0.00010660854
A7: Transportation sector bullet states - "Vehicles whose primary purpose is not transportation (e.g., construction cranes and bulldozers, farming vehicles, and warehouse tractors and forklifts) are classified in the sector of their primary use." | Y7: 2023 | Z7: 35 | AA7: 90 | AB7: 1 | AC7: Gasoline | AD7: 5 | AE7: Agriculture | AF7: 1.7544282e+09 | AG7: grams | AH7: 0.0017544282 | AJ7: 2023 | AK7: 35 | AL7: 5 | AM7: 1 | AN7: Gasoline | AO7: 5 | AP7: Agriculture | AQ7: 1862570.4 | AR7: grams | AS7: 1.8625704e-06
A8: Industrial sector definition includes - NAICS 11 (Ag, forestry, fishing, and hunting), NAICS 21 (Mining), NAICS 22 (Construction), and NAICS 31-33 (Manufatcuring) | Y8: 2023 | Z8: 35 | AA8: 90 | AB8: 1 | AC8: Gasoline | AD8: 6 | AE8: Commercial | AF8: 4.3350362e+10 | AG8: grams | AH8: 0.043350362 | AJ8: 2023 | AK8: 35 | AL8: 5 | AM8: 1 | AN8: Gasoline | AO8: 6 | AP8: Commercial | AQ8: 29399867 | AR8: grams | AS8: 2.9399867e-05
A9: Industrial sector includes generators that produce electricity and/or useful thermal output primarily to support industrial activities. | Y9: 2023 | Z9: 35 | AA9: 90 | AB9: 1 | AC9: Gasoline | AD9: 7 | AE9: Logging | AF9: 14993748 | AG9: grams | AH9: 1.4993748e-05 | AJ9: 2023 | AK9: 35 | AL9: 5 | AM9: 1 | AN9: Gasoline | AO9: 7 | AP9: Logging | AQ9: 17194.734 | AR9: grams | AS9: 1.7194734e-08
Y10: 2023 | Z10: 35 | AA10: 90 | AB10: 1 | AC10: Gasoline | AD10: 8 | AE10: Airport Support | AF10: 81384735 | AG10: grams | AH10: 8.1384735e-05 | AJ10: 2023 | AK10: 35 | AL10: 5 | AM10: 1 | AN10: Gasoline | AO10: 8 | AP10: Airport Support | AQ10: 23909.711 | AR10: grams | AS10: 2.3909711e-08
A11: Distillate Fuel (Pg 36-37) | Y11: 2023 | Z11: 35 | AA11: 90 | AB11: 1 | AC11: Gasoline | AD11: 10 | AE11: Oil Field | AF11: 9.7559186e+09 | AG11: grams | AH11: 0.0097559186 | AJ11: 2023 | AK11: 35 | AL11: 5 | AM11: 1 | AN11: Gasoline | AO11: 10 | AP11: Oil Field | AQ11: 7913818.7 | AR11: grams | AS11: 7.9138187e-06
A12: The industrial sector sales (DFINPZZ) are the sum of the data series for industrial heating and farm use (DFIBPZZ), oil company use (DFOCPZZ), off-highway use (DFOFPZZ), and all other uses (DFOTPZZ). | Y12: 2023 | Z12: 35 | AA12: 90 | AB12: 1 | AC12: Gasoline | AD12: 11 | AE12: Pleasure Craft | AF12: 3.7871946e+10 | AG12: grams | AH12: 0.037871946 | AJ12: 2023 | AK12: 35 | AL12: 5 | AM12: 1 | AN12: Gasoline | AO12: 11 | AP12: Pleasure Craft | AQ12: 33965390 | AR12: grams | AS12: 3.396539e-05
A13: The transportation sector sales (DFTRPZZ) are the sum of the data series for vessel bunkering (DFBKPZZ), military use (DFMIPZZ), railroad use (DFRRPZZ), and the diesel fuel used on-highway (DFONPZZ). | Y13: 2023 | Z13: 35 | AA13: 90 | AB13: 1 | AC13: Gasoline | AD13: 12 | AE13: Railroad Support | AF13: 4.5609313e+08 | AG13: grams | AH13: 0.00045609313 | AJ13: 2023 | AK13: 35 | AL13: 5 | AM13: 1 | AN13: Gasoline | AO13: 12 | AP13: Railroad Support | AQ13: 296442.83 | AR13: grams | AS13: 2.9644283e-07
A14: DFINPZZ = DFIBPZZ + DFOCPZZ + DFOFPZZ + DFOTPZZ | Y14: 2023 | Z14: 35 | AA14: 90 | AB14: 3 | AC14: CNG | AD14: 2 | AE14: Construction | AF14: 6361063.3 | AG14: grams | AH14: 6.3610633e-06 | AJ14: 2023 | AK14: 35 | AL14: 5 | AM14: 3 | AN14: CNG | AO14: 2 | AP14: Construction | AQ14: 41890.393 | AR14: grams | AS14: 4.1890393e-08
A15: DFIBPZZ = distillate fuel oil sales to industrial establishments for space heating and for other industrial use (i.e., for all uses to mines, smelters, plants engaged in producing manufactured products, in processing goods, and in assembling), including farm use; | Y15: 2023 | Z15: 35 | AA15: 90 | AB15: 3 | AC15: CNG | AD15: 3 | AE15: Industrial | AF15: 2.3057057e+09 | AG15: grams | AH15: 0.0023057057 | AJ15: 2023 | AK15: 35 | AL15: 5 | AM15: 3 | AN15: CNG | AO15: 3 | AP15: Industrial | AQ15: 9118208.4 | AR15: grams | AS15: 9.1182084e-06
A16: DFOCPZZ = distillate fuel oil sales for oil company use, including all fuel oil, crude oil, or acid sludge used as fuel at refineries, by pipelines, or in field operations; | Y16: 2023 | Z16: 35 | AA16: 90 | AB16: 3 | AC16: CNG | AD16: 5 | AE16: Agriculture | AF16: 2.1708435e+08 | AG16: grams | AH16: 0.00021708435 | AJ16: 2023 | AK16: 35 | AL16: 5 | AM16: 3 | AN16: CNG | AO16: 5 | AP16: Agriculture | AQ16: 1092404.3 | AR16: grams | AS16: 1.0924043e-06
A17: DFOFPZZ = distillate fuel oil sales as diesel fuel for off-highway use in construction (i.e., earthmoving equipment, cranes, stationary generators, air compressors, etc.) and for off-highway uses other than construction (i.e., logging); | Y17: 2023 | Z17: 35 | AA17: 90 | AB17: 3 | AC17: CNG | AD17: 6 | AE17: Commercial | AF17: 2.1919716e+09 | AG17: grams | AH17: 0.0021919716 | AJ17: 2023 | AK17: 35 | AL17: 5 | AM17: 3 | AN17: CNG | AO17: 6 | AP17: Commercial | AQ17: 18516697 | AR17: grams | AS17: 1.8516697e-05
A18: DFOTPZZ = distillate fuel oil sales for all other uses not identified in other sales categories; | Y18: 2023 | Z18: 35 | AA18: 90 | AB18: 3 | AC18: CNG | AD18: 10 | AE18: Oil Field | AF18: 6.6950731e+09 | AG18: grams | AH18: 0.0066950731 | AJ18: 2023 | AK18: 35 | AL18: 5 | AM18: 3 | AN18: CNG | AO18: 10 | AP18: Oil Field | AQ18: 29268195 | AR18: grams | AS18: 2.9268195e-05
Y19: 2023 | Z19: 35 | AA19: 90 | AB19: 4 | AC19: LPG | AD19: 1 | AE19: Recreational | AF19: 50761258 | AG19: grams | AH19: 5.0761258e-05 | AJ19: 2023 | AK19: 35 | AL19: 5 | AM19: 4 | AN19: LPG | AO19: 1 | AP19: Recreational | AQ19: 17820.763 | AR19: grams | AS19: 1.7820763e-08
A20: Motor Gasoline (Pg 79-81) | Y20: 2023 | Z20: 35 | AA20: 90 | AB20: 4 | AC20: LPG | AD20: 2 | AE20: Construction | AF20: 2.151427e+09 | AG20: grams | AH20: 0.002151427 | AJ20: 2023 | AK20: 35 | AL20: 5 | AM20: 4 | AN20: LPG | AO20: 2 | AP20: Construction | AQ20: 123517.43 | AR20: grams | AS20: 1.2351743e-07
A21: Industrial sector sales of motor gasoline in each state (MGINPZZ) are the sum of the sales for agricultural use, for construction use, and for industrial and commercial use | Y21: 2023 | Z21: 35 | AA21: 90 | AB21: 4 | AC21: LPG | AD21: 3 | AE21: Industrial | AF21: 3.4655925e+10 | AG21: grams | AH21: 0.034655925 | AJ21: 2023 | AK21: 35 | AL21: 5 | AM21: 4 | AN21: LPG | AO21: 3 | AP21: Industrial | AQ21: 1579266.7 | AR21: grams | AS21: 1.5792667e-06
A22: MGINPZZ = MGAGPZZ + MGCUPZZ + MGIYPZZ | Y22: 2023 | Z22: 35 | AA22: 90 | AB22: 4 | AC22: LPG | AD22: 4 | AE22: Lawn/Garden | AF22: 6.2540809e+08 | AG22: grams | AH22: 0.00062540809 | AJ22: 2023 | AK22: 35 | AL22: 5 | AM22: 4 | AN22: LPG | AO22: 4 | AP22: Lawn/Garden | AQ22: 28425.859 | AR22: grams | AS22: 2.8425859e-08
A23: MGAGPZZ = motor gasoline sold for agricultural use in each state, in thousand gallons; | Y23: 2023 | Z23: 35 | AA23: 90 | AB23: 4 | AC23: LPG | AD23: 5 | AE23: Agriculture | AF23: 1659012.4 | AG23: grams | AH23: 1.6590124e-06 | AJ23: 2023 | AK23: 35 | AL23: 5 | AM23: 4 | AN23: LPG | AO23: 5 | AP23: Agriculture | AQ23: 1532.2696 | AR23: grams | AS23: 1.5322696e-09
A24: MGCUPZZ = motor gasoline sold for construction use in each state, in thousand gallons; | Y24: 2023 | Z24: 35 | AA24: 90 | AB24: 4 | AC24: LPG | AD24: 6 | AE24: Commercial | AF24: 3.3002743e+09 | AG24: grams | AH24: 0.0033002743 | AJ24: 2023 | AK24: 35 | AL24: 5 | AM24: 4 | AN24: LPG | AO24: 6 | AP24: Commercial | AQ24: 449410.95 | AR24: grams | AS24: 4.4941095e-07
A25: MGIYPZZ = motor gasoline sold for industrial and commercial use in each state, in thousand gallons; | Y25: 2023 | Z25: 35 | AA25: 90 | AB25: 4 | AC25: LPG | AD25: 8 | AE25: Airport Support | AF25: 44933613 | AG25: grams | AH25: 4.4933613e-05 | AJ25: 2023 | AK25: 35 | AL25: 5 | AM25: 4 | AN25: LPG | AO25: 8 | AP25: Airport Support | AQ25: 2050.5565 | AR25: grams | AS25: 2.0505565e-09
A26: Does not include - highway-use, public non-highway, recreational, boating, lawn & garden, and misc and unclassified | Y26: 2023 | Z26: 35 | AA26: 90 | AB26: 4 | AC26: LPG | AD26: 12 | AE26: Railroad Support | AF26: 12425757 | AG26: grams | AH26: 1.2425757e-05 | AJ26: 2023 | AK26: 35 | AL26: 5 | AM26: 4 | AN26: LPG | AO26: 12 | AP26: Railroad Support | AQ26: 1000.451 | AR26: grams | AS26: 1.000451e-09
Y27: 2023 | Z27: 35 | AA27: 90 | AB27: 23 | AC27: Nonroad Diesel | AD27: 1 | AE27: Recreational | AF27: 8.3595381e+08 | AG27: grams | AH27: 0.00083595381 | AJ27: 2023 | AK27: 35 | AL27: 5 | AM27: 23 | AN27: Nonroad Diesel | AO27: 1 | AP27: Recreational | AQ27: 32531.874 | AR27: grams | AS27: 3.2531874e-08
A28: Resolution - Reconcile (delete) nonroad emissions from Industrial fuel combustion sector. All traditional nonroad sources to be included under the transportation fuel combustion sector. | Y28: 2023 | Z28: 35 | AA28: 90 | AB28: 23 | AC28: Nonroad Diesel | AD28: 2 | AE28: Construction | AF28: 6.9928311e+11 | AG28: grams | AH28: 0.69928311 | AJ28: 2023 | AK28: 35 | AL28: 5 | AM28: 23 | AN28: Nonroad Diesel | AO28: 2 | AP28: Construction | AQ28: 8351777.2 | AR28: grams | AS28: 8.3517772e-06
Y29: 2023 | Z29: 35 | AA29: 90 | AB29: 23 | AC29: Nonroad Diesel | AD29: 3 | AE29: Industrial | AF29: 5.6652259e+10 | AG29: grams | AH29: 0.056652259 | AJ29: 2023 | AK29: 35 | AL29: 5 | AM29: 23 | AN29: Nonroad Diesel | AO29: 3 | AP29: Industrial | AQ29: 828208.7 | AR29: grams | AS29: 8.282087e-07
A30: Year | B30: State | C30: Fuel | D30: Sector | E30: CO2 (MT) | F30: CH4 (MT) | J30: Pre-reconciliation | Y30: 2023 | Z30: 35 | AA30: 90 | AB30: 23 | AC30: Nonroad Diesel | AD30: 4 | AE30: Lawn/Garden | AF30: 1.4101017e+10 | AG30: grams | AH30: 0.014101017 | AJ30: 2023 | AK30: 35 | AL30: 5 | AM30: 23 | AN30: Nonroad Diesel | AO30: 4 | AP30: Lawn/Garden | AQ30: 411144.48 | AR30: grams | AS30: 4.1114448e-07
A31: 2023 | B31: NM | C31: Gasoline | D31: Agriculture | E31: =SUMIFS(AF:AF,Y:Y,$A31,AC:AC,$C31,AE:AE,$D31)/10^6 -> 1754.4282 | F31: =SUMIFS(AQ:AQ,AJ:AJ,$A31,AN:AN,$C31,AP:AP,$D31)/10^6 -> 1.8625704 | I31: Nonroad CO2_MT | J31: Industrial CO2_MT | K31: NET Industrial_CO2_MT | L31: Also deducted NG emissions from the CHP facilities in the Utiities sector | Y31: 2023 | Z31: 35 | AA31: 90 | AB31: 23 | AC31: Nonroad Diesel | AD31: 5 | AE31: Agriculture | AF31: 7.7606426e+10 | AG31: grams | AH31: 0.077606426 | AJ31: 2023 | AK31: 35 | AL31: 5 | AM31: 23 | AN31: Nonroad Diesel | AO31: 5 | AP31: Agriculture | AQ31: 1329416.8 | AR31: grams | AS31: 1.3294168e-06
A32: 2023 | B32: NM | C32: Gasoline | D32: Construction | E32: =SUMIFS(AF:AF,Y:Y,$A32,AC:AC,$C32,AE:AE,$D32)/10^6 -> 20815.955 | F32: =SUMIFS(AQ:AQ,AJ:AJ,$A32,AN:AN,$C32,AP:AP,$D32)/10^6 -> 15.825875 | H32: Gasoline | I32: =SUMIF($C$31:$C$44,$H32,$E$31:$E$44) -> 80957.677 | J32: 225836.57 | K32: =J32-I32 -> 144878.9 | L32: Also deducted commercial motor gasoline emissions from industrial as the SEDS data groups industrial and commercial gasoline quantity together | Y32: 2023 | Z32: 35 | AA32: 90 | AB32: 23 | AC32: Nonroad Diesel | AD32: 6 | AE32: Commercial | AF32: 3.6381004e+10 | AG32: grams | AH32: 0.036381004 | AJ32: 2023 | AK32: 35 | AL32: 5 | AM32: 23 | AN32: Nonroad Diesel | AO32: 6 | AP32: Commercial | AQ32: 823606.07 | AR32: grams | AS32: 8.2360607e-07
A33: 2023 | B33: NM | C33: Gasoline | D33: Industrial | E33: =SUMIFS(AF:AF,Y:Y,$A33,AC:AC,$C33,AE:AE,$D33)/10^6 -> 5266.0189 | F33: =SUMIFS(AQ:AQ,AJ:AJ,$A33,AN:AN,$C33,AP:AP,$D33)/10^6 -> 1.4883605 | H33: Nonroad Diesel | I33: =SUMIF($C$31:$C$44,$H33,$E$31:$E$44)-E44 -> 859142.65 | J33: 766027.67 | K33: =J33-I33 -> -93114.985 | L33: Zero emissions | Y33: 2023 | Z33: 35 | AA33: 90 | AB33: 23 | AC33: Nonroad Diesel | AD33: 7 | AE33: Logging | AF33: 1.571473e+08 | AG33: grams | AH33: 0.0001571473 | AJ33: 2023 | AK33: 35 | AL33: 5 | AM33: 23 | AN33: Nonroad Diesel | AO33: 7 | AP33: Logging | AQ33: 323.4978 | AR33: grams | AS33: 3.234978e-10
A34: 2023 | B34: NM | C34: Gasoline | D34: Logging | E34: =SUMIFS(AF:AF,Y:Y,$A34,AC:AC,$C34,AE:AE,$D34)/10^6 -> 14.993748 | F34: =SUMIFS(AQ:AQ,AJ:AJ,$A34,AN:AN,$C34,AP:AP,$D34)/10^6 -> 0.017194734 | J34: Pre-reconciliation | Y34: 2023 | Z34: 35 | AA34: 90 | AB34: 23 | AC34: Nonroad Diesel | AD34: 8 | AE34: Airport Support | AF34: 3.3564868e+09 | AG34: grams | AH34: 0.0033564868 | AJ34: 2023 | AK34: 35 | AL34: 5 | AM34: 23 | AN34: Nonroad Diesel | AO34: 8 | AP34: Airport Support | AQ34: 27781.014 | AR34: grams | AS34: 2.7781014e-08
A35: 2023 | B35: NM | C35: Gasoline | D35: Oil Field | E35: =SUMIFS(AF:AF,Y:Y,$A35,AC:AC,$C35,AE:AE,$D35)/10^6 -> 9755.9186 | F35: =SUMIFS(AQ:AQ,AJ:AJ,$A35,AN:AN,$C35,AP:AP,$D35)/10^6 -> 7.9138187 | I35: Nonroad CH4_MT | J35: Industrial CH4_MT | K35: NET Industrial_CH4_MT | Y35: 2023 | Z35: 35 | AA35: 90 | AB35: 23 | AC35: Nonroad Diesel | AD35: 9 | AE35: Underground Mining | AF35: 1.1842512e+09 | AG35: grams | AH35: 0.0011842512 | AJ35: 2023 | AK35: 35 | AL35: 5 | AM35: 23 | AN35: Nonroad Diesel | AO35: 9 | AP35: Underground Mining | AQ35: 126141.75 | AR35: grams | AS35: 1.2614175e-07
A36: 2023 | B36: NM | C36: Gasoline | D36: Underground Mining | E36: =SUMIFS(AF:AF,Y:Y,$A36,AC:AC,$C36,AE:AE,$D36)/10^6 -> 0 | F36: =SUMIFS(AQ:AQ,AJ:AJ,$A36,AN:AN,$C36,AP:AP,$D36)/10^6 -> 0 | H36: Gasoline | I36: =SUMIF($C$31:$C$44,$H36,$F$31:$F$44) -> 56.507686 | J36: 8.35275 | K36: =J36-I36 -> -48.154936 | L36: Zero emissions | Y36: 2023 | Z36: 35 | AA36: 90 | AB36: 23 | AC36: Nonroad Diesel | AD36: 10 | AE36: Oil Field | AF36: 24259455765 | AG36: grams | AH36: 0.024259456 | AJ36: 2023 | AK36: 35 | AL36: 5 | AM36: 23 | AN36: Nonroad Diesel | AO36: 10 | AP36: Oil Field | AQ36: 163197.17 | AR36: grams | AS36: 1.6319717e-07
A37: 2023 | B37: NM | C37: Gasoline | D37: Commercial | E37: =SUMIFS(AF:AF,Y:Y,$A37,AC:AC,$C37,AE:AE,$D37)/10^6 -> 43350.362 | F37: =SUMIFS(AQ:AQ,AJ:AJ,$A37,AN:AN,$C37,AP:AP,$D37)/10^6 -> 29.399867 | H37: Nonroad Diesel | I37: =SUMIF($C$31:$C$44,$H37,$F$31:$F$44)-F44 -> 10.799065 | J37: 35.97251 | K37: =J37-I37 -> 25.173445 | L37: Excludes commercial diesel CH4 emissions | Y37: 2023 | Z37: 35 | AA37: 90 | AB37: 23 | AC37: Nonroad Diesel | AD37: 12 | AE37: Railroad Support | AF37: 7.6181072e+09 | AG37: grams | AH37: 0.0076181072 | AJ37: 2023 | AK37: 35 | AL37: 5 | AM37: 23 | AN37: Nonroad Diesel | AO37: 12 | AP37: Railroad Support | AQ37: 257564.39 | AR37: grams | AS37: 2.5756439e-07
A38: 2023 | B38: NM | C38: Nonroad Diesel | D38: Agriculture | E38: =SUMIFS(AF:AF,Y:Y,$A38,AC:AC,$C38,AE:AE,$D38)/10^6 -> 77606.426 | F38: =SUMIFS(AQ:AQ,AJ:AJ,$A38,AN:AN,$C38,AP:AP,$D38)/10^6 -> 1.3294168 | Y38: 2023 | Z38: 35 | AA38: 90 | AB38: 24 | AC38: Marine Diesel | AD38: 11 | AE38: Pleasure Craft | AF38: 1.0089814e+10 | AG38: grams | AH38: 0.010089814 | AJ38: 2023 | AK38: 35 | AL38: 5 | AM38: 24 | AN38: Marine Diesel | AO38: 11 | AP38: Pleasure Craft | AQ38: 392967.12 | AR38: grams | AS38: 3.9296712e-07
A39: 2023 | B39: NM | C39: Nonroad Diesel | D39: Construction | E39: =SUMIFS(AF:AF,Y:Y,$A39,AC:AC,$C39,AE:AE,$D39)/10^6 -> 699283.11 | F39: =SUMIFS(AQ:AQ,AJ:AJ,$A39,AN:AN,$C39,AP:AP,$D39)/10^6 -> 8.3517772 | I39: CO2 (MT) | J39: CH4 (MT) | K39: N2O (MT)
A40: 2023 | B40: NM | C40: Nonroad Diesel | D40: Industrial | E40: =SUMIFS(AF:AF,Y:Y,$A40,AC:AC,$C40,AE:AE,$D40)/10^6 -> 56652.259 | F40: =SUMIFS(AQ:AQ,AJ:AJ,$A40,AN:AN,$C40,AP:AP,$D40)/10^6 -> 0.8282087 | H40: Industrial Total, Pre | I40: 2496332 | J40: 135.00823 | K40: 25.067729
...

Sheet IFC_Pre-sector Adj
A1: Industry: Industrial Fuel Combustion
A3: Fuel Type | B3: Fuel SubType | C3: Energy Data (BBTU) | D3: Physical Data | E3: Physical Data Units | F3: Notes | G3: Adjusted_BBTU (See Row 50 for details) | H3: %NEU_National_2023 (2025GHGI) | I3: EnergyUse_NM (BBTU) | J3: CO2 (MMT) | K3: CH4 (MMT) | L3: N2O (MMT) | M3: Total CO2E (MMT) | N3: CO2 (MT) | O3: CH4 (MT) | P3: N2O (MT)
A4: Coal | B4: Coal | C4: 1425 | D4: 62 | E4: 1000 Short Tons | F4: Zero consumption for coking coal | G4: =C4*B51 -> 1426.3374 | H4: ='IFC_Non-energy Fuel Use'!D6 -> 0.024334016 | I4: =G4*(1-H4) -> 1391.6289 | J4: =($I4/10^6)*_xlfn.XLOOKUP($B4,'IFC_Emission Factors'!$A$12:$A$26,'IFC_Emission Factors'!$C$12:$C$26,"ERROR") -> 0.13308147 | K4: =($C4*_xlfn.XLOOKUP($A4,'IFC_Emission Factors'!$A$3:$A$7,'IFC_Emission Factors'!$B$3:$B$7,"ERROR"))/10^6 -> 1.42785e-05 | L4: =($C4*_xlfn.XLOOKUP($A4,'IFC_Emission Factors'!$A$3:$A$7,'IFC_Emission Factors'!$C$3:$C$7,"ERROR"))/10^6 -> 2.1375e-06 | M4: =($J4*$B$24)+($K4*$B$25)+($L4*$B$26) -> 0.1340477 | N4: =J4*10^6 -> 133081.47 | O4: =K4*10^6 -> 14.2785 | P4: =L4*10^6 -> 2.1375
A5: Natural Gas | B5: Natural Gas | C5: =134128*(B33/SUM(B31:B33)) -> 11313.657 | D5: =B33 -> 11024 | E5: MMCF | F5: Excluding supplemental gaseous fuels and lease and plant fuel (combustion emissions covered under O&G). Original SEDS estimate is 130,694 MMCF/134,128 BBTU of NG. | G5: =C5*B52 -> 11379.23 | H5: ='IFC_Non-energy Fuel Use'!D7 -> 0.063465805 | I5: =G5*(1-H5) -> 10657.038 | J5: =($I5/10^6)*_xlfn.XLOOKUP($B5,'IFC_Emission Factors'!$A$12:$A$26,'IFC_Emission Factors'!$C$12:$C$26,"ERROR") -> 0.56397044 | K5: =($C5*_xlfn.XLOOKUP($A5,'IFC_Emission Factors'!$A$3:$A$7,'IFC_Emission Factors'!$B$3:$B$7,"ERROR"))/10^6 -> 1.0747974e-05 | L5: =($C5*_xlfn.XLOOKUP($A5,'IFC_Emission Factors'!$A$3:$A$7,'IFC_Emission Factors'!$C$3:$C$7,"ERROR"))/10^6 -> 1.0182291e-06 | M5: =($J5*$B$24)+($K5*$B$25)+($L5*$B$26) -> 0.56454121 | N5: =J5*10^6 -> 563970.44 | O5: =K5*10^6 -> 10.747974 | P5: =L5*10^6 -> 1.0182291
A6: Petroleum | B6: Asphalt and road oil | C6: 7915 | D6: 1193 | E6: 1000 BBL | G6: =C6 -> 7915 | H6: ='IFC_Non-energy Fuel Use'!D8 -> 1 | I6: =G6*(1-H6) -> 0 | J6: =($I6/10^6)*_xlfn.XLOOKUP($B6,'IFC_Emission Factors'!$A$12:$A$26,'IFC_Emission Factors'!$C$12:$C$26,"ERROR") -> 0 | K6: =($C6*_xlfn.XLOOKUP($A6,'IFC_Emission Factors'!$A$3:$A$7,'IFC_Emission Factors'!$B$3:$B$7,"ERROR"))/10^6 -> 2.382415e-05 | L6: =($C6*_xlfn.XLOOKUP($A6,'IFC_Emission Factors'!$A$3:$A$7,'IFC_Emission Factors'!$C$3:$C$7,"ERROR"))/10^6 -> 4.749e-06 | M6: =($J6*$B$24)+($K6*$B$25)+($L6*$B$26) -> 0.0019255612 | N6: =J6*10^6 -> 0 | O6: =K6*10^6 -> 23.82415 | P6: =L6*10^6 -> 4.749
A7: Petroleum | B7: Distillate | C7: 11951 | D7: 2073 | E7: 1000 BBL | F7: Excludes biofuels | G7: =C7*B53 -> 10393.323 | H7: ='IFC_Non-energy Fuel Use'!D16 -> 0.0060172217 | I7: =G7*(1-H7) -> 10330.784 | J7: =($I7/10^6)*_xlfn.XLOOKUP($B7,'IFC_Emission Factors'!$A$12:$A$26,'IFC_Emission Factors'!$C$12:$C$26,"ERROR") -> 0.76602767 | K7: =($C7*_xlfn.XLOOKUP($A7,'IFC_Emission Factors'!$A$3:$A$7,'IFC_Emission Factors'!$B$3:$B$7,"ERROR"))/10^6 -> 3.597251e-05 | L7: =($C7*_xlfn.XLOOKUP($A7,'IFC_Emission Factors'!$A$3:$A$7,'IFC_Emission Factors'!$C$3:$C$7,"ERROR"))/10^6 -> 7.1706e-06 | M7: =($J7*$B$24)+($K7*$B$25)+($L7*$B$26) -> 0.76893511 | N7: =J7*10^6 -> 766027.67 | O7: =K7*10^6 -> 35.97251 | P7: =L7*10^6 -> 7.1706
A8: Petroleum | B8: Fuel ethanol | C8: 221 | D8: 64 | E8: 1000 BBL | G8: 0 | I8: =G8*(1-H8) -> 0 | J8: 0
A9: Petroleum | B9: HGL | C9: 900 | D9: 234 | E9: 1000 BBL | F9: Pentanes Plus (Natural Gasoline) consumption is zero | G9: =C9 -> 900 | H9: ='IFC_Non-energy Fuel Use'!D9 -> 0.85979549 | I9: =G9*(1-H9) -> 126.18406 | J9: =($I9/10^6)*_xlfn.XLOOKUP($B9,'IFC_Emission Factors'!$A$12:$A$26,'IFC_Emission Factors'!$C$12:$C$26,"ERROR") -> 0.0082070114 | K9: =($C9*_xlfn.XLOOKUP($A9,'IFC_Emission Factors'!$A$3:$A$7,'IFC_Emission Factors'!$B$3:$B$7,"ERROR"))/10^6 -> 2.709e-06 | L9: =($C9*_xlfn.XLOOKUP($A9,'IFC_Emission Factors'!$A$3:$A$7,'IFC_Emission Factors'!$C$3:$C$7,"ERROR"))/10^6 -> 5.4e-07 | M9: =($J9*$B$24)+($K9*$B$25)+($L9*$B$26) -> 0.0084259634 | N9: =J9*10^6 -> 8207.0114 | O9: =K9*10^6 -> 2.709 | P9: =L9*10^6 -> 0.54
A10: Petroleum | B10: Kerosene | C10: 2 | E10: NA | F10: Physical quantity not published | G10: =C10 -> 2 | I10: =G10*(1-H10) -> 2 | J10: =($I10/10^6)*_xlfn.XLOOKUP($B10,'IFC_Emission Factors'!$A$12:$A$26,'IFC_Emission Factors'!$C$12:$C$26,"ERROR") -> 0.0001464 | K10: =($C10*_xlfn.XLOOKUP($A10,'IFC_Emission Factors'!$A$3:$A$7,'IFC_Emission Factors'!$B$3:$B$7,"ERROR"))/10^6 -> 6.02e-09 | L10: =($C10*_xlfn.XLOOKUP($A10,'IFC_Emission Factors'!$A$3:$A$7,'IFC_Emission Factors'!$C$3:$C$7,"ERROR"))/10^6 -> 1.2e-09 | M10: =($J10*$B$24)+($K10*$B$25)+($L10*$B$26) -> 0.00014688656 | N10: =J10*10^6 -> 146.4 | O10: =K10*10^6 -> 0.00602 | P10: =L10*10^6 -> 0.0012
A11: Petroleum | B11: Lubricants | C11: 923 | D11: 152 | E11: 1000 BBL | G11: =C11 -> 923 | H11: ='IFC_Non-energy Fuel Use'!D10 -> 1 | I11: =G11*(1-H11) -> 0 | J11: =($I11/10^6)*_xlfn.XLOOKUP($B11,'IFC_Emission Factors'!$A$12:$A$26,'IFC_Emission Factors'!$C$12:$C$26,"ERROR") -> 0 | K11: =($C11*_xlfn.XLOOKUP($A11,'IFC_Emission Factors'!$A$3:$A$7,'IFC_Emission Factors'!$B$3:$B$7,"ERROR"))/10^6 -> 2.77823e-06 | L11: =($C11*_xlfn.XLOOKUP($A11,'IFC_Emission Factors'!$A$3:$A$7,'IFC_Emission Factors'!$C$3:$C$7,"ERROR"))/10^6 -> 5.538e-07 | M11: =($J11*$B$24)+($K11*$B$25)+($L11*$B$26) -> 0.00022454744 | N11: =J11*10^6 -> 0 | O11: =K11*10^6 -> 2.77823 | P11: =L11*10^6 -> 0.5538
A12: Petroleum | B12: Motor gasoline | C12: 2775 | D12: 593 | E12: 1000 BBL | F12: Energy data excludes fuel ethanol | G12: =C12*B54 -> 3196.5545 | I12: =G12*(1-H12) -> 3196.5545 | J12: =($I12/10^6)*_xlfn.XLOOKUP($B12,'IFC_Emission Factors'!$A$12:$A$26,'IFC_Emission Factors'!$C$12:$C$26,"ERROR") -> 0.22583657 | K12: =($C12*_xlfn.XLOOKUP($A12,'IFC_Emission Factors'!$A$3:$A$7,'IFC_Emission Factors'!$B$3:$B$7,"ERROR"))/10^6 -> 8.35275e-06 | L12: =($C12*_xlfn.XLOOKUP($A12,'IFC_Emission Factors'!$A$3:$A$7,'IFC_Emission Factors'!$C$3:$C$7,"ERROR"))/10^6 -> 1.665e-06 | M12: =($J12*$B$24)+($K12*$B$25)+($L12*$B$26) -> 0.22651167 | N12: =J12*10^6 -> 225836.57 | O12: =K12*10^6 -> 8.35275 | P12: =L12*10^6 -> 1.665
A13: Petroleum | B13: Misc petroleum products | C13: 16 | D13: 3 | E13: 1000 BBL | G13: =C13 -> 16 | H13: ='IFC_Non-energy Fuel Use'!D18 -> 1 | I13: =G13*(1-H13) -> 0 | J13: =($I13/10^6)*_xlfn.XLOOKUP($B13,'IFC_Emission Factors'!$A$12:$A$26,'IFC_Emission Factors'!$C$12:$C$26,"ERROR") -> 0 | K13: =($C13*_xlfn.XLOOKUP($A13,'IFC_Emission Factors'!$A$3:$A$7,'IFC_Emission Factors'!$B$3:$B$7,"ERROR"))/10^6 -> 4.816e-08 | L13: =($C13*_xlfn.XLOOKUP($A13,'IFC_Emission Factors'!$A$3:$A$7,'IFC_Emission Factors'!$C$3:$C$7,"ERROR"))/10^6 -> 9.6e-09 | M13: =($J13*$B$24)+($K13*$B$25)+($L13*$B$26) -> 3.89248e-06 | N13: =J13*10^6 -> 0 | O13: =K13*10^6 -> 0.04816 | P13: =L13*10^6 -> 0.0096
A14: Petroleum | B14: Other petroleum products | C14: 9221 | D14: 1467 | E14: 1000 BBL | G14: =C14 -> 9221 | I14: =G14*(1-H14) -> 9221
A15: Petroleum | B15: Petroleum Coke | C15: 1892 | D15: 301 | E15: 1000 BBL | G15: =C15*B55 -> 1891.6956 | H15: ='IFC_Non-energy Fuel Use'!D14 -> 0 | I15: =G15*(1-H15) -> 1891.6956 | J15: =($I15/10^6)*_xlfn.XLOOKUP($B15,'IFC_Emission Factors'!$A$12:$A$26,'IFC_Emission Factors'!$C$12:$C$26,"ERROR") -> 0.19316104 | K15: =($C15*_xlfn.XLOOKUP($A15,'IFC_Emission Factors'!$A$3:$A$7,'IFC_Emission Factors'!$B$3:$B$7,"ERROR"))/10^6 -> 5.69492e-06 | L15: =($C15*_xlfn.XLOOKUP($A15,'IFC_Emission Factors'!$A$3:$A$7,'IFC_Emission Factors'!$C$3:$C$7,"ERROR"))/10^6 -> 1.1352e-06 | M15: =($J15*$B$24)+($K15*$B$25)+($L15*$B$26) -> 0.19362132 | N15: =J15*10^6 -> 193161.04 | O15: =K15*10^6 -> 5.69492 | P15: =L15*10^6 -> 1.1352
A16: Petroleum | B16: Propane | C16: 900 | D16: 234 | E16: 1000 BBL | G16: =C16 -> 900 | I16: =G16*(1-H16) -> 900 | J16: =($I16/10^6)*_xlfn.XLOOKUP($B16,'IFC_Emission Factors'!$A$12:$A$26,'IFC_Emission Factors'!$C$12:$C$26,"ERROR") -> 0.056583 | K16: =($C16*_xlfn.XLOOKUP($A16,'IFC_Emission Factors'!$A$3:$A$7,'IFC_Emission Factors'!$B$3:$B$7,"ERROR"))/10^6 -> 2.709e-06 | L16: =($C16*_xlfn.XLOOKUP($A16,'IFC_Emission Factors'!$A$3:$A$7,'IFC_Emission Factors'!$C$3:$C$7,"ERROR"))/10^6 -> 5.4e-07 | M16: =($J16*$B$24)+($K16*$B$25)+($L16*$B$26) -> 0.056801952 | N16: =J16*10^6 -> 56583 | O16: =K16*10^6 -> 2.709 | P16: =L16*10^6 -> 0.54
A17: Petroleum | B17: Still Gas | C17: 9190 | D17: 1462 | E17: 1000 BBL | G17: =C17 -> 9190 | H17: ='IFC_Non-energy Fuel Use'!D13 -> 0.10352159 | I17: =G17*(1-H17) -> 8238.6365 | J17: =($I17/10^6)*_xlfn.XLOOKUP($B17,'IFC_Emission Factors'!$A$12:$A$26,'IFC_Emission Factors'!$C$12:$C$26,"ERROR") -> 0.54968183 | K17: =($C17*_xlfn.XLOOKUP($A17,'IFC_Emission Factors'!$A$3:$A$7,'IFC_Emission Factors'!$B$3:$B$7,"ERROR"))/10^6 -> 2.76619e-05 | L17: =($C17*_xlfn.XLOOKUP($A17,'IFC_Emission Factors'!$A$3:$A$7,'IFC_Emission Factors'!$C$3:$C$7,"ERROR"))/10^6 -> 5.514e-06 | M17: =($J17*$B$24)+($K17*$B$25)+($L17*$B$26) -> 0.55191757 | N17: =J17*10^6 -> 549681.83 | O17: =K17*10^6 -> 27.6619 | P17: =L17*10^6 -> 5.514
A18: Petroleum | B18: Waxes | C18: 18 | D18: 3 | E18: 1000 BBL | G18: =C18 -> 18 | H18: ='IFC_Non-energy Fuel Use'!D17 -> 1 | I18: =G18*(1-H18) -> 0 | J18: =($I18/10^6)*_xlfn.XLOOKUP($B18,'IFC_Emission Factors'!$A$12:$A$26,'IFC_Emission Factors'!$C$12:$C$26,"ERROR") -> 0 | K18: =($C18*_xlfn.XLOOKUP($A18,'IFC_Emission Factors'!$A$3:$A$7,'IFC_Emission Factors'!$B$3:$B$7,"ERROR"))/10^6 -> 5.418e-08 | L18: =($C18*_xlfn.XLOOKUP($A18,'IFC_Emission Factors'!$A$3:$A$7,'IFC_Emission Factors'!$C$3:$C$7,"ERROR"))/10^6 -> 1.08e-08 | M18: =($J18*$B$24)+($K18*$B$25)+($L18*$B$26) -> 4.37904e-06 | N18: =J18*10^6 -> 0 | O18: =K18*10^6 -> 0.05418 | P18: =L18*10^6 -> 0.0108
A19: Wood | B19: Wood | C19: 6 | F19: Physical quantity not published | K19: =($C19*_xlfn.XLOOKUP($A19,'IFC_Emission Factors'!$A$3:$A$7,'IFC_Emission Factors'!$B$3:$B$7,"ERROR"))/10^6 -> 1.7094e-07 | L19: =($C19*_xlfn.XLOOKUP($A19,'IFC_Emission Factors'!$A$3:$A$7,'IFC_Emission Factors'!$C$3:$C$7,"ERROR"))/10^6 -> 2.28e-08 | M19: =($J19*$B$24)+($K19*$B$25)+($L19*$B$26) -> 1.082832e-05 | O19: =K19*10^6 -> 0.17094 | P19: =L19*10^6 -> 0.0228
A20: Electricity | B20: Electricity | C20: 39790 | D20: 11662 | E20: Million kilowatthours | I20: =C20*(1-H20) -> 39790
J21: =SUM(J4:J19) -> 2.4966954 | K21: =SUM(K4:K19) -> 0.00013500823 | L21: =SUM(L4:L19) -> 2.5067729e-05 | M21: =SUM(M4:M19) -> 2.5071186 | N21: =SUM(N4:N18) -> 2496695.4 | O21: =SUM(O4:O19) -> 135.00823 | P21: =SUM(P4:P19) -> 25.067729
A23: GWP:
A24: CO2 | B24: 1 | D24: =C5/D5 -> 1.0262751 | E24: BBTU/MMCF
A25: CH4 | B25: 28 | D25: =D24*B33 -> 11313.657 | E25: BBTU
A26: N2O | B26: 265 | D26: =D25/C5 -> 1
A30: Natural gas consumed as lease and plant fuel, by state: https://www.eia.gov/dnav/ng/ng_cons_sum_a_EPG0_vcl_mmcf_a.htm
A31: Lease Fuel, NM | B31: 77900 | C31: MMCF
A32: Plant Fuel, NM | B32: 41770 | C32: MMCF | F32: CO2 for NG combustion (O&G NM) = 18 TG
A33: Industrial customers | B33: 11024 | C33: MMCF
A34: 1) Should we keep lease and plant fuel in industrial or is this accounted in O&G? Exclude. Per conversation with NM O&G team, combustion CO2 and CH4 are included in O&G segment.
A37: Adjustment Notes:
A38: 1) Excluding lease and plant fuel from NG industrial. Lease and plant fuel combustion emissions are covered under O&G sector. See rows 30-33 for adjustment details.
A39: 2) Supplemental gas (NG adjustment) consumption for industrial is zero for NM
A40: 3) NG adjustment for ammonia production is zero for NM (1990-2022 state inventory)
A41: 4) NG adjustment for I&S production is zero for NM (1990-2022 state inventory)
A42: 5) Pentanes Plus (Natural Gasoline) consumption for industrial is zero for NM
A43: 6) Coking coal consumption for industrial is zero for NM
A44: 7) Distillate consumption for NM (industrial sector) excludes biofuels (SEDS category)
A45: 8) Distillate adjustment for I&S production is zero for NM (1990-2022 state inventory)
A46: 9) Motor Gasoline consumption for NM (industrial sector) excludes fuel ethanol (SEDS category)
A47: 10) Synthetic natural gas production (coal adjustment) for NM is zero.
...

Sheet IFC_Emission Factors
A1: Industry: Industrial Fuel Combustion
A3: Fuel Type | B3: CH4 EF (mt/Bbtu) | C3: N2O EF (mt/Bbtu) | E3: SIT Tool Stationary Combustion Module
A4: Coal | B4: 0.01002 | C4: 0.00150
A5: Natural Gas | B5: 0.00095 | C5: 0.00009
A6: Petroleum | B6: 0.00301 | C6: 0.00060
A7: Wood | B7: 0.02849 | C7: 0.00380
A10: CO2:
A11: Table A-21 and A-22 (National GHGI Annex 2025GHGI, 1990-2023) | B11: C Content Coefficients (MMT C/QBtu) | C11: CO2 Content Coefficients (MMT CO2/QBtu) | E11: 10^6 billions = 1 quad
A12: Fuel | B12: 2023 | C12: 2023
A13: Coal | B13: 26.12 | C13: 95.63
A14: Natural Gas | B14: 14.43 | C14: 52.92
A15: Asphalt and road oil | B15: 20.55 | C15: 75.36
A16: Distillate | B16: 20.22 | C16: 74.15
A17: Kerosene | B17: 19.96 | C17: 73.2
A18: Propane | B18: 17.15 | C18: 62.87
A19: HGL | B19: 17.77 | C19: 65.04
A20: Lubricants | B20: 20.2 | C20: 74.06
A21: Motor gasoline | B21: 19.27 | C21: 70.65
A22: Misc petroleum products | B22: 0 | C22: 0
A23: Other petroleum products | B23: 20 | C23: 73.33
... A26: Waxes | B26: 19.8 | C26: 72.58

Sheet IFC_Non-energy Fuel Use
A1: Industry: Industrial Fuel Combustion
A3: 2023, National-level data (1990-2023 NIR EDF) | B3: Table A-4 (NIR Annex) | C3: Table 3-24 (NIR) | F3: QC Column
A4: Fuel Type | B4: Total Tbtu_Industrial 2023 | C4: NEU Tbtu_Ind 2023 | D4: %NEU_National_2023 | E4: Notes | F4: 2022 %NEU_National
A5: Coking coal | B5: 65.4 | C5: 65.4 | D5: =C5/B5 -> 1 | E5: Zero consumption for NM in 2023 (SEDS) | F5: 1
A6: Industrial Other Coal (Excludes coking coal) | B6: 390.4 | C6: 9.5 | D6: =C6/B6 -> 0.024334016 | F6: 0.020619935
A7: Natural Gas | B7: 10457.6 | C7: 663.7 | D7: =C7/B7 -> 0.063465805 | F7: 0.065043878
A8: Asphalt & Road Oil | B8: 891.8 | C8: 891.8 | D8: =C8/B8 -> 1 | F8: 1
A9: HGL | B9: 3452.1 | C9: 2968.1 | D9: =C9/B9 -> 0.85979549 | F9: 0.85583213
A10: Lubricants | B10: 86.3 | C10: 86.3 | D10: =C10/B10 -> 1 | F10: 1
A11: Naphtha (<401 deg. F) | B11: 271.8 | C11: 252.8 | D11: =C11/B11 -> 0.93009566 | E11: Zero consumption for NM in 2023 (SEDS) | F11: 0.92798629
A12: Other Oil (>401 deg. F) | B12: 119.6 | C12: 104.6 | D12: =C12/B12 -> 0.87458194 | E12: Zero consumption for NM in 2023 (SEDS) | F12: 0.9004736
A13: Still Gas | B13: 1505 | C13: 155.8 | D13: =C13/B13 -> 0.10352159 | F13: 0.10351539
A14: Petroleum Coke | B14: 510.1 | C14: 0 | D14: =C14/B14 -> 0 | F14: 0
A15: Special Naphthas | B15: 89.2 | C15: 83.4 | D15: =C15/B15 -> 0.93497758 | E15: Zero consumption for NM in 2023 (SEDS) | F15: 0.93231622
A16: Distillate | B16: 963.9 | C16: 5.8 | D16: =C16/B16 -> 0.0060172217 | F16: 0.00088471004
A17: Waxes | B17: 9 | C17: 9 | D17: =C17/B17 -> 1 | F17: 1
A18: Misc Petroleum Products | B18: 176.2 | C18: 176.2 | D18: =C18/B18 -> 1 | F18: 1
B19: =SUM(B5:B7,B8:B17) -> 18812.2 | C19: =SUM(C5:C18) -> 5472.4 | D19: =C19/B19 -> 0.29089633
A20: Notes:
A21: Table 3-24: Adjusted Consumption of Fossil Fuels for Non-Energy Uses (TBtu)
A22: Appendix to National GHGI (Table A-4: 2023 Energy Consumption Data by Fuel Type (TBtu) and Adjusted Energy Consumption Data )
A23: QC source: Data from SIT tool and corresponds with 1990-2022 GHGI (National estimates).
A24: To estimate NEU quantity of fuel for NM for 2023:Apply the national level %NEU (by fuel type) to NM to calculate NEU quantity by fuel type for 2023.
A25: 1) Develop %NEU, by fuel type, at the national level using 2023 data from the 1990-2023 GHGI (See Columns B-D in above table).
A26: 2) Apply these ratios to NMs fuel quantity to calculate NEU quantity, by fuel type.

Sheet IFC_SEDS data
A1: Industry: Industrial Fuel Combustion
A3: Data_Status | B3: MSN | C3: StateCode | D3: Year | E3: Data | F3: MSN DESC | G3: UNITS | H3: Fuel_Type | I3: Fuel_SubType | J3: DataType
A4: 2023F | B4: ARICB | C4: NM | D4: 2023 | E4: 7915 | F4: Asphalt and road oil consumed by the industrial sector | G4: Billion Btu | H4: Petroleum | I4: Asphalt and road oil | J4: Energy
A5: 2023F | B5: ARICP | C5: NM | D5: 2023 | E5: 1193 | F5: Asphalt and road oil consumed by the industrial sector | G5: Thousand barrels | H5: Petroleum | I5: Asphalt and road oil | J5: Physical
A6: 2023F | B6: CLICB | C6: NM | D6: 2023 | E6: 1425 | F6: Coal consumed by the industrial sector | G6: Billion Btu | H6: Coal | I6: Coal | J6: Energy
A7: 2023F | B7: CLICP | C7: NM | D7: 2023 | E7: 62 | F7: Coal consumed by the industrial sector | G7: Thousand short tons | H7: Coal | I7: Coal | J7: Physical
A8: 2023F | B8: CLISB | C8: NM | D8: 2023 | E8: 1425 | F8: Coal consumed by the industrial sector excluding refinery fuel | G8: Billion Btu | H8: Coal | I8: Coal | J8: Informational
A9: 2023F | B9: CLOCB | C9: NM | D9: 2023 | E9: 1425 | F9: Coal consumed by industrial users other than coke plants | G9: Billion Btu | H9: Coal | I9: Coal | J9: Informational
A10: 2023F | B10: CLOCK | C10: NM | D10: 2023 | E10: 23 | F10: Factor for converting coal consumed by industrial users other than coke plants from physical units to Btu | G10: Million Btu per short ton | H10: Coal | I10: NA | J10: Informational
A11: 2023F | B11: CLOCP | C11: NM | D11: 2023 | E11: 62 | F11: Coal consumed by industrial users other than coke plants | G11: Thousand short tons | H11: Coal | I11: Coal | J11: Informational
A12: 2023F | B12: CLOSB | C12: NM | D12: 2023 | E12: 1425 | F12: Coal consumed by the industrial sector other than coke plants excluding refinery fuel | G12: Billion Btu | H12: Coal | I12: Coal | J12: Informational
A13: 2023F | B13: COPRK | C13: NM | D13: 2023 | E13: 5 | F13: Factor for converting crude oil production from physical units to Btu for the United States | G13: Million Btu per barrel | H13: Petroleum | I13: NA | J13: Informational
A14: 2023F | B14: DAICB | C14: NM | D14: 2023 | E14: 11951 | F14: Distillate fuel oil, biodiesel, and renewable diesel consumed by the industrial sector | G14: Billion Btu | H14: Petroleum | I14: Distillate | J14: Informational
A15: 2023F | B15: DAICP | C15: NM | D15: 2023 | E15: 2073 | F15: Distillate fuel oil, biodiesel, and renewable diesel consumed by the industrial sector | G15: Thousand barrels | H15: Petroleum | I15: Distillate | J15: Informational
... A79: 2023F | B79: WXICP | C79: NM | D79: 2023 | E79: 3 | F79: Waxes consumed by the industrial sector | G79: Thousand barrels | H79: Petroleum | I79: Waxes | J79: Physical
A81: Notes:
A82: Consolidated data file (in long format with over 2.3 million records)
A83: Consumption, price, expenditure, production, indicators, and CO2 emissions estimates
A84: https://www.eia.gov/state/seds/seds-data-complete.php?sid=NM#CompleteDataFile
A86: Starting Point - Complete NM SEDS data
A87: Filters:
A88: 1) Excluded records related to cost/price/expenditures
A89: 2) Excluded records related to residential, commercial, transportation, and total (all sectors) consumption
A90: 3) Excluded industrial records with zero values for fuel data

Sheet IPPU_Summary
A1: Industry: Industrial Processes and Product Use
A3: Category | B3: ghg_category | C3: NM_2022_MMT_CO2E | D3: US_2022_MMT CO2E | E3: NM/US 2022 | F3: US_2023_MMT CO2E | G3: NM_2023_MMT CO2E
A4: Carbide Production and Consumption | B4: CO2 | C4: =SUMIFS($D$30:$D$74,$A$30:$A$74,$A4,$B$30:$B$74,$B4) -> 0.0061377512 | D4: =SUMIFS($F$30:$F$74,$A$30:$A$74,$A4,$B$30:$B$74,$B4) -> 0.21 | E4: =C4/D4 -> 0.029227387 | F4: 0.1830949 | G4: =E4*F4 -> 0.0053513855 | J4: Methodology:
A5: Carbon Dioxide Consumption | B5: CO2 | C5: =SUMIFS($D$30:$D$74,$A$30:$A$74,$A5,$B$30:$B$74,$B5) -> 0.03136635 | D5: =SUMIFS($F$30:$F$74,$A$30:$A$74,$A5,$B$30:$B$74,$B5) -> 5 | E5: =C5/D5 -> 0.00627327 | F5: 2.1495201 | G5: =E5*F5 -> 0.01348452 | J5: 1) Using the 1990-2022 GHGI, calculate ratio of NM to US emissions.
A6: Cement Production | B6: CO2 | C6: =SUMIFS($D$30:$D$74,$A$30:$A$74,$A6,$B$30:$B$74,$B6) -> 0.19813853 | D6: =SUMIFS($F$30:$F$74,$A$30:$A$74,$A6,$B$30:$B$74,$B6) -> 41.884 | E6: =C6/D6 -> 0.0047306497 | F6: 40.635717 | G6: =E6*F6 -> 0.19223334 | J6: 2) Apply the 2022 NM/US ratio to 2023 US totals to calculate NM 2023 GHG emissions.
A7: Electrical Equipment | B7: SF6 | C7: =SUMIFS($D$30:$D$74,$A$30:$A$74,$A7,$B$30:$B$74,$B7) -> 0.058309866 | D7: =SUMIFS($F$30:$F$74,$A$30:$A$74,$A7,$B$30:$B$74,$B7) -> 4.7 | E7: =C7/D7 -> 0.012406354 | F7: 5.0728591 | G7: =E7*F7 -> 0.062935687 | J7: US_2023_MMT CO2E data obtained from the 1990-2023 US GHGI published by EDF. Table 4-1: Emissions from Industrial Processes and Product Use (MMT CO2 Eq.)
A8: N2O from Product Uses | B8: N2O | C8: =SUMIFS($D$30:$D$74,$A$30:$A$74,$A8,$B$30:$B$74,$B8) -> 0.023526655 | D8: =SUMIFS($F$30:$F$74,$A$30:$A$74,$A8,$B$30:$B$74,$B8) -> 3.71 | E8: =C8/D8 -> 0.0063414166 | F8: 3.7503017 | G8: =E8*F8 -> 0.023782225
A9: Other Process Uses of Carbonates | B9: CO2 | C9: =SUMIFS($D$30:$D$74,$A$30:$A$74,$A9,$B$30:$B$74,$B9) -> 0.57295847 | D9: =SUMIFS($F$30:$F$74,$A$30:$A$74,$A9,$B$30:$B$74,$B9) -> 10.384 | E9: =C9/D9 -> 0.055177049 | F9: 7.1629708 | G9: =E9*F9 -> 0.39523159
A10: Photovoltaics | B10: HFC | C10: =SUMIFS($D$30:$D$74,$A$30:$A$74,$A10,$B$30:$B$74,$B10) -> 3.76677e-06 | D10: =SUMIFS($F$30:$F$74,$A$30:$A$74,$A10,$B$30:$B$74,$B10) -> 0 | E10: NA | F10: NA | G10: =C10 -> 3.76677e-06
A11: Photovoltaics | B11: N2O | C11: =SUMIFS($D$30:$D$74,$A$30:$A$74,$A11,$B$30:$B$74,$B11) -> 8.6597013e-06 | D11: =SUMIFS($F$30:$F$74,$A$30:$A$74,$A11,$B$30:$B$74,$B11) -> 0 | E11: NA | F11: NA | G11: =C11 -> 8.6597013e-06
A12: Photovoltaics | B12: PFC | C12: =SUMIFS($D$30:$D$74,$A$30:$A$74,$A12,$B$30:$B$74,$B12) -> 0.00014342544 | D12: =SUMIFS($F$30:$F$74,$A$30:$A$74,$A12,$B$30:$B$74,$B12) -> 0 | E12: NA | F12: NA | G12: =C12 -> 0.00014342544 | J12: Data for Chart:
A13: Semiconductor Manufacture | B13: HFC | C13: =SUMIFS($D$30:$D$74,$A$30:$A$74,$A13,$B$30:$B$74,$B13) -> 0.001698198 | D13: =SUMIFS($F$30:$F$74,$A$30:$A$74,$A13,$B$30:$B$74,$B13) -> 0.3134354 | E13: =C13/D13 -> 0.005418016 | F13: 0.28062444 | G13: =E13*F13 -> 0.0015204277 | J13: GHG | K13: Emissions (MMT CO2e)
A14: Semiconductor Manufacture | B14: N2O | C14: =SUMIFS($D$30:$D$74,$A$30:$A$74,$A14,$B$30:$B$74,$B14) -> 0.0093969 | D14: =SUMIFS($F$30:$F$74,$A$30:$A$74,$A14,$B$30:$B$74,$B14) -> 0.294998 | E14: =C14/D14 -> 0.031854114 | F14: 0.2757414 | G14: =E14*F14 -> 0.0087834981 | J14: CO2 | K14: =SUMIF($B$4:$B$25,J14,$G$4:$G$25) -> 0.64035081
A15: Semiconductor Manufacture | B15: NF3 | C15: =SUMIFS($D$30:$D$74,$A$30:$A$74,$A15,$B$30:$B$74,$B15) -> 0.0056994 | D15: =SUMIFS($F$30:$F$74,$A$30:$A$74,$A15,$B$30:$B$74,$B15) -> 0.63434 | E15: =C15/D15 -> 0.0089847716 | F15: 0.50900402 | G15: =E15*F15 -> 0.0045732848 | J15: SF6 | K15: =SUMIF($B$4:$B$25,J15,$G$4:$G$25) -> 0.098122018
A16: Semiconductor Manufacture | B16: PFC | C16: =SUMIFS($D$30:$D$74,$A$30:$A$74,$A16,$B$30:$B$74,$B16) -> 0.0171234 | D16: =SUMIFS($F$30:$F$74,$A$30:$A$74,$A16,$B$30:$B$74,$B16) -> 2.60289 | E16: =C16/D16 -> 0.0065786107 | F16: 2.4304209 | G16: =E16*F16 -> 0.015988793 | J16: N2O | K16: =SUMIF($B$4:$B$25,J16,$G$4:$G$25) -> 0.032574383
A17: Semiconductor Manufacture | B17: SF6 | C17: =SUMIFS($D$30:$D$74,$A$30:$A$74,$A17,$B$30:$B$74,$B17) -> 0.0024675 | D17: =SUMIFS($F$30:$F$74,$A$30:$A$74,$A17,$B$30:$B$74,$B17) -> 0.7379 | E17: =C17/D17 -> 0.003343949 | F17: 0.71813042 | G17: =E17*F17 -> 0.0024013915 | J17: HFC | K17: =SUMIF($B$4:$B$25,J17,$G$4:$G$25)+G22 -> 0.72973332
