Workbook

Sheet Company Data
A1: NM Operator Data | J1: NAICS.COM Match Fields | N1: NAICS.COM Appended Record Firmographics | BH1: NAICS.COM Global Ultimate Parent Firmagraphics | CS1: Small Business Administration (SBA) Size Definitions | DD1: (MSCF) | DE1: (BBLS)
A2: COMPANY NAME | B2: PRIMARY ADDRESS | C2: PO BOX | D2: PRIMARY CITY | E2: PRIMARY STATE | F2: PRIMARY ZIP | G2: PRIMARY COUNTRY | H2: PRIMARY PHONE | I2: Input Sequence | J2: Bemfab | K2: Match Method | L2: Match Grade | M2: Confidence Code | N2: DUNS # | O2: Business Name | P2: Tradestyle Name | Q2: Street Address | R2: City Name | S2: State/ Province | T2: Postal Code | U2: Country | V2: Telephone # | W2: Sales Volume | X2: Employees on Site | Y2: Total Employees | Z2: Year Started | AA2: Location Type | AB2: CEO Name | AC2: CEO Title | AD2: Line of Business | AE2: Primary SIC 1 | AF2: Primary SIC 1 Description | AG2: SIC 2 | AH2: SIC 2 Description | AI2: Eight Digit SIC 1 | AJ2: Eight Digit SIC 1 Description | AK2: Eight Digit SIC 2 | AL2: Eight Digit SIC 2 Description | AM2: Primary NAICS 1 Code | AN2: Primary NAICS 1 Description | AO2: NAICS 2 Code | AP2: NAICS 2 Description | AQ2: Subsidiary Indicator | AR2: Global Ult DUNS # | AS2: Global Ult Name | AT2: Global Ult Indicator | AU2: Global Ult State/Prov Abbreviation | AV2: Global Ult Country | AW2: Domestic Ult DUNS # | AX2: Domestic Ult Name | AY2: Domestic Ult State/Prov Abbreviation | AZ2: Domestic Ult Country | BA2: Parent DUNS # | BB2: HQ DUNS # | BC2: HQ/Parent Name | BD2: Hq/Parent State/Prov Abbreviation | BE2: HQ/PARENT COUNTRY | BF2: Hierarchy Code | BG2: Number Of Family Members | BH2: Global DUNS # | BI2: Business Name | BJ2: Tradestyle Name | BK2: Street Address | BL2: City Name | BM2: State/ Province | BN2: Postal Code | BO2: Country | BP2: Telephone # | BQ2: Sales Volume | BR2: Employees on Site | BS2: Total Employees | BT2: Year Started | BU2: Location Type | BV2: CEO Name | BW2: CEO Title | BX2: Line of Business | BY2: Primary SIC 1 | BZ2: Primary SIC 1 Description | CA2: SIC 2 | CB2: SIC 2 Description | CC2: Eight Digit SIC 1 | CD2: Eight Digit SIC 1 Description | CE2: Eight Digit SIC 2 | CF2: Eight Digit SIC 2 Description | CG2: Primary NAICS 1 Code | CH2: Primary NAICS 1 Description | CI2: NAICS 2 Code | CJ2: NAICS 2 Description | CK2: Global Ultimate Parent (GULT) Revenue | CL2: GULT Employment | CM2: NAICS Associated with highest level entity | CN2: GULT Instance | CO2: Accept Match? | CP2: Final Match Disposition | CQ2: Matched with Rev & Emp | CR2: NOTES on Match | CS2: Definition Type | CT2: Revenue Definition | CU2: Employment Definition | CV2: SBA Small? | CW2: GULT Revenue Range | CX2: Clean Name & Address | CY2: Production ID Match | CZ2: Well/Prod Data | DA2: # Non-Stripper Wells | DB2: # Stripper Wells | DC2: Total Number of Wells | DD2: Total Gas (1/2019 – 6/2020) | DE2: Total Oil (1/2019 – 6/2020) | DF2: Avg Revenue/Well | DG2: Total Gas Value (Annual) | DH2: Total Oil Value (Annual) | DI2: Total Oil and Gas Value (Annual) | DJ2: Avg Gas and Oil Value/Wells
A3: Atlantic Richfield Company | B3: 1701 Summit | D3: Plano | E3: TX | F3: 75074 | G3: USA | I3: 23 | J3: A | K3: Standard Match | L3: ABAAAZZ | M3: 10 | N3: 79-606-2503 | O3: Atlantic Richfield Company | P3: A R C O | Q3: 1601 Summit Ave | R3: Plano | S3: Texas | T3: 75074-8110 | U3: USA | V3: 2147543260 | X3: 25 | Y3: 0 | AA3: Branch | AB3: Jim Mc Cullor | AC3: Branch Manager | AD3: Gasoline service stations | AE3: 5541 | AF3: Gasoline Service Stations | AI3: 55419901 | AJ3: Filling stations, gasoline | AM3: 447190 | AN3: Other Gasoline Stations | AQ3: Not a Subsidiary | AR3: 21-004-2669 | AS3: BP P.L.C. | AT3: N | AV3: England | AW3: 03-959-6507 | AX3: BP America Inc | AY3: IL | AZ3: USA | BB3: 04-542-6723 | BC3: Atlantic Richfield Company Inc | BD3: CA | BE3: England | BF3: 3 | BG3: 4401 | BH3: 21-004-2669 | BI3: BP P.L.C. | BJ3: BP | BK3: 1 St. James's Square | BL3: LONDON | BN3: SW1Y 4PD | BO3: England | BP3: 2074964000 | BQ3: 278397000000 | BR3: 0 | BS3: 72500 | BT3: 1909 | BU3: Headquarters | BV3: Melody Boone Meyer | BW3: Director | BX3: Holding companies, nec, nsk | BY3: 6719 | BZ3: Holding Companies, Nec | CC3: 67190000 | CD3: Holding companies, nec | CG3: 551112 | CH3: Offices of Other Holding Companies | CK3: =IF(BQ3>0,BQ3,W3) -> 278397000000 | CL3: =IF(BS3>0,BS3,Y3) -> 72500 | CM3: =IF(CG3>0,CG3,AM3) -> 551112 | CN3: =IF($BH3="",1,COUNTIF($BH$3:$BH3,$BH3)) -> 1 | CP3: =IF($K3="Standard Match","Match",IF($K3="Name Only Match",IF($CO3="Yes","Match","Name Only Match"),"No Match")) -> Match | CQ3: =IF(AND(CP3="Match",CK3>0,CL3>0),"Y","N") -> Y | CS3: =IF($CQ3="Y",VLOOKUP($CM3,'SBA Size Standards'!$B$3:$G$57,MATCH('SBA Size Standards'!$G$3,'SBA Size Standards'!$B$3:$G$3,0),FALSE),"") -> Revenue | CT3: =IF(CQ3="Y",IF($CS3="Employment","N/A",VLOOKUP($CM3,'SBA Size Standards'!$B$3:$G$57,MATCH('SBA Size Standards'!$E$3,'SBA Size Standards'!$B$3:$G$3,0),FALSE)),"") -> 22000000 | CU3: =IF($CQ3="Y",IF($CS3="Revenue","N/A",VLOOKUP($CM3,'SBA Size Standards'!$B$3:$G$57,MATCH('SBA Size Standards'!$F$3,'SBA Size Standards'!$B$3:$G$3,0),FALSE)),"") -> N/A | CV3: =IF($CQ3="Y",IF(OR(AND($CS3="Employment",$CL3<$CU3),AND($CS3="Revenue",$CK3<$CT3)),"YES","NO"),"") -> NO | CW3: =IF($CQ3="Y",INDEX('SBA Size Standards'!$N$3:$N$12,MATCH($CK3,'SBA Size Standards'!$O$3:$O$12,1)),"") -> >$125,000,000,000 | CX3: ATLANTICRICHFIELDCOMPANY1701SUMMITPLANO | CY3: =INDEX('NM O&G Production'!$P$3:$P$537,MATCH(CX3,'NM O&G Production'!$Q$3:$Q$537,0)) -> 23 | CZ3: =INDEX('NM O&G Production'!$O$3:$O$537,MATCH(CY3,'NM O&G Production'!$P$3:$P$537,0)) -> No | DA3: =INDEX('NM O&G Production'!$K$3:$O$537,MATCH($CY3,'NM O&G Production'!$P$3:$P$537,0),MATCH(DA$2,'NM O&G Production'!$K$2:$O$2,0)) -> 0 | DB3: =INDEX('NM O&G Production'!$K$3:$O$537,MATCH($CY3,'NM O&G Production'!$P$3:$P$537,0),MATCH(DB$2,'NM O&G Production'!$K$2:$O$2,0)) -> 0 | DD3: =INDEX('NM O&G Production'!$K$3:$O$537,MATCH($CY3,'NM O&G Production'!$P$3:$P$537,0),MATCH(DD$2,'NM O&G Production'!$K$2:$O$2,0)) -> 0 | DE3: =INDEX('NM O&G Production'!$K$3:$O$537,MATCH($CY3,'NM O&G Production'!$P$3:$P$537,0),MATCH(DE$2,'NM O&G Production'!$K$2:$O$2,0)) -> 0 | DF3: =CK3/(DB3+DA3) -> #DIV/0! | DG3: =DD3*(12/18)*1.06*'Oil and Gas Prices'!$C$18 -> 0 | DH3: =DE3*(12/18)*'Oil and Gas Prices'!$C$4 -> 0 | DJ3: =(DG3+DH3)/(DA3+DB3) -> #DIV/0! | DK3: =CK3/DI3 -> #DIV/0!
A4: BP Pipelines (North America) Inc | B4: 28100 Torch Pkwy | D4: Warrenville | E4: IL | F4: 60555 | G4: USA | I4: 47 | J4: M | K4: Standard Match | L4: AAAAAZZ | M4: 10 | N4: 00-790-7975 | O4: BP Pipelines (north America) Inc. | P4: AMOCO | Q4: 28100 Torch Pkwy Ste 600 | R4: Warrenville | S4: Illinois | T4: 60555-4030 | U4: USA | V4: 6304205111 | W4: 192309022 | X4: 116 | Y4: 900 | Z4: 1916 | AA4: Headquarters | AB4: D Wight | AC4: President | AD4: Gasoline service stations | AE4: 5541 | AF4: Gasoline Service Stations | AG4: 4613 | AH4: Refined Petroleum Pipelines | AI4: 55419901 | AJ4: Filling stations, gasoline | AK4: 46130000 | AL4: Refined petroleum pipelines | AM4: 447190 | AN4: Other Gasoline Stations | AO4: 486910 | AP4: Pipeline Transportation of Refined Petroleum Products | AQ4: Subsidiary | AR4: 21-004-2669 | AS4: BP P.L.C. | AT4: N | AV4: England | AW4: 03-959-6507 | AX4: BP America Inc | AY4: IL | AZ4: USA | BA4: 61-079-3622 | BC4: BP Company North America Inc. | BD4: IL | BE4: England | BF4: 5 | BG4: 4401 | BH4: 21-004-2669 | BI4: BP P.L.C. | BJ4: BP | BK4: 1 St. James's Square | BL4: LONDON | BN4: SW1Y 4PD | BO4: England | BP4: 2074964000 | BQ4: 278397000000 | BR4: 0 | BS4: 72500 | BT4: 1909 | BU4: Headquarters | BV4: Melody Boone Meyer | BW4: Director | BX4: Holding companies, nec, nsk | BY4: 6719 | BZ4: Holding Companies, Nec | CC4: 67190000 | CD4: Holding companies, nec | CG4: 551112 | CH4: Offices of Other Holding Companies | CK4: =IF(BQ4>0,BQ4,W4) -> 278397000000 | CL4: =IF(BS4>0,BS4,Y4) -> 72500 | CM4: =IF(CG4>0,CG4,AM4) -> 551112 | CN4: =IF($BH4="",1,COUNTIF($BH$3:$BH4,$BH4)) -> 2 | CP4: =IF($K4="Standard Match","Match",IF($K4="Name Only Match",IF($CO4="Yes","Match","Name Only Match"),"No Match")) -> Match | CQ4: =IF(AND(CP4="Match",CK4>0,CL4>0),"Y","N") -> Y | CS4: =IF($CQ4="Y",VLOOKUP($CM4,'SBA Size Standards'!$B$3:$G$57,MATCH('SBA Size Standards'!$G$3,'SBA Size Standards'!$B$3:$G$3,0),FALSE),"") -> Revenue | CT4: =IF(CQ4="Y",IF($CS4="Employment","N/A",VLOOKUP($CM4,'SBA Size Standards'!$B$3:$G$57,MATCH('SBA Size Standards'!$E$3,'SBA Size Standards'!$B$3:$G$3,0),FALSE)),"") -> 22000000 | CU4: =IF($CQ4="Y",IF($CS4="Revenue","N/A",VLOOKUP($CM4,'SBA Size Standards'!$B$3:$G$57,MATCH('SBA Size Standards'!$F$3,'SBA Size Standards'!$B$3:$G$3,0),FALSE)),"") -> N/A | CV4: =IF($CQ4="Y",IF(OR(AND($CS4="Employment",$CL4<$CU4),AND($CS4="Revenue",$CK4<$CT4)),"YES","NO"),"") -> NO | CW4: =IF($CQ4="Y",INDEX('SBA Size Standards'!$N$3:$N$12,MATCH($CK4,'SBA Size Standards'!$O$3:$O$12,1)),"") -> >$125,000,000,000 | CX4: BPPIPELINES(NORTHAMERICA)INC28100TORCHPKWYWARRENVILLE | CY4: =INDEX('NM O&G Production'!$P$3:$P$537,MATCH(CX4,'NM O&G Production'!$Q$3:$Q$537,0)) -> 47 | CZ4: =INDEX('NM O&G Production'!$O$3:$O$537,MATCH(CY4,'NM O&G Production'!$P$3:$P$537,0)) -> No | DA4: =INDEX('NM O&G Production'!$K$3:$O$537,MATCH($CY4,'NM O&G Production'!$P$3:$P$537,0),MATCH(DA$2,'NM O&G Production'!$K$2:$O$2,0)) -> 0 | DB4: =INDEX('NM O&G Production'!$K$3:$O$537,MATCH($CY4,'NM O&G Production'!$P$3:$P$537,0),MATCH(DB$2,'NM O&G Production'!$K$2:$O$2,0)) -> 0 | DD4: =INDEX('NM O&G Production'!$K$3:$O$537,MATCH($CY4,'NM O&G Production'!$P$3:$P$537,0),MATCH(DD$2,'NM O&G Production'!$K$2:$O$2,0)) -> 0 | DE4: =INDEX('NM O&G Production'!$K$3:$O$537,MATCH($CY4,'NM O&G Production'!$P$3:$P$537,0),MATCH(DE$2,'NM O&G Production'!$K$2:$O$2,0)) -> 0 | DF4: =CK4/(DB4+DA4) -> #DIV/0! | DG4: =DD4*(12/18)*1.06*'Oil and Gas Prices'!$C$18 -> 0 | DH4: =DE4*(12/18)*'Oil and Gas Prices'!$C$4 -> 0 | DJ4: =(DG4+DH4)/(DA4+DB4) -> #DIV/0! | DK4: =CK4/DI4 -> #DIV/0!
A5: BP America Production Company | B5: 1950 N. Stemmons Frwy. Suite 5010 | C5: PO Box 841560 | D5: Dallas | E5: TX | F5: 75207-1462 | G5: USA | I5: 45 | J5: M | K5: Name Only Match | L5: AZZZZZZ | M5: 8 | N5: 00-896-6889 | O5: BP America Production Company | P5: BP | Q5: 501 Westlake Park Blvd | R5: Houston | S5: Texas | T5: 77079-2604 | U5: USA | V5: 2813662000 | W5: 16946781179 | X5: 4 | Y5: 10300 | Z5: 1930 | AA5: Headquarters | AB5: Bob Dudley | AC5: Chief Executive Officer | AD5: Crude petroleum and natural gas, nsk | AE5: 1311 | AF5: Crude Petroleum and Natural Gas | AG5: 1321 | AH5: Natural Gas Liquids | AI5: 13110101 | AJ5: Crude petroleum production | AK5: 13210000 | AL5: Natural gas liquids | AM5: 211120 | AN5: Crude Petroleum Extraction | AO5: 211130 | AP5: Natural Gas Extraction | AQ5: Subsidiary | AR5: 21-004-2669 | AS5: BP P.L.C. | AT5: N | AV5: England | AW5: 03-959-6507 | AX5: BP America Inc | AY5: IL | AZ5: USA | BA5: 61-079-3622 | BC5: BP Company North America Inc. | BD5: IL | BE5: England | BF5: 5 | BG5: 4401 | BH5: 21-004-2669 | BI5: BP P.L.C. | BJ5: BP | BK5: 1 St. James's Square | BL5: LONDON | BN5: SW1Y 4PD | BO5: England | BP5: 2074964000 | BQ5: 278397000000 | BR5: 0 | BS5: 72500 | BT5: 1909 | BU5: Headquarters | BV5: Melody Boone Meyer | BW5: Director | BX5: Holding companies, nec, nsk | BY5: 6719 | BZ5: Holding Companies, Nec | CC5: 67190000 | CD5: Holding companies, nec | CG5: 551112 | CH5: Offices of Other Holding Companies | CK5: =IF(BQ5>0,BQ5,W5) -> 278397000000 | CL5: =IF(BS5>0,BS5,Y5) -> 72500 | CM5: =IF(CG5>0,CG5,AM5) -> 551112 | CN5: =IF($BH5="",1,COUNTIF($BH$3:$BH5,$BH5)) -> 3 | CO5: Yes | CP5: =IF($K5="Standard Match","Match",IF($K5="Name Only Match",IF($CO5="Yes","Match","Name Only Match"),"No Match")) -> Match | CQ5: =IF(AND(CP5="Match",CK5>0,CL5>0),"Y","N") -> Y | CS5: =IF($CQ5="Y",VLOOKUP($CM5,'SBA Size Standards'!$B$3:$G$57,MATCH('SBA Size Standards'!$G$3,'SBA Size Standards'!$B$3:$G$3,0),FALSE),"") -> Revenue | CT5: =IF(CQ5="Y",IF($CS5="Employment","N/A",VLOOKUP($CM5,'SBA Size Standards'!$B$3:$G$57,MATCH('SBA Size Standards'!$E$3,'SBA Size Standards'!$B$3:$G$3,0),FALSE)),"") -> 22000000 | CU5: =IF($CQ5="Y",IF($CS5="Revenue","N/A",VLOOKUP($CM5,'SBA Size Standards'!$B$3:$G$57,MATCH('SBA Size Standards'!$F$3,'SBA Size Standards'!$B$3:$G$3,0),FALSE)),"") -> N/A | CV5: =IF($CQ5="Y",IF(OR(AND($CS5="Employment",$CL5<$CU5),AND($CS5="Revenue",$CK5<$CT5)),"YES","NO"),"") -> NO | CW5: =IF($CQ5="Y",INDEX('SBA Size Standards'!$N$3:$N$12,MATCH($CK5,'SBA Size Standards'!$O$3:$O$12,1)),"") -> >$125,000,000,000 | CX5: BPAMERICAPRODUCTIONCOMPANY1950NSTEMMONSFRWYSUITE5010DALLAS | CY5: =INDEX('NM O&G Production'!$P$3:$P$537,MATCH(CX5,'NM O&G Production'!$Q$3:$Q$537,0)) -> 45 | CZ5: =INDEX('NM O&G Production'!$O$3:$O$537,MATCH(CY5,'NM O&G Production'!$P$3:$P$537,0)) -> No | DA5: =INDEX('NM O&G Production'!$K$3:$O$537,MATCH($CY5,'NM O&G Production'!$P$3:$P$537,0),MATCH(DA$2,'NM O&G Production'!$K$2:$O$2,0)) -> 0 | DB5: =INDEX('NM O&G Production'!$K$3:$O$537,MATCH($CY5,'NM O&G Production'!$P$3:$P$537,0),MATCH(DB$2,'NM O&G Production'!$K$2:$O$2,0)) -> 0 | DD5: =INDEX('NM O&G Production'!$K$3:$O$537,MATCH($CY5,'NM O&G Production'!$P$3:$P$537,0),MATCH(DD$2,'NM O&G Production'!$K$2:$O$2,0)) -> 0 | DE5: =INDEX('NM O&G Production'!$K$3:$O$537,MATCH($CY5,'NM O&G Production'!$P$3:$P$537,0),MATCH(DE$2,'NM O&G Production'!$K$2:$O$2,0)) -> 0 | DF5: =CK5/(DB5+DA5) -> #DIV/0! | DG5: =DD5*(12/18)*1.06*'Oil and Gas Prices'!$C$18 -> 0 | DH5: =DE5*(12/18)*'Oil and Gas Prices'!$C$4 -> 0 | DJ5: =(DG5+DH5)/(DA5+DB5) -> #DIV/0! | DK5: =CK5/DI5 -> #DIV/0!
A6: BP AMERICA PRODUCTION COMPANY | B6: 1199 Main Avenue | D6: Durango | E6: CO | F6: 81301 | G6: USA | I6: 46 | J6: M | K6: Name Only Match | L6: AZZZZZZ | M6: 8 | N6: 00-896-6889 | O6: BP America Production Company | P6: BP | Q6: 501 Westlake Park Blvd | R6: Houston | S6: Texas | T6: 77079-2604 | U6: USA | V6: 2813662000 | W6: 16946781179 | X6: 4 | Y6: 10300 | Z6: 1930 | AA6: Headquarters | AB6: Bob Dudley | AC6: Chief Executive Officer | AD6: Crude petroleum and natural gas, nsk | AE6: 1311 | AF6: Crude Petroleum and Natural Gas | AG6: 1321 | AH6: Natural Gas Liquids | AI6: 13110101 | AJ6: Crude petroleum production | AK6: 13210000 | AL6: Natural gas liquids | AM6: 211120 | AN6: Crude Petroleum Extraction | AO6: 211130 | AP6: Natural Gas Extraction | AQ6: Subsidiary | AR6: 21-004-2669 | AS6: BP P.L.C. | AT6: N | AV6: England | AW6: 03-959-6507 | AX6: BP America Inc | AY6: IL | AZ6: USA | BA6: 61-079-3622 | BC6: BP Company North America Inc. | BD6: IL | BE6: England | BF6: 5 | BG6: 4401 | BH6: 21-004-2669 | BI6: BP P.L.C. | BJ6: BP | BK6: 1 St. James's Square | BL6: LONDON | BN6: SW1Y 4PD | BO6: England | BP6: 2074964000 | BQ6: 278397000000 | BR6: 0 | BS6: 72500 | BT6: 1909 | BU6: Headquarters | BV6: Melody Boone Meyer | BW6: Director | BX6: Holding companies, nec, nsk | BY6: 6719 | BZ6: Holding Companies, Nec | CC6: 67190000 | CD6: Holding companies, nec | CG6: 551112 | CH6: Offices of Other Holding Companies | CK6: =IF(BQ6>0,BQ6,W6) -> 278397000000 | CL6: =IF(BS6>0,BS6,Y6) -> 72500 | CM6: =IF(CG6>0,CG6,AM6) -> 551112 | CN6: =IF($BH6="",1,COUNTIF($BH$3:$BH6,$BH6)) -> 4 | CO6: Yes | CP6: =IF($K6="Standard Match","Match",IF($K6="Name Only Match",IF($CO6="Yes","Match","Name Only Match"),"No Match")) -> Match | CQ6: =IF(AND(CP6="Match",CK6>0,CL6>0),"Y","N") -> Y | CS6: =IF($CQ6="Y",VLOOKUP($CM6,'SBA Size Standards'!$B$3:$G$57,MATCH('SBA Size Standards'!$G$3,'SBA Size Standards'!$B$3:$G$3,0),FALSE),"") -> Revenue | CT6: =IF(CQ6="Y",IF($CS6="Employment","N/A",VLOOKUP($CM6,'SBA Size Standards'!$B$3:$G$57,MATCH('SBA Size Standards'!$E$3,'SBA Size Standards'!$B$3:$G$3,0),FALSE)),"") -> 22000000 | CU6: =IF($CQ6="Y",IF($CS6="Revenue","N/A",VLOOKUP($CM6,'SBA Size Standards'!$B$3:$G$57,MATCH('SBA Size Standards'!$F$3,'SBA Size Standards'!$B$3:$G$3,0),FALSE)),"") -> N/A | CV6: =IF($CQ6="Y",IF(OR(AND($CS6="Employment",$CL6<$CU6),AND($CS6="Revenue",$CK6<$CT6)),"YES","NO"),"") -> NO | CW6: =IF($CQ6="Y",INDEX('SBA Size Standards'!$N$3:$N$12,MATCH($CK6,'SBA Size Standards'!$O$3:$O$12,1)),"") -> >$125,000,000,000 | CX6: BPAMERICAPRODUCTIONCOMPANY1199MAINAVENUEDURANGO | CY6: =INDEX('NM O&G Production'!$P$3:$P$537,MATCH(CX6,'NM O&G Production'!$Q$3:$Q$537,0)) -> 46 | CZ6: =INDEX('NM O&G Production'!$O$3:$O$537,MATCH(CY6,'NM O&G Production'!$P$3:$P$537,0)) -> Yes | DA6: =INDEX('NM O&G Production'!$K$3:$O$537,MATCH($CY6,'NM O&G Production'!$P$3:$P$537,0),MATCH(DA$2,'NM O&G Production'!$K$2:$O$2,0)) -> 64 | DB6: =INDEX('NM O&G Production'!$K$3:$O$537,MATCH($CY6,'NM O&G Production'!$P$3:$P$537,0),MATCH(DB$2,'NM O&G Production'!$K$2:$O$2,0)) -> 20 | DC6: =DA6+DB6 -> 84 | DD6: =INDEX('NM O&G Production'!$K$3:$O$537,MATCH($CY6,'NM O&G Production'!$P$3:$P$537,0),MATCH(DD$2,'NM O&G Production'!$K$2:$O$2,0)) -> 4016686 | DE6: =INDEX('NM O&G Production'!$K$3:$O$537,MATCH($CY6,'NM O&G Production'!$P$3:$P$537,0),MATCH(DE$2,'NM O&G Production'!$K$2:$O$2,0)) -> 6215 | DF6: =CK6/(DB6+DA6) -> 3314250000 | DG6: =DD6*(12/18)*1.06*'Oil and Gas Prices'!$C$18 -> 6783914.9 | DH6: =DE6*(12/18)*'Oil and Gas Prices'!$C$4 -> 186450 | DI6: =DG6+DH6 -> 6970364.9 | DJ6: =(DG6+DH6)/(DA6+DB6) -> 82980.534
A7: XTO Energy Inc | B7: 22777 Springwood Village Parkway | D7: Spring | E7: TX | F7: 77389 | G7: USA | I7: 530 | J7: M | K7: Standard Match | L7: AAAAAZZ | M7: 10 | N7: 80-471-2347 | O7: Xto Energy Inc. | Q7: 22777 Springwoods Village Pkwy | R7: Spring | S7: Texas | T7: 77389-1425 | U7: USA | V7: 8178702800 | W7: 7278734321 | X7: 300 | Y7: 3335 | Z7: 1990 | AA7: Headquarters | AB7: Randy J Cleveland | AC7: Chief Executive Officer | AD7: Crude petroleum and natural gas, nsk | AE7: 1311 | AF7: Crude Petroleum and Natural Gas | AI7: 13110101 | AJ7: Crude petroleum production | AM7: 211120 | AN7: Crude Petroleum Extraction | AQ7: Subsidiary | AR7: 00-121-3214 | AS7: Exxon Mobil Corporation | AT7: N | AU7: TX | AV7: USA | AW7: 00-121-3214 | AX7: Exxon Mobil Corporation | AY7: TX | AZ7: USA | BA7: 00-121-3214 | BC7: Exxon Mobil Corporation | BD7: TX | BE7: USA | BF7: 2 | BG7: 2523 | BH7: 00-121-3214 | BI7: Exxon Mobil Corporation | BJ7: Exxonmobil | BK7: 5959 Las Colinas Blvd | BL7: Irving | BM7: Texas | BN7: 75039-2298 | BO7: USA | BP7: 9729406000 | BQ7: 181502000000 | BR7: 400 | BS7: 74900 | BT7: 1882 | BU7: Headquarters | BV7: Darren W Woods | BW7: Chairman of the Board | BX7: Petroleum refining | BY7: 2911 | BZ7: Petroleum Refining | CA7: 4612 | CB7: Crude Petroleum Pipelines | CC7: 29110000 | CD7: Petroleum refining | CE7: 46120000 | CF7: Crude petroleum pipelines | CG7: 324110 | CH7: Petroleum Refineries | CI7: 486110 | CJ7: Pipeline Transportation of Crude Oil | CK7: =IF(BQ7>0,BQ7,W7) -> 181502000000 | CL7: =IF(BS7>0,BS7,Y7) -> 74900 | CM7: =IF(CG7>0,CG7,AM7) -> 324110 | CN7: =IF($BH7="",1,COUNTIF($BH$3:$BH7,$BH7)) -> 1 | CP7: =IF($K7="Standard Match","Match",IF($K7="Name Only Match",IF($CO7="Yes","Match","Name Only Match"),"No Match")) -> Match | CQ7: =IF(AND(CP7="Match",CK7>0,CL7>0),"Y","N") -> Y | CS7: =IF($CQ7="Y",VLOOKUP($CM7,'SBA Size Standards'!$B$3:$G$57,MATCH('SBA Size Standards'!$G$3,'SBA Size Standards'!$B$3:$G$3,0),FALSE),"") -> Employment | CT7: =IF(CQ7="Y",IF($CS7="Employment","N/A",VLOOKUP($CM7,'SBA Size Standards'!$B$3:$G$57,MATCH('SBA Size Standards'!$E$3,'SBA Size Standards'!$B$3:$G$3,0),FALSE)),"") -> N/A | CU7: =IF($CQ7="Y",IF($CS7="Revenue","N/A",VLOOKUP($CM7,'SBA Size Standards'!$B$3:$G$57,MATCH('SBA Size Standards'!$F$3,'SBA Size Standards'!$B$3:$G$3,0),FALSE)),"") -> 1500 | CV7: =IF($CQ7="Y",IF(OR(AND($CS7="Employment",$CL7<$CU7),AND($CS7="Revenue",$CK7<$CT7)),"YES","NO"),"") -> NO | CW7: =IF($CQ7="Y",INDEX('SBA Size Standards'!$N$3:$N$12,MATCH($CK7,'SBA Size Standards'!$O$3:$O$12,1)),"") -> >$125,000,000,000 | CX7: XTOENERGYINC22777SPRINGWOODVILLAGEPARKWAYSPRING | CY7: =INDEX('NM O&G Production'!$P$3:$P$537,MATCH(CX7,'NM O&G Production'!$Q$3:$Q$537,0)) -> 530 | CZ7: =INDEX('NM O&G Production'!$O$3:$O$537,MATCH(CY7,'NM O&G Production'!$P$3:$P$537,0)) -> Yes | DA7: =INDEX('NM O&G Production'!$K$3:$O$537,MATCH($CY7,'NM O&G Production'!$P$3:$P$537,0),MATCH(DA$2,'NM O&G Production'!$K$2:$O$2,0)) -> 257 | DB7: =INDEX('NM O&G Production'!$K$3:$O$537,MATCH($CY7,'NM O&G Production'!$P$3:$P$537,0),MATCH(DB$2,'NM O&G Production'!$K$2:$O$2,0)) -> 415 | DC7: =DA7+DB7 -> 672 | DD7: =INDEX('NM O&G Production'!$K$3:$O$537,MATCH($CY7,'NM O&G Production'!$P$3:$P$537,0),MATCH(DD$2,'NM O&G Production'!$K$2:$O$2,0)) -> 62789915 | DE7: =INDEX('NM O&G Production'!$K$3:$O$537,MATCH($CY7,'NM O&G Production'!$P$3:$P$537,0),MATCH(DE$2,'NM O&G Production'!$K$2:$O$2,0)) -> 18308687 | DF7: =CK7/(DB7+DA7) -> 2.7009226e+08 | DG7: =DD7*(12/18)*1.06*'Oil and Gas Prices'!$C$18 -> 1.0604798e+08 | DH7: =DE7*(12/18)*'Oil and Gas Prices'!$C$4 -> 549260610 | DI7: =DG7+DH7 -> 6.5530859e+08 | DJ7: =(DG7+DH7)/(DA7+DB7) -> 975161.59
A8: Western Refining Southwest Inc. Bloomfield Products Terminal | B8: 111 County Rd 4990 | D8: Bloomfield | E8: NM | F8: 87413 | G8: USA | I8: 522 | J8: M | K8: Standard Match | L8: BAFAAZZ | M8: 8 | N8: 00-748-4413 | O8: Western Refining Southwest, Inc. | P8: San Juan Regional Office | Q8: 111 Road 4990 | R8: Bloomfield | S8: New Mexico | T8: 87413-9650 | U8: USA | V8: 5056328006 | X8: 45 | Y8: 0 | AA8: Branch | AB8: Brad Ping | AC8: Branch Manager | AD8: Petroleum refining | AE8: 2911 | AF8: Petroleum Refining | AI8: 29110000 | AJ8: Petroleum refining | AM8: 324110 | AN8: Petroleum Refineries | AQ8: Not a Subsidiary | AR8: 96-839-3996 | AS8: Marathon Petroleum Corporation | AT8: N | AU8: OH | AV8: USA | AW8: 96-839-3996 | AX8: Marathon Petroleum Corporation | AY8: OH | AZ8: USA | BB8: 03-590-3194 | BC8: Western Refining Southwest, Inc. | BD8: AZ | BE8: USA | BF8: 5 | BG8: 4258 | BH8: 96-839-3996 | BI8: Marathon Petroleum Corporation | BJ8: Marathon Petroleum | BK8: 539 S Main St | BL8: Findlay | BM8: Ohio | BN8: 45840-3229 | BO8: USA | BP8: 4194222121 | BQ8: 124813000000 | BR8: 249 | BS8: 60910 | BT8: 1887 | BU8: Headquarters | BV8: Michael J Hennigan | BW8: President | BX8: Petroleum refining | BY8: 2911 | BZ8: Petroleum Refining | CA8: 5172 | CB8: Petroleum Products, Nec | CC8: 29110000 | CD8: Petroleum refining | CE8: 51720203 | CF8: Gasoline | CG8: 324110 | CH8: Petroleum Refineries | CI8: 424720 | CJ8: Petroleum and Petroleum Products Merchant Wholesalers (except Bulk Stations and Terminals) | CK8: =IF(BQ8>0,BQ8,W8) -> 124813000000 | CL8: =IF(BS8>0,BS8,Y8) -> 60910 | CM8: =IF(CG8>0,CG8,AM8) -> 324110 | CN8: =IF($BH8="",1,COUNTIF($BH$3:$BH8,$BH8)) -> 1 | CP8: =IF($K8="Standard Match","Match",IF($K8="Name Only Match",IF($CO8="Yes","Match","Name Only Match"),"No Match")) -> Match | CQ8: =IF(AND(CP8="Match",CK8>0,CL8>0),"Y","N") -> Y | CS8: =IF($CQ8="Y",VLOOKUP($CM8,'SBA Size Standards'!$B$3:$G$57,MATCH('SBA Size Standards'!$G$3,'SBA Size Standards'!$B$3:$G$3,0),FALSE),"") -> Employment | CT8: =IF(CQ8="Y",IF($CS8="Employment","N/A",VLOOKUP($CM8,'SBA Size Standards'!$B$3:$G$57,MATCH('SBA Size Standards'!$E$3,'SBA Size Standards'!$B$3:$G$3,0),FALSE)),"") -> N/A | CU8: =IF($CQ8="Y",IF($CS8="Revenue","N/A",VLOOKUP($CM8,'SBA Size Standards'!$B$3:$G$57,MATCH('SBA Size Standards'!$F$3,'SBA Size Standards'!$B$3:$G$3,0),FALSE)),"") -> 1500 | CV8: =IF($CQ8="Y",IF(OR(AND($CS8="Employment",$CL8<$CU8),AND($CS8="Revenue",$CK8<$CT8)),"YES","NO"),"") -> NO | CW8: =IF($CQ8="Y",INDEX('SBA Size Standards'!$N$3:$N$12,MATCH($CK8,'SBA Size Standards'!$O$3:$O$12,1)),"") -> $1,000,000,001 -$125,000,000,000 | CX8: WESTERNREFININGSOUTHWESTINCBLOOMFIELDPRODUCTSTERMINAL111COUNTYRD4990BLOOMFIELD | CY8: =INDEX('NM O&G Production'!$P$3:$P$537,MATCH(CX8,'NM O&G Production'!$Q$3:$Q$537,0)) -> 522 | CZ8: =INDEX('NM O&G Production'!$O$3:$O$537,MATCH(CY8,'NM O&G Production'!$P$3:$P$537,0)) -> No | DA8: =INDEX('NM O&G Production'!$K$3:$O$537,MATCH($CY8,'NM O&G Production'!$P$3:$P$537,0),MATCH(DA$2,'NM O&G Production'!$K$2:$O$2,0)) -> 0 | DB8: =INDEX('NM O&G Production'!$K$3:$O$537,MATCH($CY8,'NM O&G Production'!$P$3:$P$537,0),MATCH(DB$2,'NM O&G Production'!$K$2:$O$2,0)) -> 0 | DD8: =INDEX('NM O&G Production'!$K$3:$O$537,MATCH($CY8,'NM O&G Production'!$P$3:$P$537,0),MATCH(DD$2,'NM O&G Production'!$K$2:$O$2,0)) -> 0 | DE8: =INDEX('NM O&G Production'!$K$3:$O$537,MATCH($CY8,'NM O&G Production'!$P$3:$P$537,0),MATCH(DE$2,'NM O&G Production'!$K$2:$O$2,0)) -> 0 | DF8: =CK8/(DB8+DA8) -> #DIV/0! | DG8: =DD8*(12/18)*1.06*'Oil and Gas Prices'!$C$18 -> 0 | DH8: =DE8*(12/18)*'Oil and Gas Prices'!$C$4 -> 0 | DJ8: =(DG8+DH8)/(DA8+DB8) -> #DIV/0! | DK8: =CK8/DI8 -> #DIV/0!
A9: Rangeland NM, LLC | B9: 71 Potash Mine Rd | C9: PO Box 721 | D9: Loving | E9: NM | F9: 88256 | G9: USA | I9: 377 | J9: M | K9: Name Only Match | L9: AZZZZZZ | M9: 8 | N9: 07-964-3174 | O9: Rangeland Nm, LLC | Q9: 1675 S State St Ste B | R9: Dover | S9: Delaware | T9: 19901-5140 | U9: USA | V9: 8003166660 | W9: 179408 | X9: 4 | Y9: 4 | Z9: 2013 | AA9: Single Location | AB9: Christopher W Keene | AC9: Chief Executive Officer | AD9: Oil and gas exploration services | AE9: 1382 | AF9: Oil and Gas Exploration Services | AI9: 13820000 | AJ9: Oil and gas exploration services | AM9: 213112 | AN9: Support Activities for Oil and Gas Operations | AQ9: Subsidiary | AR9: 96-839-3996 | AS9: Marathon Petroleum Corporation | AT9: N | AU9: OH | AV9: USA | AW9: 96-839-3996 | AX9: Marathon Petroleum Corporation | AY9: OH | AZ9: USA | BA9: 83-485-7778 | BC9: Rio Andeavor Holdings LLC | BD9: TX | BE9: USA | BF9: 5 | BG9: 4258 | BH9: 96-839-3996 | BI9: Marathon Petroleum Corporation | BJ9: Marathon Petroleum | BK9: 539 S Main St | BL9: Findlay | BM9: Ohio | BN9: 45840-3229 | BO9: USA | BP9: 4194222121 | BQ9: 124813000000 | BR9: 249 | BS9: 60910 | BT9: 1887 | BU9: Headquarters | BV9: Michael J Hennigan | BW9: President | BX9: Petroleum refining | BY9: 2911 | BZ9: Petroleum Refining | CA9: 5172 | CB9: Petroleum Products, Nec | CC9: 29110000 | CD9: Petroleum refining | CE9: 51720203 | CF9: Gasoline | CG9: 324110 | CH9: Petroleum Refineries | CI9: 424720 | CJ9: Petroleum and Petroleum Products Merchant Wholesalers (except Bulk Stations and Terminals) | CK9: =IF(BQ9>0,BQ9,W9) -> 124813000000 | CL9: =IF(BS9>0,BS9,Y9) -> 60910 | CM9: =IF(CG9>0,CG9,AM9) -> 324110 | CN9: =IF($BH9="",1,COUNTIF($BH$3:$BH9,$BH9)) -> 2 | CO9: Yes | CP9: =IF($K9="Standard Match","Match",IF($K9="Name Only Match",IF($CO9="Yes","Match","Name Only Match"),"No Match")) -> Match | CQ9: =IF(AND(CP9="Match",CK9>0,CL9>0),"Y","N") -> Y | CS9: =IF($CQ9="Y",VLOOKUP($CM9,'SBA Size Standards'!$B$3:$G$57,MATCH('SBA Size Standards'!$G$3,'SBA Size Standards'!$B$3:$G$3,0),FALSE),"") -> Employment | CT9: =IF(CQ9="Y",IF($CS9="Employment","N/A",VLOOKUP($CM9,'SBA Size Standards'!$B$3:$G$57,MATCH('SBA Size Standards'!$E$3,'SBA Size Standards'!$B$3:$G$3,0),FALSE)),"") -> N/A | CU9: =IF($CQ9="Y",IF($CS9="Revenue","N/A",VLOOKUP($CM9,'SBA Size Standards'!$B$3:$G$57,MATCH('SBA Size Standards'!$F$3,'SBA Size Standards'!$B$3:$G$3,0),FALSE)),"") -> 1500 | CV9: =IF($CQ9="Y",IF(OR(AND($CS9="Employment",$CL9<$CU9),AND($CS9="Revenue",$CK9<$CT9)),"YES","NO"),"") -> NO | CW9: =IF($CQ9="Y",INDEX('SBA Size Standards'!$N$3:$N$12,MATCH($CK9,'SBA Size Standards'!$O$3:$O$12,1)),"") -> $1,000,000,001 -$125,000,000,000 | CX9: RANGELANDNMLLC71POTASHMINERDLOVING | CY9: =INDEX('NM O&G Production'!$P$3:$P$537,MATCH(CX9,'NM O&G Production'!$Q$3:$Q$537,0)) -> 377 | CZ9: =INDEX('NM O&G Production'!$O$3:$O$537,MATCH(CY9,'NM O&G Production'!$P$3:$P$537,0)) -> No | DA9: =INDEX('NM O&G Production'!$K$3:$O$537,MATCH($CY9,'NM O&G Production'!$P$3:$P$537,0),MATCH(DA$2,'NM O&G Production'!$K$2:$O$2,0)) -> 0 | DB9: =INDEX('NM O&G Production'!$K$3:$O$537,MATCH($CY9,'NM O&G Production'!$P$3:$P$537,0),MATCH(DB$2,'NM O&G Production'!$K$2:$O$2,0)) -> 0 | DD9: =INDEX('NM O&G Production'!$K$3:$O$537,MATCH($CY9,'NM O&G Production'!$P$3:$P$537,0),MATCH(DD$2,'NM O&G Production'!$K$2:$O$2,0)) -> 0 | DE9: =INDEX('NM O&G Production'!$K$3:$O$537,MATCH($CY9,'NM O&G Production'!$P$3:$P$537,0),MATCH(DE$2,'NM O&G Production'!$K$2:$O$2,0)) -> 0 | DF9: =CK9/(DB9+DA9) -> #DIV/0! | DG9: =DD9*(12/18)*1.06*'Oil and Gas Prices'!$C$18 -> 0 | DH9: =DE9*(12/18)*'Oil and Gas Prices'!$C$4 -> 0 | DJ9: =(DG9+DH9)/(DA9+DB9) -> #DIV/0! | DK9: =CK9/DI9 -> #DIV/0!
A10: CHEVRON MIDCONTINENT, L.P. | B10: 6301 Deauville Blvd | D10: Midland | E10: TX | F10: 79706 | G10: USA | I10: 76 | J10: A | K10: Standard Match | L10: BAAAAZZ | M10: 8 | N10: 07-660-4387 | O10: Chevron Companies | Q10: 6301 Deauville | R10: Midland | S10: Texas | T10: 79706-2964 | U10: USA | V10: 4322892900 | W10: 170000 | X10: 3 | Y10: 3 | Z10: 2015 | AA10: Single Location | AD10: Gasoline service stations | AE10: 5541 | AF10: Gasoline Service Stations | AI10: 55419901 | AJ10: Filling stations, gasoline | AM10: 447190 | AN10: Other Gasoline Stations | AQ10: Not a Subsidiary | AT10: N | BF10: 0 | BG10: 0 | BH10: 00-138-2555 | BI10: Chevron Corporation | BJ10: Chevron | BK10: 6001 Bollinger Canyon Rd | BL10: San Ramon | BM10: California | BN10: 94583-5737 | BO10: USA | BP10: 9258421000 | BQ10: 94692000000 | BR10: 277 | BS10: 48200 | BT10: 1926 | BU10: Headquarters | BV10: Michael K Wirth | BW10: Chairman of the Board | BX10: Petroleum Refining | BY10: 2911 | BZ10: Petroleum Refining | CA10: 1311 | CB10: Crude Petroleum and Natural Gas | CC10: 29110000 | CD10: Petroleum refining | CE10: 13110101 | CF10: Crude petroleum production | CG10: 324110 | CH10: Petroleum Refineries | CI10: 211120 | CJ10: Crude Petroleum Extraction | CK10: =IF(BQ10>0,BQ10,W10) -> 94692000000 | CL10: =IF(BS10>0,BS10,Y10) -> 48200 | CM10: =IF(CG10>0,CG10,AM10) -> 324110 | CN10: =IF($BH10="",1,COUNTIF($BH$3:$BH10,$BH10)) -> 1 | CP10: =IF($K10="Standard Match","Match",IF($K10="Name Only Match",IF($CO10="Yes","Match","Name Only Match"),"No Match")) -> Match | CQ10: =IF(AND(CP10="Match",CK10>0,CL10>0),"Y","N") -> Y | CR10: Correct Parent identified 4/8/2021 by NAICS.COM. Record updated | CS10: =IF($CQ10="Y",VLOOKUP($CM10,'SBA Size Standards'!$B$3:$G$57,MATCH('SBA Size Standards'!$G$3,'SBA Size Standards'!$B$3:$G$3,0),FALSE),"") -> Employment | CT10: =IF(CQ10="Y",IF($CS10="Employment","N/A",VLOOKUP($CM10,'SBA Size Standards'!$B$3:$G$57,MATCH('SBA Size Standards'!$E$3,'SBA Size Standards'!$B$3:$G$3,0),FALSE)),"") -> N/A | CU10: =IF($CQ10="Y",IF($CS10="Revenue","N/A",VLOOKUP($CM10,'SBA Size Standards'!$B$3:$G$57,MATCH('SBA Size Standards'!$F$3,'SBA Size Standards'!$B$3:$G$3,0),FALSE)),"") -> 1500 | CV10: =IF($CQ10="Y",IF(OR(AND($CS10="Employment",$CL10<$CU10),AND($CS10="Revenue",$CK10<$CT10)),"YES","NO"),"") -> NO | CW10: =IF($CQ10="Y",INDEX('SBA Size Standards'!$N$3:$N$12,MATCH($CK10,'SBA Size Standards'!$O$3:$O$12,1)),"") -> $1,000,000,001 -$125,000,000,000 | CX10: CHEVRONMIDCONTINENTLP6301DEAUVILLEBLVDMIDLAND | CY10: =INDEX('NM O&G Production'!$P$3:$P$537,MATCH(CX10,'NM O&G Production'!$Q$3:$Q$537,0)) -> 76 | CZ10: =INDEX('NM O&G Production'!$O$3:$O$537,MATCH(CY10,'NM O&G Production'!$P$3:$P$537,0)) -> Yes | DA10: =INDEX('NM O&G Production'!$K$3:$O$537,MATCH($CY10,'NM O&G Production'!$P$3:$P$537,0),MATCH(DA$2,'NM O&G Production'!$K$2:$O$2,0)) -> 489 | DB10: =INDEX('NM O&G Production'!$K$3:$O$537,MATCH($CY10,'NM O&G Production'!$P$3:$P$537,0),MATCH(DB$2,'NM O&G Production'!$K$2:$O$2,0)) -> 852 | DC10: =DA10+DB10 -> 1341 | DD10: =INDEX('NM O&G Production'!$K$3:$O$537,MATCH($CY10,'NM O&G Production'!$P$3:$P$537,0),MATCH(DD$2,'NM O&G Production'!$K$2:$O$2,0)) -> 122694187 | DE10: =INDEX('NM O&G Production'!$K$3:$O$537,MATCH($CY10,'NM O&G Production'!$P$3:$P$537,0),MATCH(DE$2,'NM O&G Production'!$K$2:$O$2,0)) -> 15933919 | DF10: =CK10/(DB10+DA10) -> 70612975 | DG10: =DD10*(12/18)*1.06*'Oil and Gas Prices'!$C$18 -> 2.072223e+08 | DH10: =DE10*(12/18)*'Oil and Gas Prices'!$C$4 -> 478017570 | DI10: =DG10+DH10 -> 6.8523987e+08 | DJ10: =(DG10+DH10)/(DA10+DB10) -> 510991.7
A11: SOUTHWEST ROYALTIES INC | B11: P O BOX 53570 | D11: Midland | E11: TX | F11: 79710 | G11: USA | I11: 445 | J11: M | K11: Standard Match | L11: AZZAAAZ | M11: 10 | N11: 11-877-4025 | O11: Southwest Royalties, Inc. | Q11: 6 Desta Dr Ste 2100 | R11: Midland | S11: Texas | T11: 79705-5556 | U11: USA | V11: 4326883008 | W11: 79461000 | X11: 6 | Y11: 6 | Z11: 1983 | AA11: Headquarters | AB11: Mel G Riggs | AC11: Chief Operating Officer | AD11: Crude petroleum and natural gas, nsk | AE11: 1311 | AF11: Crude Petroleum and Natural Gas | AG11: 6211 | AH11: Security Brokers and Dealers | AI11: 13110101 | AJ11: Crude petroleum production | AK11: 62110304 | AL11: Oil royalties dealers | AM11: 211120 | AN11: Crude Petroleum Extraction | AO11: 523999 | AP11: Miscellaneous Financial Investment Activities | AQ11: Subsidiary | AR11: 00-138-2555 | AS11: Chevron Corporation | AT11: N | AU11: CA | AV11: USA | AW11: 00-138-2555 | AX11: Chevron Corporation | AY11: CA | AZ11: USA | BA11: 05-887-0445 | BC11: Nbl Permian LLC | BD11: TX | BE11: USA | BF11: 5 | BG11: 2264 | BH11: 00-138-2555 | BI11: Chevron Corporation | BJ11: Chevron | BK11: 6001 Bollinger Canyon Rd | BL11: San Ramon | BM11: California | BN11: 94583-5737 | BO11: USA | BP11: 9258421000 | BQ11: 94692000000 | BR11: 277 | BS11: 48200 | BT11: 1926 | BU11: Headquarters | BV11: Michael K Wirth | BW11: Chairman of the Board | BX11: Petroleum refining | BY11: 2911 | BZ11: Petroleum Refining | CA11: 1311 | CB11: Crude Petroleum and Natural Gas | CC11: 29110000 | CD11: Petroleum refining | CE11: 13110101 | CF11: Crude petroleum production | CG11: 324110 | CH11: Petroleum Refineries | CI11: 211120 | CJ11: Crude Petroleum Extraction | CK11: =IF(BQ11>0,BQ11,W11) -> 94692000000 | CL11: =IF(BS11>0,BS11,Y11) -> 48200 | CM11: =IF(CG11>0,CG11,AM11) -> 324110 | CN11: =IF($BH11="",1,COUNTIF($BH$3:$BH11,$BH11)) -> 2 | CP11: =IF($K11="Standard Match","Match",IF($K11="Name Only Match",IF($CO11="Yes","Match","Name Only Match"),"No Match")) -> Match | CQ11: =IF(AND(CP11="Match",CK11>0,CL11>0),"Y","N") -> Y | CS11: =IF($CQ11="Y",VLOOKUP($CM11,'SBA Size Standards'!$B$3:$G$57,MATCH('SBA Size Standards'!$G$3,'SBA Size Standards'!$B$3:$G$3,0),FALSE),"") -> Employment | CT11: =IF(CQ11="Y",IF($CS11="Employment","N/A",VLOOKUP($CM11,'SBA Size Standards'!$B$3:$G$57,MATCH('SBA Size Standards'!$E$3,'SBA Size Standards'!$B$3:$G$3,0),FALSE)),"") -> N/A | CU11: =IF($CQ11="Y",IF($CS11="Revenue","N/A",VLOOKUP($CM11,'SBA Size Standards'!$B$3:$G$57,MATCH('SBA Size Standards'!$F$3,'SBA Size Standards'!$B$3:$G$3,0),FALSE)),"") -> 1500 | CV11: =IF($CQ11="Y",IF(OR(AND($CS11="Employment",$CL11<$CU11),AND($CS11="Revenue",$CK11<$CT11)),"YES","NO"),"") -> NO | CW11: =IF($CQ11="Y",INDEX('SBA Size Standards'!$N$3:$N$12,MATCH($CK11,'SBA Size Standards'!$O$3:$O$12,1)),"") -> $1,000,000,001 -$125,000,000,000 | CX11: SOUTHWESTROYALTIESINCPOBOX53570MIDLAND | CY11: =INDEX('NM O&G Production'!$P$3:$P$537,MATCH(CX11,'NM O&G Production'!$Q$3:$Q$537,0)) -> 445 | CZ11: =INDEX('NM O&G Production'!$O$3:$O$537,MATCH(CY11,'NM O&G Production'!$P$3:$P$537,0)) -> Yes | DA11: =INDEX('NM O&G Production'!$K$3:$O$537,MATCH($CY11,'NM O&G Production'!$P$3:$P$537,0),MATCH(DA$2,'NM O&G Production'!$K$2:$O$2,0)) -> 34 | DB11: =INDEX('NM O&G Production'!$K$3:$O$537,MATCH($CY11,'NM O&G Production'!$P$3:$P$537,0),MATCH(DB$2,'NM O&G Production'!$K$2:$O$2,0)) -> 314 | DC11: =DA11+DB11 -> 348 | DD11: =INDEX('NM O&G Production'!$K$3:$O$537,MATCH($CY11,'NM O&G Production'!$P$3:$P$537,0),MATCH(DD$2,'NM O&G Production'!$K$2:$O$2,0)) -> 3841838 | DE11: =INDEX('NM O&G Production'!$K$3:$O$537,MATCH($CY11,'NM O&G Production'!$P$3:$P$537,0),MATCH(DE$2,'NM O&G Production'!$K$2:$O$2,0)) -> 372234 | DF11: =CK11/(DB11+DA11) -> 2.7210345e+08 | DG11: =DD11*(12/18)*1.06*'Oil and Gas Prices'!$C$18 -> 6488608.3 | DH11: =DE11*(12/18)*'Oil and Gas Prices'!$C$4 -> 11167020 | DI11: =DG11+DH11 -> 17655628 | DJ11: =(DG11+DH11)/(DA11+DB11) -> 50734.564
A12: Energy Transfer Company | B12: 8111 Westchester Dr | D12: Dallas | E12: TX | F12: 75225 | G12: USA | I12: 145 | J12: M | K12: Standard Match | L12: AAAAAZZ | M12: 10 | N12: 00-478-8188 | O12: Houston Pipe Line Company LP | P12: Houston Pipe Line | Q12: 8111 Westchester Dr | R12: Dallas | S12: Texas | T12: 75225-6140 | U12: USA | V12: 2149810700 | W12: 178997479 | X12: 162 | Y12: 266 | Z12: 1989 | AA12: Headquarters | AB12: Kelcy L Warren | AC12: Partner | AD12: Natural gas transmission | AE12: 4922 | AF12: Natural Gas Transmission | AI12: 49229901 | AJ12: Pipelines, natural gas | AM12: 486210 | AN12: Pipeline Transportation of Natural Gas | AQ12: Subsidiary | AR12: 61-079-2264 | AS12: Energy Transfer LP | AT12: N | AU12: TX | AV12: USA | AW12: 61-079-2264 | AX12: Energy Transfer LP | AY12: TX | AZ12: USA | BA12: 06-471-7981 | BC12: Energy Transfer Operating, L.P. | BD12: TX | BE12: USA | BF12: 3 | BG12: 2217 | BH12: 61-079-2264 | BI12: Energy Transfer LP | BJ12: ENERGY TRANSFER | BK12: 8111 Westchester Dr Ste 600 | BL12: Dallas | BM12: Texas | BN12: 75225-6142 | BO12: USA | BP12: 2149810700 | BQ12: 38954000000 | BR12: 144 | BS12: 12812 | BT12: 1996 | BU12: Headquarters | BV12: Kelcy L Warren | BW12: Chairman of the Board | BX12: Natural gas transmission | BY12: 4922 | BZ12: Natural Gas Transmission | CA12: 4923 | CB12: Gas Transmission and Distribution | CC12: 49229901 | CD12: Pipelines, natural gas | CE12: 49230000 | CF12: Gas transmission and distribution | CG12: 486210 | CH12: Pipeline Transportation of Natural Gas | CI12: 221210 | CJ12: Natural Gas Distribution | CK12: =IF(BQ12>0,BQ12,W12) -> 38954000000 | CL12: =IF(BS12>0,BS12,Y12) -> 12812 | CM12: =IF(CG12>0,CG12,AM12) -> 486210 | CN12: =IF($BH12="",1,COUNTIF($BH$3:$BH12,$BH12)) -> 1 | CP12: =IF($K12="Standard Match","Match",IF($K12="Name Only Match",IF($CO12="Yes","Match","Name Only Match"),"No Match")) -> Match | CQ12: =IF(AND(CP12="Match",CK12>0,CL12>0),"Y","N") -> Y | CS12: =IF($CQ12="Y",VLOOKUP($CM12,'SBA Size Standards'!$B$3:$G$57,MATCH('SBA Size Standards'!$G$3,'SBA Size Standards'!$B$3:$G$3,0),FALSE),"") -> Revenue | CT12: =IF(CQ12="Y",IF($CS12="Employment","N/A",VLOOKUP($CM12,'SBA Size Standards'!$B$3:$G$57,MATCH('SBA Size Standards'!$E$3,'SBA Size Standards'!$B$3:$G$3,0),FALSE)),"") -> 30000000 | CU12: =IF($CQ12="Y",IF($CS12="Revenue","N/A",VLOOKUP($CM12,'SBA Size Standards'!$B$3:$G$57,MATCH('SBA Size Standards'!$F$3,'SBA Size Standards'!$B$3:$G$3,0),FALSE)),"") -> N/A | CV12: =IF($CQ12="Y",IF(OR(AND($CS12="Employment",$CL12<$CU12),AND($CS12="Revenue",$CK12<$CT12)),"YES","NO"),"") -> NO | CW12: =IF($CQ12="Y",INDEX('SBA Size Standards'!$N$3:$N$12,MATCH($CK12,'SBA Size Standards'!$O$3:$O$12,1)),"") -> $1,000,000,001 -$125,000,000,000 | CX12: ENERGYTRANSFERCOMPANY8111WESTCHESTERDRDALLAS | CY12: =INDEX('NM O&G Production'!$P$3:$P$537,MATCH(CX12,'NM O&G Production'!$Q$3:$Q$537,0)) -> 145 | CZ12: =INDEX('NM O&G Production'!$O$3:$O$537,MATCH(CY12,'NM O&G Production'!$P$3:$P$537,0)) -> No | DA12: =INDEX('NM O&G Production'!$K$3:$O$537,MATCH($CY12,'NM O&G Production'!$P$3:$P$537,0),MATCH(DA$2,'NM O&G Production'!$K$2:$O$2,0)) -> 0 | DB12: =INDEX('NM O&G Production'!$K$3:$O$537,MATCH($CY12,'NM O&G Production'!$P$3:$P$537,0),MATCH(DB$2,'NM O&G Production'!$K$2:$O$2,0)) -> 0 | DD12: =INDEX('NM O&G Production'!$K$3:$O$537,MATCH($CY12,'NM O&G Production'!$P$3:$P$537,0),MATCH(DD$2,'NM O&G Production'!$K$2:$O$2,0)) -> 0 | DE12: =INDEX('NM O&G Production'!$K$3:$O$537,MATCH($CY12,'NM O&G Production'!$P$3:$P$537,0),MATCH(DE$2,'NM O&G Production'!$K$2:$O$2,0)) -> 0 | DF12: =CK12/(DB12+DA12) -> #DIV/0! | DG12: =DD12*(12/18)*1.06*'Oil and Gas Prices'!$C$18 -> 0 | DH12: =DE12*(12/18)*'Oil and Gas Prices'!$C$4 -> 0 | DJ12: =(DG12+DH12)/(DA12+DB12) -> #DIV/0! | DK12: =CK12/DI12 -> #DIV/0!
A13: Transwestern Pipeline Company, LLC | B13: 6381 North Main Street | D13: Roswell | E13: NM | F13: 88201 | G13: USA | I13: 488 | J13: M | K13: Standard Match | L13: AAAAAZZ | M13: 10 | N13: 12-334-4285 | O13: Transwestern Pipeline Company, LLC | Q13: 6381 N Main St | R13: Roswell | S13: New Mexico | T13: 88201-9485 | U13: USA | V13: 5756232761 | X13: 30 | Y13: 0 | AA13: Branch | AB13: Greg McIlwain | AC13: Principal | AD13: Natural gas transmission | AE13: 4922 | AF13: Natural Gas Transmission | AI13: 49229901 | AJ13: Pipelines, natural gas | AM13: 486210 | AN13: Pipeline Transportation of Natural Gas | AQ13: Not a Subsidiary | AR13: 61-079-2264 | AS13: Energy Transfer LP | AT13: N | AU13: TX | AV13: USA | AW13: 61-079-2264 | AX13: Energy Transfer LP | AY13: TX | AZ13: USA | BB13: 00-793-3047 | BC13: Transwestern Pipeline Company, LLC | BD13: TX | BE13: USA | BF13: 4 | BG13: 2217 | BH13: 61-079-2264 | BI13: Energy Transfer LP | BJ13: ENERGY TRANSFER | BK13: 8111 Westchester Dr Ste 600 | BL13: Dallas | BM13: Texas | BN13: 75225-6142 | BO13: USA | BP13: 2149810700 | BQ13: 38954000000 | BR13: 144 | BS13: 12812 | BT13: 1996 | BU13: Headquarters | BV13: Kelcy L Warren | BW13: Chairman of the Board | BX13: Natural gas transmission | BY13: 4922 | BZ13: Natural Gas Transmission | CA13: 4923 | CB13: Gas Transmission and Distribution | CC13: 49229901 | CD13: Pipelines, natural gas | CE13: 49230000 | CF13: Gas transmission and distribution | CG13: 486210 | CH13: Pipeline Transportation of Natural Gas | CI13: 221210 | CJ13: Natural Gas Distribution | CK13: =IF(BQ13>0,BQ13,W13) -> 38954000000 | CL13: =IF(BS13>0,BS13,Y13) -> 12812 | CM13: =IF(CG13>0,CG13,AM13) -> 486210 | CN13: =IF($BH13="",1,COUNTIF($BH$3:$BH13,$BH13)) -> 2 | CP13: =IF($K13="Standard Match","Match",IF($K13="Name Only Match",IF($CO13="Yes","Match","Name Only Match"),"No Match")) -> Match | CQ13: =IF(AND(CP13="Match",CK13>0,CL13>0),"Y","N") -> Y | CS13: =IF($CQ13="Y",VLOOKUP($CM13,'SBA Size Standards'!$B$3:$G$57,MATCH('SBA Size Standards'!$G$3,'SBA Size Standards'!$B$3:$G$3,0),FALSE),"") -> Revenue | CT13: =IF(CQ13="Y",IF($CS13="Employment","N/A",VLOOKUP($CM13,'SBA Size Standards'!$B$3:$G$57,MATCH('SBA Size Standards'!$E$3,'SBA Size Standards'!$B$3:$G$3,0),FALSE)),"") -> 30000000 | CU13: =IF($CQ13="Y",IF($CS13="Revenue","N/A",VLOOKUP($CM13,'SBA Size Standards'!$B$3:$G$57,MATCH('SBA Size Standards'!$F$3,'SBA Size Standards'!$B$3:$G$3,0),FALSE)),"") -> N/A | CV13: =IF($CQ13="Y",IF(OR(AND($CS13="Employment",$CL13<$CU13),AND($CS13="Revenue",$CK13<$CT13)),"YES","NO"),"") -> NO | CW13: =IF($CQ13="Y",INDEX('SBA Size Standards'!$N$3:$N$12,MATCH($CK13,'SBA Size Standards'!$O$3:$O$12,1)),"") -> $1,000,000,001 -$125,000,000,000 | CX13: TRANSWESTERNPIPELINECOMPANYLLC6381NORTHMAINSTREETROSWELL | CY13: =INDEX('NM O&G Production'!$P$3:$P$537,MATCH(CX13,'NM O&G Production'!$Q$3:$Q$537,0)) -> 488 | CZ13: =INDEX('NM O&G Production'!$O$3:$O$537,MATCH(CY13,'NM O&G Production'!$P$3:$P$537,0)) -> No | DA13: =INDEX('NM O&G Production'!$K$3:$O$537,MATCH($CY13,'NM O&G Production'!$P$3:$P$537,0),MATCH(DA$2,'NM O&G Production'!$K$2:$O$2,0)) -> 0 | DB13: =INDEX('NM O&G Production'!$K$3:$O$537,MATCH($CY13,'NM O&G Production'!$P$3:$P$537,0),MATCH(DB$2,'NM O&G Production'!$K$2:$O$2,0)) -> 0 | DD13: =INDEX('NM O&G Production'!$K$3:$O$537,MATCH($CY13,'NM O&G Production'!$P$3:$P$537,0),MATCH(DD$2,'NM O&G Production'!$K$2:$O$2,0)) -> 0 | DE13: =INDEX('NM O&G Production'!$K$3:$O$537,MATCH($CY13,'NM O&G Production'!$P$3:$P$537,0),MATCH(DE$2,'NM O&G Production'!$K$2:$O$2,0)) -> 0 | DF13: =CK13/(DB13+DA13) -> #DIV/0! | DG13: =DD13*(12/18)*1.06*'Oil and Gas Prices'!$C$18 -> 0 | DH13: =DE13*(12/18)*'Oil and Gas Prices'!$C$4 -> 0 | DJ13: =(DG13+DH13)/(DA13+DB13) -> #DIV/0! | DK13: =CK13/DI13 -> #DIV/0!
A14: Koch Exploration Company LLC | B14: 9777 Mount Pyramid Court | D14: Englewood | E14: CO | F14: 80112 | G14: USA | I14: 252 | J14: M | K14: Name Only Match | L14: AZZZZZZ | M14: 8 | N14: 10-561-5749 | O14: Koch Exploration Company, LLC | Q14: 4111 E 37TH St N | R14: Wichita | S14: Kansas | T14: 67220-3203 | U14: USA | V14: 3168285508 | W14: 1143863 | X14: 6 | Y14: 6 | Z14: 2001 | AA14: Headquarters | AB14: John Mueller | AC14: President | AD14: Oil and gas exploration services | AE14: 1382 | AF14: Oil and Gas Exploration Services | AI14: 13820000 | AJ14: Oil and gas exploration services | AM14: 213112 | AN14: Support Activities for Oil and Gas Operations | AQ14: Subsidiary | AR14: 00-694-4334 | AS14: Koch Industries, Inc. | AT14: N | AU14: KS | AV14: USA | AW14: 00-694-4334 | AX14: Koch Industries, Inc. | AY14: KS | AZ14: USA | BA14: 00-694-4334 | BC14: Koch Industries, Inc. | BD14: KS | BE14: USA | BF14: 2 | BG14: 1341 | BH14: 00-694-4334 | BI14: Koch Industries, Inc. | BK14: 4111 E 37TH St N | BL14: Wichita | BM14: Kansas | BN14: 67220-3298 | BO14: USA | BP14: 3168285500 | BQ14: 36877253988 | BR14: 2100 | BS14: 70000 | BT14: 1940 | BU14: Headquarters | BV14: Charles G Koch | BW14: Chief Executive Officer | BX14: Petroleum products, nec | BY14: 5172 | BZ14: Petroleum Products, Nec | CA14: 5169 | CB14: Chemicals and Allied Products, Nec | CC14: 51720000 | CD14: Petroleum products, nec | CE14: 51690000 | CF14: Chemicals and allied products, nec | CG14: 424720 | CH14: Petroleum and Petroleum Products Merchant Wholesalers (except Bulk Stations and Terminals) | CI14: 424690 | CJ14: Other Chemical and Allied Products Merchant Wholesalers | CK14: =IF(BQ14>0,BQ14,W14) -> 36877253988 | CL14: =IF(BS14>0,BS14,Y14) -> 70000 | CM14: =IF(CG14>0,CG14,AM14) -> 424720 | CN14: =IF($BH14="",1,COUNTIF($BH$3:$BH14,$BH14)) -> 1 | CO14: Yes | CP14: =IF($K14="Standard Match","Match",IF($K14="Name Only Match",IF($CO14="Yes","Match","Name Only Match"),"No Match")) -> Match | CQ14: =IF(AND(CP14="Match",CK14>0,CL14>0),"Y","N") -> Y | CS14: =IF($CQ14="Y",VLOOKUP($CM14,'SBA Size Standards'!$B$3:$G$57,MATCH('SBA Size Standards'!$G$3,'SBA Size Standards'!$B$3:$G$3,0),FALSE),"") -> Employment | CT14: =IF(CQ14="Y",IF($CS14="Employment","N/A",VLOOKUP($CM14,'SBA Size Standards'!$B$3:$G$57,MATCH('SBA Size Standards'!$E$3,'SBA Size Standards'!$B$3:$G$3,0),FALSE)),"") -> N/A | CU14: =IF($CQ14="Y",IF($CS14="Revenue","N/A",VLOOKUP($CM14,'SBA Size Standards'!$B$3:$G$57,MATCH('SBA Size Standards'!$F$3,'SBA Size Standards'!$B$3:$G$3,0),FALSE)),"") -> 200 | CV14: =IF($CQ14="Y",IF(OR(AND($CS14="Employment",$CL14<$CU14),AND($CS14="Revenue",$CK14<$CT14)),"YES","NO"),"") -> NO | CW14: =IF($CQ14="Y",INDEX('SBA Size Standards'!$N$3:$N$12,MATCH($CK14,'SBA Size Standards'!$O$3:$O$12,1)),"") -> $1,000,000,001 -$125,000,000,000 | CX14: KOCHEXPLORATIONCOMPANYLLC9777MOUNTPYRAMIDCOURTENGLEWOOD | CY14: =INDEX('NM O&G Production'!$P$3:$P$537,MATCH(CX14,'NM O&G Production'!$Q$3:$Q$537,0)) -> 252 | CZ14: =INDEX('NM O&G Production'!$O$3:$O$537,MATCH(CY14,'NM O&G Production'!$P$3:$P$537,0)) -> No | DA14: =INDEX('NM O&G Production'!$K$3:$O$537,MATCH($CY14,'NM O&G Production'!$P$3:$P$537,0),MATCH(DA$2,'NM O&G Production'!$K$2:$O$2,0)) -> 0 | DB14: =INDEX('NM O&G Production'!$K$3:$O$537,MATCH($CY14,'NM O&G Production'!$P$3:$P$537,0),MATCH(DB$2,'NM O&G Production'!$K$2:$O$2,0)) -> 0 | DD14: =INDEX('NM O&G Production'!$K$3:$O$537,MATCH($CY14,'NM O&G Production'!$P$3:$P$537,0),MATCH(DD$2,'NM O&G Production'!$K$2:$O$2,0)) -> 0 | DE14: =INDEX('NM O&G Production'!$K$3:$O$537,MATCH($CY14,'NM O&G Production'!$P$3:$P$537,0),MATCH(DE$2,'NM O&G Production'!$K$2:$O$2,0)) -> 0 | DF14: =CK14/(DB14+DA14) -> #DIV/0! | DG14: =DD14*(12/18)*1.06*'Oil and Gas Prices'!$C$18 -> 0 | DH14: =DE14*(12/18)*'Oil and Gas Prices'!$C$4 -> 0 | DJ14: =(DG14+DH14)/(DA14+DB14) -> #DIV/0! | DK14: =CK14/DI14 -> #DIV/0!
A15: Plains Marketing LP | B15: 10 Desta Drive | D15: Midland | E15: TX | F15: 79705 | G15: USA | I15: 361 | J15: M | K15: Name Only Match | L15: AZZZZZZ | M15: 8 | N15: 12-725-2153 | O15: Plains Marketing, L.P. | P15: Plains All American Pipeline | Q15: 333 Clay St Ste 1600 | R15: Houston | S15: Texas | T15: 77002-4101 | U15: USA | V15: 7136464100 | W15: 1438073070 | X15: 60 | Y15: 321 | Z15: 1997 | AA15: Headquarters | AB15: Greg L Armstrong | AC15: Member | AD15: Petroleum products, nec | AE15: 5172 | AF15: Petroleum Products, Nec | AG15: 4213 | AH15: Trucking, Except Local | AI15: 51729901 | AJ15: Crude oil | AK15: 42139908 | AL15: Liquid petroleum transport, non-local | AM15: 424720 | AN15: Petroleum and Petroleum Products Merchant Wholesalers (except Bulk Stations and Terminals) | AO15: 484230 | AP15: Specialized Freight (except Used Goods) Trucking, Long-Distance | AQ15: Subsidiary | AR15: 80-857-2916 | AS15: Plains GP Holdings, L.P. | AT15: N | AU15: TX | AV15: USA | AW15: 80-857-2916 | AX15: Plains GP Holdings, L.P. | AY15: TX | AZ15: USA | BA15: 03-617-0624 | BC15: Plains All American Pipeline L.P. | BD15: TX | BE15: USA | BF15: 3 | BG15: 188 | BH15: 80-857-2916 | BI15: Plains GP Holdings, L.P. | BJ15: PLAINS GP HOLDINGS | BK15: 333 Clay St Ste 1600 | BL15: Houston | BM15: Texas | BN15: 77002-4101 | BO15: USA | BP15: 7136464100 | BQ15: 33669000000 | BR15: 23 | BS15: 5000 | BT15: 2013 | BU15: Headquarters | BV15: Willie Chiang | BW15: Chairman of the Board | BX15: Crude petroleum pipelines | BY15: 4612 | BZ15: Crude Petroleum Pipelines | CA15: 1321 | CB15: Natural Gas Liquids | CC15: 46120000 | CD15: Crude petroleum pipelines | CE15: 13210000 | CF15: Natural gas liquids | CG15: 486110 | CH15: Pipeline Transportation of Crude Oil | CI15: 211130 | CJ15: Natural Gas Extraction | CK15: =IF(BQ15>0,BQ15,W15) -> 33669000000 | CL15: =IF(BS15>0,BS15,Y15) -> 5000 | CM15: =IF(CG15>0,CG15,AM15) -> 486110 | CN15: =IF($BH15="",1,COUNTIF($BH$3:$BH15,$BH15)) -> 1 | CO15: Yes | CP15: =IF($K15="Standard Match","Match",IF($K15="Name Only Match",IF($CO15="Yes","Match","Name Only Match"),"No Match")) -> Match | CQ15: =IF(AND(CP15="Match",CK15>0,CL15>0),"Y","N") -> Y | CS15: =IF($CQ15="Y",VLOOKUP($CM15,'SBA Size Standards'!$B$3:$G$57,MATCH('SBA Size Standards'!$G$3,'SBA Size Standards'!$B$3:$G$3,0),FALSE),"") -> Employment | CT15: =IF(CQ15="Y",IF($CS15="Employment","N/A",VLOOKUP($CM15,'SBA Size Standards'!$B$3:$G$57,MATCH('SBA Size Standards'!$E$3,'SBA Size Standards'!$B$3:$G$3,0),FALSE)),"") -> N/A | CU15: =IF($CQ15="Y",IF($CS15="Revenue","N/A",VLOOKUP($CM15,'SBA Size Standards'!$B$3:$G$57,MATCH('SBA Size Standards'!$F$3,'SBA Size Standards'!$B$3:$G$3,0),FALSE)),"") -> 1500 | CV15: =IF($CQ15="Y",IF(OR(AND($CS15="Employment",$CL15<$CU15),AND($CS15="Revenue",$CK15<$CT15)),"YES","NO"),"") -> NO | CW15: =IF($CQ15="Y",INDEX('SBA Size Standards'!$N$3:$N$12,MATCH($CK15,'SBA Size Standards'!$O$3:$O$12,1)),"") -> $1,000,000,001 -$125,000,000,000 | CX15: PLAINSMARKETINGLP10DESTADRIVEMIDLAND | CY15: =INDEX('NM O&G Production'!$P$3:$P$537,MATCH(CX15,'NM O&G Production'!$Q$3:$Q$537,0)) -> 361 | CZ15: =INDEX('NM O&G Production'!$O$3:$O$537,MATCH(CY15,'NM O&G Production'!$P$3:$P$537,0)) -> No | DA15: =INDEX('NM O&G Production'!$K$3:$O$537,MATCH($CY15,'NM O&G Production'!$P$3:$P$537,0),MATCH(DA$2,'NM O&G Production'!$K$2:$O$2,0)) -> 0 | DB15: =INDEX('NM O&G Production'!$K$3:$O$537,MATCH($CY15,'NM O&G Production'!$P$3:$P$537,0),MATCH(DB$2,'NM O&G Production'!$K$2:$O$2,0)) -> 0 | DD15: =INDEX('NM O&G Production'!$K$3:$O$537,MATCH($CY15,'NM O&G Production'!$P$3:$P$537,0),MATCH(DD$2,'NM O&G Production'!$K$2:$O$2,0)) -> 0 | DE15: =INDEX('NM O&G Production'!$K$3:$O$537,MATCH($CY15,'NM O&G Production'!$P$3:$P$537,0),MATCH(DE$2,'NM O&G Production'!$K$2:$O$2,0)) -> 0 | DF15: =CK15/(DB15+DA15) -> #DIV/0! | DG15: =DD15*(12/18)*1.06*'Oil and Gas Prices'!$C$18 -> 0 | DH15: =DE15*(12/18)*'Oil and Gas Prices'!$C$4 -> 0 | DJ15: =(DG15+DH15)/(DA15+DB15) -> #DIV/0! | DK15: =CK15/DI15 -> #DIV/0!
A16: Mid-America Pipeline Company LLC | B16: PO Box 4324 | D16: Houston | E16: TX | F16: 77210 | G16: USA | I16: 308 | J16: M | K16: Standard Match | L16: AZZAAAZ | M16: 10 | N16: 14-523-7876 | O16: Mid-America Pipeline Company, LLC | Q16: 1100 Louisiana St Ste 1000 | R16: Houston | S16: Texas | T16: 77002-7499 | U16: USA | V16: 7138806500 | W16: 617166444 | X16: 28 | Y16: 250 | Z16: 2002 | AA16: Headquarters | AB16: J M Collingsworth | AC16: Member | AD16: Natural gas transmission | AE16: 4922 | AF16: Natural Gas Transmission | AI16: 49229901 | AJ16: Pipelines, natural gas | AM16: 486210 | AN16: Pipeline Transportation of Natural Gas | AQ16: Subsidiary | AR16: 02-795-3129 | AS16: Enterprise Products Partners L.P. | AT16: N | AU16: TX | AV16: USA | AW16: 02-795-3129 | AX16: Enterprise Products Partners L.P. | AY16: TX | AZ16: USA | BA16: 04-821-0686 | BC16: Enterprise Products Company | BD16: TX | BE16: USA | BF16: 3 | BG16: 311 | BH16: 02-795-3129 | BI16: Enterprise Products Partners L.P. | BK16: 1100 Louisiana St FL 10 | BL16: Houston | BM16: Texas | BN16: 77002-5432 | BO16: USA | BP16: 7133816500 | BQ16: 32789200000 | BR16: 149 | BS16: 7300 | BT16: 1968 | BU16: Headquarters | BV16: A James Teague | BW16: Co-Chief Executive Officer | BX16: Natural gas transmission | BY16: 4922 | BZ16: Natural Gas Transmission | CA16: 4925 | CB16: Gas Production and/or Distribution | CC16: 49229901 | CD16: Pipelines, natural gas | CE16: 49250000 | CF16: Gas production and/or distribution | CG16: 486210 | CH16: Pipeline Transportation of Natural Gas | CI16: 221210 | CJ16: Natural Gas Distribution | CK16: =IF(BQ16>0,BQ16,W16) -> 32789200000 | CL16: =IF(BS16>0,BS16,Y16) -> 7300 | CM16: =IF(CG16>0,CG16,AM16) -> 486210 | CN16: =IF($BH16="",1,COUNTIF($BH$3:$BH16,$BH16)) -> 1 | CP16: =IF($K16="Standard Match","Match",IF($K16="Name Only Match",IF($CO16="Yes","Match","Name Only Match"),"No Match")) -> Match | CQ16: =IF(AND(CP16="Match",CK16>0,CL16>0),"Y","N") -> Y | CS16: =IF($CQ16="Y",VLOOKUP($CM16,'SBA Size Standards'!$B$3:$G$57,MATCH('SBA Size Standards'!$G$3,'SBA Size Standards'!$B$3:$G$3,0),FALSE),"") -> Revenue | CT16: =IF(CQ16="Y",IF($CS16="Employment","N/A",VLOOKUP($CM16,'SBA Size Standards'!$B$3:$G$57,MATCH('SBA Size Standards'!$E$3,'SBA Size Standards'!$B$3:$G$3,0),FALSE)),"") -> 30000000 | CU16: =IF($CQ16="Y",IF($CS16="Revenue","N/A",VLOOKUP($CM16,'SBA Size Standards'!$B$3:$G$57,MATCH('SBA Size Standards'!$F$3,'SBA Size Standards'!$B$3:$G$3,0),FALSE)),"") -> N/A | CV16: =IF($CQ16="Y",IF(OR(AND($CS16="Employment",$CL16<$CU16),AND($CS16="Revenue",$CK16<$CT16)),"YES","NO"),"") -> NO | CW16: =IF($CQ16="Y",INDEX('SBA Size Standards'!$N$3:$N$12,MATCH($CK16,'SBA Size Standards'!$O$3:$O$12,1)),"") -> $1,000,000,001 -$125,000,000,000 | CX16: MIDAMERICAPIPELINECOMPANYLLCPOBOX4324HOUSTON | CY16: =INDEX('NM O&G Production'!$P$3:$P$537,MATCH(CX16,'NM O&G Production'!$Q$3:$Q$537,0)) -> 308 | CZ16: =INDEX('NM O&G Production'!$O$3:$O$537,MATCH(CY16,'NM O&G Production'!$P$3:$P$537,0)) -> No | DA16: =INDEX('NM O&G Production'!$K$3:$O$537,MATCH($CY16,'NM O&G Production'!$P$3:$P$537,0),MATCH(DA$2,'NM O&G Production'!$K$2:$O$2,0)) -> 0 | DB16: =INDEX('NM O&G Production'!$K$3:$O$537,MATCH($CY16,'NM O&G Production'!$P$3:$P$537,0),MATCH(DB$2,'NM O&G Production'!$K$2:$O$2,0)) -> 0 | DD16: =INDEX('NM O&G Production'!$K$3:$O$537,MATCH($CY16,'NM O&G Production'!$P$3:$P$537,0),MATCH(DD$2,'NM O&G Production'!$K$2:$O$2,0)) -> 0 | DE16: =INDEX('NM O&G Production'!$K$3:$O$537,MATCH($CY16,'NM O&G Production'!$P$3:$P$537,0),MATCH(DE$2,'NM O&G Production'!$K$2:$O$2,0)) -> 0 | DF16: =CK16/(DB16+DA16) -> #DIV/0! | DG16: =DD16*(12/18)*1.06*'Oil and Gas Prices'!$C$18 -> 0 | DH16: =DE16*(12/18)*'Oil and Gas Prices'!$C$4 -> 0 | DJ16: =(DG16+DH16)/(DA16+DB16) -> #DIV/0! | DK16: =CK16/DI16 -> #DIV/0!
A17: Enterprise Field Services, LLC | B17: PO Box 4324 | D17: Houston | E17: TX | F17: 77208 | G17: USA | I17: 151 | J17: M | K17: Standard Match | L17: AZZAAZZ | M17: 8 | N17: 13-547-6534 | O17: Enterprise Field Services, LLC | Q17: 1100 Louisiana St FL 14 | R17: Houston | S17: Texas | T17: 77002-5427 | U17: USA | V17: 7133816500 | W17: 582540 | X17: 3 | Y17: 3 | Z17: 1997 | AA17: Single Location | AB17: Michael A Creel | AC17: Chief Executive Officer | AD17: Heavy construction, nec, nsk | AE17: 1629 | AF17: Heavy Construction, Nec | AI17: 16290503 | AJ17: Oil refinery construction | AM17: 237120 | AN17: Oil and Gas Pipeline and Related Structures Construction | AQ17: Subsidiary | AR17: 02-795-3129 | AS17: Enterprise Products Partners L.P. | AT17: N | AU17: TX | AV17: USA | AW17: 02-795-3129 | AX17: Enterprise Products Partners L.P. | AY17: TX | AZ17: USA | BA17: 02-795-3129 | BC17: Enterprise Products Partners L.P. | BD17: TX | BE17: USA | BF17: 2 | BG17: 311 | BH17: 02-795-3129 | BI17: Enterprise Products Partners L.P. | BK17: 1100 Louisiana St FL 10 | BL17: Houston | BM17: Texas | BN17: 77002-5432 | BO17: USA | BP17: 7133816500 | BQ17: 32789200000 | BR17: 149 | BS17: 7300 | BT17: 1968 | BU17: Headquarters | BV17: A James Teague | BW17: Co-Chief Executive Officer | BX17: Natural gas transmission | BY17: 4922 | BZ17: Natural Gas Transmission | CA17: 4925 | CB17: Gas Production and/or Distribution | CC17: 49229901 | CD17: Pipelines, natural gas | CE17: 49250000 | CF17: Gas production and/or distribution | CG17: 486210 | CH17: Pipeline Transportation of Natural Gas | CI17: 221210 | CJ17: Natural Gas Distribution | CK17: =IF(BQ17>0,BQ17,W17) -> 32789200000 | CL17: =IF(BS17>0,BS17,Y17) -> 7300 | CM17: =IF(CG17>0,CG17,AM17) -> 486210 | CN17: =IF($BH17="",1,COUNTIF($BH$3:$BH17,$BH17)) -> 2 | CP17: =IF($K17="Standard Match","Match",IF($K17="Name Only Match",IF($CO17="Yes","Match","Name Only Match"),"No Match")) -> Match | CQ17: =IF(AND(CP17="Match",CK17>0,CL17>0),"Y","N") -> Y | CS17: =IF($CQ17="Y",VLOOKUP($CM17,'SBA Size Standards'!$B$3:$G$57,MATCH('SBA Size Standards'!$G$3,'SBA Size Standards'!$B$3:$G$3,0),FALSE),"") -> Revenue | CT17: =IF(CQ17="Y",IF($CS17="Employment","N/A",VLOOKUP($CM17,'SBA Size Standards'!$B$3:$G$57,MATCH('SBA Size Standards'!$E$3,'SBA Size Standards'!$B$3:$G$3,0),FALSE)),"") -> 30000000 | CU17: =IF($CQ17="Y",IF($CS17="Revenue","N/A",VLOOKUP($CM17,'SBA Size Standards'!$B$3:$G$57,MATCH('SBA Size Standards'!$F$3,'SBA Size Standards'!$B$3:$G$3,0),FALSE)),"") -> N/A | CV17: =IF($CQ17="Y",IF(OR(AND($CS17="Employment",$CL17<$CU17),AND($CS17="Revenue",$CK17<$CT17)),"YES","NO"),"") -> NO | CW17: =IF($CQ17="Y",INDEX('SBA Size Standards'!$N$3:$N$12,MATCH($CK17,'SBA Size Standards'!$O$3:$O$12,1)),"") -> $1,000,000,001 -$125,000,000,000 | CX17: ENTERPRISEFIELDSERVICESLLCPOBOX4324HOUSTON | CY17: =INDEX('NM O&G Production'!$P$3:$P$537,MATCH(CX17,'NM O&G Production'!$Q$3:$Q$537,0)) -> 151 | CZ17: =INDEX('NM O&G Production'!$O$3:$O$537,MATCH(CY17,'NM O&G Production'!$P$3:$P$537,0)) -> No | DA17: =INDEX('NM O&G Production'!$K$3:$O$537,MATCH($CY17,'NM O&G Production'!$P$3:$P$537,0),MATCH(DA$2,'NM O&G Production'!$K$2:$O$2,0)) -> 0 | DB17: =INDEX('NM O&G Production'!$K$3:$O$537,MATCH($CY17,'NM O&G Production'!$P$3:$P$537,0),MATCH(DB$2,'NM O&G Production'!$K$2:$O$2,0)) -> 0 | DD17: =INDEX('NM O&G Production'!$K$3:$O$537,MATCH($CY17,'NM O&G Production'!$P$3:$P$537,0),MATCH(DD$2,'NM O&G Production'!$K$2:$O$2,0)) -> 0 | DE17: =INDEX('NM O&G Production'!$K$3:$O$537,MATCH($CY17,'NM O&G Production'!$P$3:$P$537,0),MATCH(DE$2,'NM O&G Production'!$K$2:$O$2,0)) -> 0 | DF17: =CK17/(DB17+DA17) -> #DIV/0! | DG17: =DD17*(12/18)*1.06*'Oil and Gas Prices'!$C$18 -> 0 | DH17: =DE17*(12/18)*'Oil and Gas Prices'!$C$4 -> 0 | DJ17: =(DG17+DH17)/(DA17+DB17) -> #DIV/0! | DK17: =CK17/DI17 -> #DIV/0!
