Workbook
Name AnnualCIchange: '(I) OptionLists'!$D$5:$D$8
Name EDU_CI_Lookup: '(E) EDU_CIs'!$A$5:$B$34
Name EDU_CI_names: '(E) EDU_CIs'!$A$5:$A$33
Name EDU_CI_values: '(E) EDU_CIs'!$B$5:$B$33
Name EDU_EV_names: '(B) EDU_EVs'!$B$5:$B$22
Name EDU_EV_values: '(B) EDU_EVs'!$D$5:$D$22
Name EV_Fuel_Multi: '(I) OptionLists'!$G$5:$G$8
Name EV_Fuel_Single: '(I) OptionLists'!$G$5:$G$7
Name GridCIMulti: '(I) OptionLists'!$C$5:$C$8
Name GridCISingle: '(I) OptionLists'!$C$5:$C$7
Name Inflation: '(H) Inflation'!$B$5:$B$9
Name NoInflation: '(H) Inflation'!$B$20
Name NoManualChange: '(I) OptionLists'!$D$9
Name OEMpart: '(I) OptionLists'!$E$5:$E$8
Name PricesMulti: '(I) OptionLists'!$B$5:$B$8
Name PricesSingle: '(I) OptionLists'!$A$5:$A$7
Name ResShare: '(I) OptionLists'!$F$5:$F$8
Name SingleYear: '(D) CI Standard'!$B$21
Name Statewide2026: '(E) EDU_CIs'!$B$34
Name Years: '(D) CI Standard'!$B$5:$B$19

Sheet Start here
A1: CTFP EDU Residential Charging Calculator
A3: General notes
B5: 1. All calculation values and assumptions come from the Clean Transportation Fuel Program rule under 20.2.92 NMAC, associated analyses, and external data sources where indicated.
B6: 2. The only sheet with values to populate is the Calculator tab. All other sheets contain input and parameter values and are for observation only.
B7: 3. In this sheet and the Calculator sheet, superscript numbers refer to notes on each page. Superscript letters refer to rows referencing data from input assumption sheets (A)-(I).
A9: Calculator directions
B11: 1. In Column B of the Calculator sheet, select operating inputs in the brown cells.
B12: 2. Depending upon your selections in Column B, you may see orange cells in Column C or Column I where manual input is required. If so, please populate those cells!
A14: Calculator input notes
A16: Estimated charging fuel quantity for 2026 - Row 12 of Calculator sheetA.B
B17: 1. The "EDU-based estimate" option in Cell B12 estimates the fuel qualtity used for electric vehicle (EV) charging in an Electric Distributrion Utility's (EDU) service area selected in Cell B11.
C18: a. It does this by prorating the estimated 136,480 megawatt hours (MWh) ofelectricity used for EV charging from both the Benefits-Cost Analysis and Rebuttal Sensitivity Analysis (NMED Exhibits 79 and 136 from EIB 25-23)
C19: from the '(A) ElectricityProj_MWh' sheet by the share of onroad EVs in New Mexico registered within each EDU's service area from Atlas Public Policy, EvaluateNM (Kumar, 2026), as listed in the '(B) EDU_EVs' sheet.
B20: 2. The "Manual" option in Cell B12 allows the user to hand-enter a 2026 charging fuel quantity (in MWh) in Cell C12.
C21: a. This option is suggested for EDUs in service territories that do not have a number of on-road EVs from Atlas Public Policy, EvaluateNM (Kumar, 2026) listed in the '(B) EDU_EVs' sheet.
C22: b. The default option for such service territories is to receive a 0.02% share of New Mexico's total fuel quantity in 2026 from the EV share listed in sheet (B) as registered in "Out of state or unknown" service territories.
A24: Residential charging fuel share - Row 13 of Calculator sheetC
B25: 1. Because the projected 136,480 MWh of electricity used for EV charging in 2026 is inclusive of both residential and non-residential charging, this overall total must be prorated by a portion that is used for residential charging.
C26: a. This portion can be manually entered or estimated from the average residential portions from 2023-2025 in California, Washington, and Oregon shown in the '(C) Res%' sheet, and calculated from sheets (C.1) through (C.3).
A28: Projected charging fuel change - Row 14 of Calculator sheetA
B29: 1. The "Benefit-Cost Analysis" option in Cell B14 increases the quanitity of electricity used for EV charging after 2026 using projections from NMED Exhibit 79 of EIB 25-23.
C30: a. These projections assume the continuation of state and federal EV-supporting policies in New Mexico through 2040.
B31: 2. The "Rebuttal Sensitivity Analysis" option in Cell B14 increases the quanitity of electricity used for EV charging after 2026 using projections from NMED Exhibit 136 of EIB 25-23.
C32: a. These projections assume the rollback of state and federal EV-supporting policies in New Mexico through 2040.
B33: 3. If you select "Manual (Single percentage)" in Cell B14, you will need to enter in Cell C14 a single assumed percentage rate by which the fuel quanitity used for EV charging grows each year after 2026.
B34: 4. If you select "Manual (Different annual percentages)” in Cell B14, you will need to enter each year's EV fuel use growth rate as a percentage in Column K, based upon custom growth projections.
A36: 2026 Grid/EDU carbon intensity - Row 15 of Calculator sheetE
A37: Note: Options 1-3 require an entry into Row 16 to determine grid electricity carbon intensity (CI) changes for years after 2026.
B38: 1. The The "EDU-based estimate" determines the 2026 grid electricity CI for an EDU based upon its 2026 EDU-specific CI value from NMED. See the '(E) EDU_CIs' sheet for a reference list.
B39: 2. The "Statewide" option calculates the 2026 grid electricity CI as a weighted average of EDU carbon intensities and the number of registered on-road EVs in each from Atlas Public Policy, EvaluateNM (Kumar, 2026).
B40: 3. If you select "Manual (single CI)," enter your desired 2026 CI for grid electricity in Cell C15.
B41: 4. If you select "Manual (Different annual CIs)" in Cell B15, you must manually enter the CI for each year in Column L based upon custom projections.
C42: a. Unlike Options 1-3, Option 4 does not require an entry into Row 16 to determine grid electricity CI chages for years after 2026.
A44: Annual carbon intensity change - Row 16 of Calculator sheetF
A45: Note: This selection is only available if one of Options 1-3 is selected in Row 15. Selecting Option 4 in Row 15 will require the user to enter each year's CI in Column L based upon custom projections, rendering this row (Row 16) obsolete.
B46: 1. The "Statewide change" option in Cell B16 uses projected grid CI changes from the Benefits-Cost Analysis and Rebuttal Sensitivity Analysis (NMED Exhibits 79 and 136 from EIB 25-23) that account for the Energy Transition Act.
B47: 2. The "Zero-carbon by 2040" option in Cell B16 projects grid CI changes based upon a linear path culminating in a CI of zero in 2040, when power comes from zero-carbon sources like Geothermal, Hydro, Wind, and Solar.
B48: 3. The "Manual percentage" option in Cell B16 allows the user to manually enter a percentage change applied linearly to the grid CI for all years after 2026.
C49: a. If selecting this option, specify that the percentage is negative for a grid CI that goes down over time.
B50: 4. The "Flat" option in Cell B16 assumes a grid CI that is unchanging over time.
...

Sheet Calculator
A1: Calculator sheet - For user input and results
A2: As desired, select inputs from brown cells in Column B. Populate any orange cells in Columns C, K, L, and M. Observe revenue results in Column J.
A4: Color legend: | E4: Results
A5: Select options as desired | E5: Year | F5: Residential fuel | G5: Fuel CI | H5: Credits | I5: Credit price | J5: Revenue
A6: Input required | F6: (MWh)2 | G6: (gCO2e/MJ)3 | H6: (MT CO2e)5,6 | I6: ($/MT CO2e)5 | J6: ($US) | K6: =IF(B14='(I) OptionLists'!G8,"Annual fuel % changes","") | L6: =IF(B15='(I) OptionLists'!C8,"Annual CIs","") | M6: =IF(B19='(I) OptionLists'!B8,"Annual credit prices","")
A7: Category or result - do not edit | E7: =IF(B18="Single year",IF(C18="","Populate cell C19",C18),2026) -> 2026 | F7: =IF(AND($B$12="Manual",$C$12=""),"Populate Cell C12",IF(AND($B$13='(I) OptionLists'!$F$8,$C$13=""),"Populate Cell C13",IF(AND($B$14='(I) OptionLists'!$G$7,$C$14=""),"Populate Cell C14",IF(AND(VALUE(LEFT(E7,4))>2026,$B$14='(I) OptionLists'!$G$8,K7=""),"Populate Column K",IF($B$12="Manual",$C$12,'(A) ElectricityProj_MWh'!$D$12*IF($B$11="Statewide",1,IFERROR(VLOOKUP($B$11,'(B) EDU_EVs'!$B$5:$D$24,3,FALSE)/SUM('(B) EDU_EVs'!$D$5:$D$24),'(B) EDU_EVs'!$D$24/SUM('(B) EDU_EVs'!$D$5:$D$24))))*IF($B$13="Manual",$C$13,VALUE(RIGHT($B$13,3)))*IF($B$14='(I) OptionLists'!$G$5,VLOOKUP(E7,'(A) ElectricityProj_MWh'!$A$6:$D$26,4,FALSE)/'(A) ElectricityProj_MWh'!$D$12,IF($B$14='(I) OptionLists'!$G$6,VLOOKUP(E7,'(A) ElectricityProj_MWh'!$F$6:$I$26,4,FALSE)/'(A) ElectricityProj_MWh'!$D$12,IF($B$14='(I) OptionLists'!$G$7,(1+$C$14)^(VALUE(LEFT(E7,4))-2026),1+IF($B$14='(I) OptionLists'!$G$8,K7)))))))) -> 87347.397 | G7: =IF(E7="","",IF(AND($B$15='(I) OptionLists'!$C$7,$C$15=""),"Populate Cell C15",IF($B$15='(I) OptionLists'!$C$6,IF(AND(B$16='(I) OptionLists'!$D$7,C$16=""),"Populate Cell C16",ROUND(Statewide2026*(IF(B$16='(I) OptionLists'!$D$5,VLOOKUP(E7,'(F) StatewideChange'!$B$5:$C$19,2,FALSE)/VLOOKUP(2026,'(F) StatewideChange'!$B$5:$C$19,2,FALSE),IF(B$16='(I) OptionLists'!$D$8,1,IF(B$16='(I) OptionLists'!$D$6,VLOOKUP(2026,'(F) StatewideChange'!$B$5:$C$19,2,FALSE)/VLOOKUP(E7,'(F) StatewideChange'!$B$5:$C$19,2,FALSE)*(2040-VALUE(LEFT(E7,4)))/(2040-2026),IF(B$16='(I) OptionLists'!$D$7,(1+C$16)^(VALUE(LEFT(E7,4))-2026),1))))),2)),IF($B$15='(I) OptionLists'!$C$7,IF(AND(B$16='(I) OptionLists'!$D$7,C$16=""),"Populate Cell C16",ROUND($C$15*(IF(B$16='(I) OptionLists'!$D$5,VLOOKUP(E7,'(F) StatewideChange'!$B$5:$C$19,2,FALSE)/VLOOKUP(2026,'(F) StatewideChange'!$B$5:$C$19,2,FALSE),IF(B$16='(I) OptionLists'!$D$8,1,IF(B$16='(I) OptionLists'!$D$6,(2040-VALUE(LEFT(E7,4)))/(2040-2026),IF(B$16='(I) OptionLists'!$D$7,(1+C$16)^(VALUE(LEFT(E7,4))-2026),1))))),2)),IF(B$15='(I) OptionLists'!$C$8,IF(L7="","Populate Column L",ROUND(L7,2)),IF(AND(B$16='(I) OptionLists'!$D$7,C$16=""),"Populate Cell C16",IFERROR(ROUND(VLOOKUP($B$11,EDU_CI_Lookup,2,FALSE)*(IF(B$16='(I) OptionLists'!$D$5,VLOOKUP(E7,'(F) StatewideChange'!$B$5:$C$19,2,FALSE)/VLOOKUP(2026,'(F) StatewideChange'!$B$5:$C$19,2,FALSE),IF(B$16='(I) OptionLists'!$D$8,1,IF(B$16='(I) OptionLists'!$D$6,(2040-VALUE(LEFT(E7,4)))/(2040-2026),IF(B$16='(I) OptionLists'!$D$7,(1+C$16)^(VALUE(LEFT(E7,4))-2026),1))))),2),"Select valid EDU option"))))))) -> 62.08 | H7: =IF(LEFT(F7,3)="Pop",F7,IF(LEFT(G7,3)="Pop",G7,IF(AND(Calculator!$B$22='(I) OptionLists'!$E$8,Calculator!$C$22=""),"Populate Cell C22",IFERROR(IF(E7="","",ROUND(F7*1000*3.6*(1-0.35*IF(Calculator!$B$22='(I) OptionLists'!$E$8,$C$22,VALUE(RIGHT($B$22,LEN($B$22)-FIND("-",$B$22,1)-1))))*(3.4*VLOOKUP(E7,'(D) CI Standard'!$B$5:$C$19,2,FALSE)-G7)/1000000,0)),"")))) -> 80860 | I7: {=IF(E7="","",_xlfn.IFNA(IF(B$19='(I) OptionLists'!$B$7,IF(C$19="","Populate cell C20",ROUND(C$19*IF($B$20="Nominal",1,INDEX('(H) Inflation'!$C$12:$N$16,MATCH($B$21,'(H) Inflation'!$B$12:$B$16,0),MATCH($C$20,'(G) Credit Price_nom'!$C$5:$Q$5,0))/INDEX('(H) Inflation'!$C$12:$N$16,MATCH($B$21,'(H) Inflation'!$B$12:$B$16,0),MATCH(E7,'(G) Credit Price_nom'!$C$5:$Q$5,0))),2)),IF(B$19='(I) OptionLists'!$B$8,IF(K6="","Populate Column M",K6),ROUND(INDEX('(G) Credit Price_nom'!$C$6:$Q$7,MATCH($B$19,'(G) Credit Price_nom'!$B$6:$B$7,0),MATCH(E7,'(G) Credit Price_nom'!$C$5:$Q$5,0))*IF($B$20="Nominal",1,INDEX('(H) Inflation'!$C$12:$N$16,MATCH($B$21,'(H) Inflation'!$B$12:$B$16,0),MATCH($C$20,'(G) Credit Price_nom'!$C$5:$Q$5,0))/INDEX('(H) Inflation'!$C$12:$R$16,MATCH($B$21,'(H) Inflation'!$B$12:$B$16,0),MATCH(E7,'(H) Inflation'!$C$11:$R$11,0))),2))),IF(AND($B$18="single year",$C$18=""),"Populate cell C19",IF(AND($B$20="Real (input dollar year in Column C)",$C$20=""),"Populate cell C21","Check cells C18:C22"))))} -> 110.49 | J7: =IF(LEFT(H7,3)="Pop",H7,IF(LEFT(I7,3)="Pop",I7,IFERROR(IF(H7="","",IF(I7="","",H7*I7)),""))) -> 8934221.4 | L7: 20
E8: {=IF(B$18="All Years",INDEX(Years,ROW()-6),"")} -> 2027 | F8: =IF(AND($B$12="Manual",$C$12=""),"Populate Cell C12",IF(AND($B$13='(I) OptionLists'!$F$8,$C$13=""),"Populate Cell C13",IF(AND($B$14='(I) OptionLists'!$G$7,$C$14=""),"Populate Cell C14",IF(AND(VALUE(LEFT(E8,4))>2026,$B$14='(I) OptionLists'!$G$8,K8=""),"Populate Column K",IF($B$12="Manual",$C$12,'(A) ElectricityProj_MWh'!$D$12*IF($B$11="Statewide",1,IFERROR(VLOOKUP($B$11,'(B) EDU_EVs'!$B$5:$D$24,3,FALSE)/SUM('(B) EDU_EVs'!$D$5:$D$24),'(B) EDU_EVs'!$D$24/SUM('(B) EDU_EVs'!$D$5:$D$24))))*IF($B$13="Manual",$C$13,VALUE(RIGHT($B$13,3)))*IF($B$14='(I) OptionLists'!$G$5,VLOOKUP(E8,'(A) ElectricityProj_MWh'!$A$6:$D$26,4,FALSE)/'(A) ElectricityProj_MWh'!$D$12,IF($B$14='(I) OptionLists'!$G$6,VLOOKUP(E8,'(A) ElectricityProj_MWh'!$F$6:$I$26,4,FALSE)/'(A) ElectricityProj_MWh'!$D$12,IF($B$14='(I) OptionLists'!$G$7,(1+$C$14)^(VALUE(LEFT(E8,4))-2026),1+IF($B$14='(I) OptionLists'!$G$8,K8)))))))) -> 210764.87 | G8: =IF(E8="","",IF(AND($B$15='(I) OptionLists'!$C$7,$C$15=""),"Populate Cell C15",IF($B$15='(I) OptionLists'!$C$6,IF(AND(B$16='(I) OptionLists'!$D$7,C$16=""),"Populate Cell C16",ROUND(Statewide2026*(IF(B$16='(I) OptionLists'!$D$5,VLOOKUP(E8,'(F) StatewideChange'!$B$5:$C$19,2,FALSE)/VLOOKUP(2026,'(F) StatewideChange'!$B$5:$C$19,2,FALSE),IF(B$16='(I) OptionLists'!$D$8,1,IF(B$16='(I) OptionLists'!$D$6,VLOOKUP(2026,'(F) StatewideChange'!$B$5:$C$19,2,FALSE)/VLOOKUP(E8,'(F) StatewideChange'!$B$5:$C$19,2,FALSE)*(2040-VALUE(LEFT(E8,4)))/(2040-2026),IF(B$16='(I) OptionLists'!$D$7,(1+C$16)^(VALUE(LEFT(E8,4))-2026),1))))),2)),IF($B$15='(I) OptionLists'!$C$7,IF(AND(B$16='(I) OptionLists'!$D$7,C$16=""),"Populate Cell C16",ROUND($C$15*(IF(B$16='(I) OptionLists'!$D$5,VLOOKUP(E8,'(F) StatewideChange'!$B$5:$C$19,2,FALSE)/VLOOKUP(2026,'(F) StatewideChange'!$B$5:$C$19,2,FALSE),IF(B$16='(I) OptionLists'!$D$8,1,IF(B$16='(I) OptionLists'!$D$6,(2040-VALUE(LEFT(E8,4)))/(2040-2026),IF(B$16='(I) OptionLists'!$D$7,(1+C$16)^(VALUE(LEFT(E8,4))-2026),1))))),2)),IF(B$15='(I) OptionLists'!$C$8,IF(L8="","Populate Column L",ROUND(L8,2)),IF(AND(B$16='(I) OptionLists'!$D$7,C$16=""),"Populate Cell C16",IFERROR(ROUND(VLOOKUP($B$11,EDU_CI_Lookup,2,FALSE)*(IF(B$16='(I) OptionLists'!$D$5,VLOOKUP(E8,'(F) StatewideChange'!$B$5:$C$19,2,FALSE)/VLOOKUP(2026,'(F) StatewideChange'!$B$5:$C$19,2,FALSE),IF(B$16='(I) OptionLists'!$D$8,1,IF(B$16='(I) OptionLists'!$D$6,(2040-VALUE(LEFT(E8,4)))/(2040-2026),IF(B$16='(I) OptionLists'!$D$7,(1+C$16)^(VALUE(LEFT(E8,4))-2026),1))))),2),"Select valid EDU option"))))))) -> 61.02 | H8: =IF(LEFT(F8,3)="Pop",F8,IF(LEFT(G8,3)="Pop",G8,IF(AND(Calculator!$B$22='(I) OptionLists'!$E$8,Calculator!$C$22=""),"Populate Cell C22",IFERROR(IF(E8="","",ROUND(F8*1000*3.6*(1-0.35*IF(Calculator!$B$22='(I) OptionLists'!$E$8,$C$22,VALUE(RIGHT($B$22,LEN($B$22)-FIND("-",$B$22,1)-1))))*(3.4*VLOOKUP(E8,'(D) CI Standard'!$B$5:$C$19,2,FALSE)-G8)/1000000,0)),"")))) -> 192200 | I8: {=IF(E8="","",_xlfn.IFNA(IF(B$19='(I) OptionLists'!$B$7,IF(C$19="","Populate cell C20",ROUND(C$19*IF($B$20="Nominal",1,INDEX('(H) Inflation'!$C$12:$N$16,MATCH($B$21,'(H) Inflation'!$B$12:$B$16,0),MATCH($C$20,'(G) Credit Price_nom'!$C$5:$Q$5,0))/INDEX('(H) Inflation'!$C$12:$N$16,MATCH($B$21,'(H) Inflation'!$B$12:$B$16,0),MATCH(E8,'(G) Credit Price_nom'!$C$5:$Q$5,0))),2)),IF(B$19='(I) OptionLists'!$B$8,IF(K7="","Populate Column M",K7),ROUND(INDEX('(G) Credit Price_nom'!$C$6:$Q$7,MATCH($B$19,'(G) Credit Price_nom'!$B$6:$B$7,0),MATCH(E8,'(G) Credit Price_nom'!$C$5:$Q$5,0))*IF($B$20="Nominal",1,INDEX('(H) Inflation'!$C$12:$N$16,MATCH($B$21,'(H) Inflation'!$B$12:$B$16,0),MATCH($C$20,'(G) Credit Price_nom'!$C$5:$Q$5,0))/INDEX('(H) Inflation'!$C$12:$R$16,MATCH($B$21,'(H) Inflation'!$B$12:$B$16,0),MATCH(E8,'(H) Inflation'!$C$11:$R$11,0))),2))),IF(AND($B$18="single year",$C$18=""),"Populate cell C19",IF(AND($B$20="Real (input dollar year in Column C)",$C$20=""),"Populate cell C21","Check cells C18:C22"))))} -> 93.6 | J8: =IF(LEFT(H8,3)="Pop",H8,IF(LEFT(I8,3)="Pop",I8,IFERROR(IF(H8="","",IF(I8="","",H8*I8)),""))) -> 17989920
A9: Inputs | E9: {=IF(B$18="All Years",INDEX(Years,ROW()-6),"")} -> 2028 | F9: =IF(AND($B$12="Manual",$C$12=""),"Populate Cell C12",IF(AND($B$13='(I) OptionLists'!$F$8,$C$13=""),"Populate Cell C13",IF(AND($B$14='(I) OptionLists'!$G$7,$C$14=""),"Populate Cell C14",IF(AND(VALUE(LEFT(E9,4))>2026,$B$14='(I) OptionLists'!$G$8,K9=""),"Populate Column K",IF($B$12="Manual",$C$12,'(A) ElectricityProj_MWh'!$D$12*IF($B$11="Statewide",1,IFERROR(VLOOKUP($B$11,'(B) EDU_EVs'!$B$5:$D$24,3,FALSE)/SUM('(B) EDU_EVs'!$D$5:$D$24),'(B) EDU_EVs'!$D$24/SUM('(B) EDU_EVs'!$D$5:$D$24))))*IF($B$13="Manual",$C$13,VALUE(RIGHT($B$13,3)))*IF($B$14='(I) OptionLists'!$G$5,VLOOKUP(E9,'(A) ElectricityProj_MWh'!$A$6:$D$26,4,FALSE)/'(A) ElectricityProj_MWh'!$D$12,IF($B$14='(I) OptionLists'!$G$6,VLOOKUP(E9,'(A) ElectricityProj_MWh'!$F$6:$I$26,4,FALSE)/'(A) ElectricityProj_MWh'!$D$12,IF($B$14='(I) OptionLists'!$G$7,(1+$C$14)^(VALUE(LEFT(E9,4))-2026),1+IF($B$14='(I) OptionLists'!$G$8,K9)))))))) -> 394503.45 | G9: =IF(E9="","",IF(AND($B$15='(I) OptionLists'!$C$7,$C$15=""),"Populate Cell C15",IF($B$15='(I) OptionLists'!$C$6,IF(AND(B$16='(I) OptionLists'!$D$7,C$16=""),"Populate Cell C16",ROUND(Statewide2026*(IF(B$16='(I) OptionLists'!$D$5,VLOOKUP(E9,'(F) StatewideChange'!$B$5:$C$19,2,FALSE)/VLOOKUP(2026,'(F) StatewideChange'!$B$5:$C$19,2,FALSE),IF(B$16='(I) OptionLists'!$D$8,1,IF(B$16='(I) OptionLists'!$D$6,VLOOKUP(2026,'(F) StatewideChange'!$B$5:$C$19,2,FALSE)/VLOOKUP(E9,'(F) StatewideChange'!$B$5:$C$19,2,FALSE)*(2040-VALUE(LEFT(E9,4)))/(2040-2026),IF(B$16='(I) OptionLists'!$D$7,(1+C$16)^(VALUE(LEFT(E9,4))-2026),1))))),2)),IF($B$15='(I) OptionLists'!$C$7,IF(AND(B$16='(I) OptionLists'!$D$7,C$16=""),"Populate Cell C16",ROUND($C$15*(IF(B$16='(I) OptionLists'!$D$5,VLOOKUP(E9,'(F) StatewideChange'!$B$5:$C$19,2,FALSE)/VLOOKUP(2026,'(F) StatewideChange'!$B$5:$C$19,2,FALSE),IF(B$16='(I) OptionLists'!$D$8,1,IF(B$16='(I) OptionLists'!$D$6,(2040-VALUE(LEFT(E9,4)))/(2040-2026),IF(B$16='(I) OptionLists'!$D$7,(1+C$16)^(VALUE(LEFT(E9,4))-2026),1))))),2)),IF(B$15='(I) OptionLists'!$C$8,IF(L9="","Populate Column L",ROUND(L9,2)),IF(AND(B$16='(I) OptionLists'!$D$7,C$16=""),"Populate Cell C16",IFERROR(ROUND(VLOOKUP($B$11,EDU_CI_Lookup,2,FALSE)*(IF(B$16='(I) OptionLists'!$D$5,VLOOKUP(E9,'(F) StatewideChange'!$B$5:$C$19,2,FALSE)/VLOOKUP(2026,'(F) StatewideChange'!$B$5:$C$19,2,FALSE),IF(B$16='(I) OptionLists'!$D$8,1,IF(B$16='(I) OptionLists'!$D$6,(2040-VALUE(LEFT(E9,4)))/(2040-2026),IF(B$16='(I) OptionLists'!$D$7,(1+C$16)^(VALUE(LEFT(E9,4))-2026),1))))),2),"Select valid EDU option"))))))) -> 60.24 | H9: =IF(LEFT(F9,3)="Pop",F9,IF(LEFT(G9,3)="Pop",G9,IF(AND(Calculator!$B$22='(I) OptionLists'!$E$8,Calculator!$C$22=""),"Populate Cell C22",IFERROR(IF(E9="","",ROUND(F9*1000*3.6*(1-0.35*IF(Calculator!$B$22='(I) OptionLists'!$E$8,$C$22,VALUE(RIGHT($B$22,LEN($B$22)-FIND("-",$B$22,1)-1))))*(3.4*VLOOKUP(E9,'(D) CI Standard'!$B$5:$C$19,2,FALSE)-G9)/1000000,0)),"")))) -> 348404 | I9: {=IF(E9="","",_xlfn.IFNA(IF(B$19='(I) OptionLists'!$B$7,IF(C$19="","Populate cell C20",ROUND(C$19*IF($B$20="Nominal",1,INDEX('(H) Inflation'!$C$12:$N$16,MATCH($B$21,'(H) Inflation'!$B$12:$B$16,0),MATCH($C$20,'(G) Credit Price_nom'!$C$5:$Q$5,0))/INDEX('(H) Inflation'!$C$12:$N$16,MATCH($B$21,'(H) Inflation'!$B$12:$B$16,0),MATCH(E9,'(G) Credit Price_nom'!$C$5:$Q$5,0))),2)),IF(B$19='(I) OptionLists'!$B$8,IF(K8="","Populate Column M",K8),ROUND(INDEX('(G) Credit Price_nom'!$C$6:$Q$7,MATCH($B$19,'(G) Credit Price_nom'!$B$6:$B$7,0),MATCH(E9,'(G) Credit Price_nom'!$C$5:$Q$5,0))*IF($B$20="Nominal",1,INDEX('(H) Inflation'!$C$12:$N$16,MATCH($B$21,'(H) Inflation'!$B$12:$B$16,0),MATCH($C$20,'(G) Credit Price_nom'!$C$5:$Q$5,0))/INDEX('(H) Inflation'!$C$12:$R$16,MATCH($B$21,'(H) Inflation'!$B$12:$B$16,0),MATCH(E9,'(H) Inflation'!$C$11:$R$11,0))),2))),IF(AND($B$18="single year",$C$18=""),"Populate cell C19",IF(AND($B$20="Real (input dollar year in Column C)",$C$20=""),"Populate cell C21","Check cells C18:C22"))))} -> 88.55 | J9: =IF(LEFT(H9,3)="Pop",H9,IF(LEFT(I9,3)="Pop",I9,IFERROR(IF(H9="","",IF(I9="","",H9*I9)),""))) -> 30851174
A10: Operating info | C10: Input value if orange | E10: {=IF(B$18="All Years",INDEX(Years,ROW()-6),"")} -> 2029 | F10: =IF(AND($B$12="Manual",$C$12=""),"Populate Cell C12",IF(AND($B$13='(I) OptionLists'!$F$8,$C$13=""),"Populate Cell C13",IF(AND($B$14='(I) OptionLists'!$G$7,$C$14=""),"Populate Cell C14",IF(AND(VALUE(LEFT(E10,4))>2026,$B$14='(I) OptionLists'!$G$8,K10=""),"Populate Column K",IF($B$12="Manual",$C$12,'(A) ElectricityProj_MWh'!$D$12*IF($B$11="Statewide",1,IFERROR(VLOOKUP($B$11,'(B) EDU_EVs'!$B$5:$D$24,3,FALSE)/SUM('(B) EDU_EVs'!$D$5:$D$24),'(B) EDU_EVs'!$D$24/SUM('(B) EDU_EVs'!$D$5:$D$24))))*IF($B$13="Manual",$C$13,VALUE(RIGHT($B$13,3)))*IF($B$14='(I) OptionLists'!$G$5,VLOOKUP(E10,'(A) ElectricityProj_MWh'!$A$6:$D$26,4,FALSE)/'(A) ElectricityProj_MWh'!$D$12,IF($B$14='(I) OptionLists'!$G$6,VLOOKUP(E10,'(A) ElectricityProj_MWh'!$F$6:$I$26,4,FALSE)/'(A) ElectricityProj_MWh'!$D$12,IF($B$14='(I) OptionLists'!$G$7,(1+$C$14)^(VALUE(LEFT(E10,4))-2026),1+IF($B$14='(I) OptionLists'!$G$8,K10)))))))) -> 616795.16 | G10: =IF(E10="","",IF(AND($B$15='(I) OptionLists'!$C$7,$C$15=""),"Populate Cell C15",IF($B$15='(I) OptionLists'!$C$6,IF(AND(B$16='(I) OptionLists'!$D$7,C$16=""),"Populate Cell C16",ROUND(Statewide2026*(IF(B$16='(I) OptionLists'!$D$5,VLOOKUP(E10,'(F) StatewideChange'!$B$5:$C$19,2,FALSE)/VLOOKUP(2026,'(F) StatewideChange'!$B$5:$C$19,2,FALSE),IF(B$16='(I) OptionLists'!$D$8,1,IF(B$16='(I) OptionLists'!$D$6,VLOOKUP(2026,'(F) StatewideChange'!$B$5:$C$19,2,FALSE)/VLOOKUP(E10,'(F) StatewideChange'!$B$5:$C$19,2,FALSE)*(2040-VALUE(LEFT(E10,4)))/(2040-2026),IF(B$16='(I) OptionLists'!$D$7,(1+C$16)^(VALUE(LEFT(E10,4))-2026),1))))),2)),IF($B$15='(I) OptionLists'!$C$7,IF(AND(B$16='(I) OptionLists'!$D$7,C$16=""),"Populate Cell C16",ROUND($C$15*(IF(B$16='(I) OptionLists'!$D$5,VLOOKUP(E10,'(F) StatewideChange'!$B$5:$C$19,2,FALSE)/VLOOKUP(2026,'(F) StatewideChange'!$B$5:$C$19,2,FALSE),IF(B$16='(I) OptionLists'!$D$8,1,IF(B$16='(I) OptionLists'!$D$6,(2040-VALUE(LEFT(E10,4)))/(2040-2026),IF(B$16='(I) OptionLists'!$D$7,(1+C$16)^(VALUE(LEFT(E10,4))-2026),1))))),2)),IF(B$15='(I) OptionLists'!$C$8,IF(L10="","Populate Column L",ROUND(L10,2)),IF(AND(B$16='(I) OptionLists'!$D$7,C$16=""),"Populate Cell C16",IFERROR(ROUND(VLOOKUP($B$11,EDU_CI_Lookup,2,FALSE)*(IF(B$16='(I) OptionLists'!$D$5,VLOOKUP(E10,'(F) StatewideChange'!$B$5:$C$19,2,FALSE)/VLOOKUP(2026,'(F) StatewideChange'!$B$5:$C$19,2,FALSE),IF(B$16='(I) OptionLists'!$D$8,1,IF(B$16='(I) OptionLists'!$D$6,(2040-VALUE(LEFT(E10,4)))/(2040-2026),IF(B$16='(I) OptionLists'!$D$7,(1+C$16)^(VALUE(LEFT(E10,4))-2026),1))))),2),"Select valid EDU option"))))))) -> 58.67 | H10: =IF(LEFT(F10,3)="Pop",F10,IF(LEFT(G10,3)="Pop",G10,IF(AND(Calculator!$B$22='(I) OptionLists'!$E$8,Calculator!$C$22=""),"Populate Cell C22",IFERROR(IF(E10="","",ROUND(F10*1000*3.6*(1-0.35*IF(Calculator!$B$22='(I) OptionLists'!$E$8,$C$22,VALUE(RIGHT($B$22,LEN($B$22)-FIND("-",$B$22,1)-1))))*(3.4*VLOOKUP(E10,'(D) CI Standard'!$B$5:$C$19,2,FALSE)-G10)/1000000,0)),"")))) -> 512119 | I10: {=IF(E10="","",_xlfn.IFNA(IF(B$19='(I) OptionLists'!$B$7,IF(C$19="","Populate cell C20",ROUND(C$19*IF($B$20="Nominal",1,INDEX('(H) Inflation'!$C$12:$N$16,MATCH($B$21,'(H) Inflation'!$B$12:$B$16,0),MATCH($C$20,'(G) Credit Price_nom'!$C$5:$Q$5,0))/INDEX('(H) Inflation'!$C$12:$N$16,MATCH($B$21,'(H) Inflation'!$B$12:$B$16,0),MATCH(E10,'(G) Credit Price_nom'!$C$5:$Q$5,0))),2)),IF(B$19='(I) OptionLists'!$B$8,IF(K9="","Populate Column M",K9),ROUND(INDEX('(G) Credit Price_nom'!$C$6:$Q$7,MATCH($B$19,'(G) Credit Price_nom'!$B$6:$B$7,0),MATCH(E10,'(G) Credit Price_nom'!$C$5:$Q$5,0))*IF($B$20="Nominal",1,INDEX('(H) Inflation'!$C$12:$N$16,MATCH($B$21,'(H) Inflation'!$B$12:$B$16,0),MATCH($C$20,'(G) Credit Price_nom'!$C$5:$Q$5,0))/INDEX('(H) Inflation'!$C$12:$R$16,MATCH($B$21,'(H) Inflation'!$B$12:$B$16,0),MATCH(E10,'(H) Inflation'!$C$11:$R$11,0))),2))),IF(AND($B$18="single year",$C$18=""),"Populate cell C19",IF(AND($B$20="Real (input dollar year in Column C)",$C$20=""),"Populate cell C21","Check cells C18:C22"))))} -> 76.51 | J10: =IF(LEFT(H10,3)="Pop",H10,IF(LEFT(I10,3)="Pop",I10,IFERROR(IF(H10="","",IF(I10="","",H10*I10)),""))) -> 39182225
A11: Electric Distribution Utility (EDU) service territoryE | B11: Statewide | E11: {=IF(B$18="All Years",INDEX(Years,ROW()-6),"")} -> 2030 | F11: =IF(AND($B$12="Manual",$C$12=""),"Populate Cell C12",IF(AND($B$13='(I) OptionLists'!$F$8,$C$13=""),"Populate Cell C13",IF(AND($B$14='(I) OptionLists'!$G$7,$C$14=""),"Populate Cell C14",IF(AND(VALUE(LEFT(E11,4))>2026,$B$14='(I) OptionLists'!$G$8,K11=""),"Populate Column K",IF($B$12="Manual",$C$12,'(A) ElectricityProj_MWh'!$D$12*IF($B$11="Statewide",1,IFERROR(VLOOKUP($B$11,'(B) EDU_EVs'!$B$5:$D$24,3,FALSE)/SUM('(B) EDU_EVs'!$D$5:$D$24),'(B) EDU_EVs'!$D$24/SUM('(B) EDU_EVs'!$D$5:$D$24))))*IF($B$13="Manual",$C$13,VALUE(RIGHT($B$13,3)))*IF($B$14='(I) OptionLists'!$G$5,VLOOKUP(E11,'(A) ElectricityProj_MWh'!$A$6:$D$26,4,FALSE)/'(A) ElectricityProj_MWh'!$D$12,IF($B$14='(I) OptionLists'!$G$6,VLOOKUP(E11,'(A) ElectricityProj_MWh'!$F$6:$I$26,4,FALSE)/'(A) ElectricityProj_MWh'!$D$12,IF($B$14='(I) OptionLists'!$G$7,(1+$C$14)^(VALUE(LEFT(E11,4))-2026),1+IF($B$14='(I) OptionLists'!$G$8,K11)))))))) -> 851571.57 | G11: =IF(E11="","",IF(AND($B$15='(I) OptionLists'!$C$7,$C$15=""),"Populate Cell C15",IF($B$15='(I) OptionLists'!$C$6,IF(AND(B$16='(I) OptionLists'!$D$7,C$16=""),"Populate Cell C16",ROUND(Statewide2026*(IF(B$16='(I) OptionLists'!$D$5,VLOOKUP(E11,'(F) StatewideChange'!$B$5:$C$19,2,FALSE)/VLOOKUP(2026,'(F) StatewideChange'!$B$5:$C$19,2,FALSE),IF(B$16='(I) OptionLists'!$D$8,1,IF(B$16='(I) OptionLists'!$D$6,VLOOKUP(2026,'(F) StatewideChange'!$B$5:$C$19,2,FALSE)/VLOOKUP(E11,'(F) StatewideChange'!$B$5:$C$19,2,FALSE)*(2040-VALUE(LEFT(E11,4)))/(2040-2026),IF(B$16='(I) OptionLists'!$D$7,(1+C$16)^(VALUE(LEFT(E11,4))-2026),1))))),2)),IF($B$15='(I) OptionLists'!$C$7,IF(AND(B$16='(I) OptionLists'!$D$7,C$16=""),"Populate Cell C16",ROUND($C$15*(IF(B$16='(I) OptionLists'!$D$5,VLOOKUP(E11,'(F) StatewideChange'!$B$5:$C$19,2,FALSE)/VLOOKUP(2026,'(F) StatewideChange'!$B$5:$C$19,2,FALSE),IF(B$16='(I) OptionLists'!$D$8,1,IF(B$16='(I) OptionLists'!$D$6,(2040-VALUE(LEFT(E11,4)))/(2040-2026),IF(B$16='(I) OptionLists'!$D$7,(1+C$16)^(VALUE(LEFT(E11,4))-2026),1))))),2)),IF(B$15='(I) OptionLists'!$C$8,IF(L11="","Populate Column L",ROUND(L11,2)),IF(AND(B$16='(I) OptionLists'!$D$7,C$16=""),"Populate Cell C16",IFERROR(ROUND(VLOOKUP($B$11,EDU_CI_Lookup,2,FALSE)*(IF(B$16='(I) OptionLists'!$D$5,VLOOKUP(E11,'(F) StatewideChange'!$B$5:$C$19,2,FALSE)/VLOOKUP(2026,'(F) StatewideChange'!$B$5:$C$19,2,FALSE),IF(B$16='(I) OptionLists'!$D$8,1,IF(B$16='(I) OptionLists'!$D$6,(2040-VALUE(LEFT(E11,4)))/(2040-2026),IF(B$16='(I) OptionLists'!$D$7,(1+C$16)^(VALUE(LEFT(E11,4))-2026),1))))),2),"Select valid EDU option"))))))) -> 48.69 | H11: =IF(LEFT(F11,3)="Pop",F11,IF(LEFT(G11,3)="Pop",G11,IF(AND(Calculator!$B$22='(I) OptionLists'!$E$8,Calculator!$C$22=""),"Populate Cell C22",IFERROR(IF(E11="","",ROUND(F11*1000*3.6*(1-0.35*IF(Calculator!$B$22='(I) OptionLists'!$E$8,$C$22,VALUE(RIGHT($B$22,LEN($B$22)-FIND("-",$B$22,1)-1))))*(3.4*VLOOKUP(E11,'(D) CI Standard'!$B$5:$C$19,2,FALSE)-G11)/1000000,0)),"")))) -> 648006 | I11: {=IF(E11="","",_xlfn.IFNA(IF(B$19='(I) OptionLists'!$B$7,IF(C$19="","Populate cell C20",ROUND(C$19*IF($B$20="Nominal",1,INDEX('(H) Inflation'!$C$12:$N$16,MATCH($B$21,'(H) Inflation'!$B$12:$B$16,0),MATCH($C$20,'(G) Credit Price_nom'!$C$5:$Q$5,0))/INDEX('(H) Inflation'!$C$12:$N$16,MATCH($B$21,'(H) Inflation'!$B$12:$B$16,0),MATCH(E11,'(G) Credit Price_nom'!$C$5:$Q$5,0))),2)),IF(B$19='(I) OptionLists'!$B$8,IF(K10="","Populate Column M",K10),ROUND(INDEX('(G) Credit Price_nom'!$C$6:$Q$7,MATCH($B$19,'(G) Credit Price_nom'!$B$6:$B$7,0),MATCH(E11,'(G) Credit Price_nom'!$C$5:$Q$5,0))*IF($B$20="Nominal",1,INDEX('(H) Inflation'!$C$12:$N$16,MATCH($B$21,'(H) Inflation'!$B$12:$B$16,0),MATCH($C$20,'(G) Credit Price_nom'!$C$5:$Q$5,0))/INDEX('(H) Inflation'!$C$12:$R$16,MATCH($B$21,'(H) Inflation'!$B$12:$B$16,0),MATCH(E11,'(H) Inflation'!$C$11:$R$11,0))),2))),IF(AND($B$18="single year",$C$18=""),"Populate cell C19",IF(AND($B$20="Real (input dollar year in Column C)",$C$20=""),"Populate cell C21","Check cells C18:C22"))))} -> 65.66 | J11: =IF(LEFT(H11,3)="Pop",H11,IF(LEFT(I11,3)="Pop",I11,IFERROR(IF(H11="","",IF(I11="","",H11*I11)),""))) -> 42548074
A12: 2026 total charging fuel (Megawatt hours (MWh))1,2,A,B | B12: EDU-based estimate | C12: 120000 | E12: {=IF(B$18="All Years",INDEX(Years,ROW()-6),"")} -> 2031 | F12: =IF(AND($B$12="Manual",$C$12=""),"Populate Cell C12",IF(AND($B$13='(I) OptionLists'!$F$8,$C$13=""),"Populate Cell C13",IF(AND($B$14='(I) OptionLists'!$G$7,$C$14=""),"Populate Cell C14",IF(AND(VALUE(LEFT(E12,4))>2026,$B$14='(I) OptionLists'!$G$8,K12=""),"Populate Column K",IF($B$12="Manual",$C$12,'(A) ElectricityProj_MWh'!$D$12*IF($B$11="Statewide",1,IFERROR(VLOOKUP($B$11,'(B) EDU_EVs'!$B$5:$D$24,3,FALSE)/SUM('(B) EDU_EVs'!$D$5:$D$24),'(B) EDU_EVs'!$D$24/SUM('(B) EDU_EVs'!$D$5:$D$24))))*IF($B$13="Manual",$C$13,VALUE(RIGHT($B$13,3)))*IF($B$14='(I) OptionLists'!$G$5,VLOOKUP(E12,'(A) ElectricityProj_MWh'!$A$6:$D$26,4,FALSE)/'(A) ElectricityProj_MWh'!$D$12,IF($B$14='(I) OptionLists'!$G$6,VLOOKUP(E12,'(A) ElectricityProj_MWh'!$F$6:$I$26,4,FALSE)/'(A) ElectricityProj_MWh'!$D$12,IF($B$14='(I) OptionLists'!$G$7,(1+$C$14)^(VALUE(LEFT(E12,4))-2026),1+IF($B$14='(I) OptionLists'!$G$8,K12)))))))) -> 1163718.7 | G12: =IF(E12="","",IF(AND($B$15='(I) OptionLists'!$C$7,$C$15=""),"Populate Cell C15",IF($B$15='(I) OptionLists'!$C$6,IF(AND(B$16='(I) OptionLists'!$D$7,C$16=""),"Populate Cell C16",ROUND(Statewide2026*(IF(B$16='(I) OptionLists'!$D$5,VLOOKUP(E12,'(F) StatewideChange'!$B$5:$C$19,2,FALSE)/VLOOKUP(2026,'(F) StatewideChange'!$B$5:$C$19,2,FALSE),IF(B$16='(I) OptionLists'!$D$8,1,IF(B$16='(I) OptionLists'!$D$6,VLOOKUP(2026,'(F) StatewideChange'!$B$5:$C$19,2,FALSE)/VLOOKUP(E12,'(F) StatewideChange'!$B$5:$C$19,2,FALSE)*(2040-VALUE(LEFT(E12,4)))/(2040-2026),IF(B$16='(I) OptionLists'!$D$7,(1+C$16)^(VALUE(LEFT(E12,4))-2026),1))))),2)),IF($B$15='(I) OptionLists'!$C$7,IF(AND(B$16='(I) OptionLists'!$D$7,C$16=""),"Populate Cell C16",ROUND($C$15*(IF(B$16='(I) OptionLists'!$D$5,VLOOKUP(E12,'(F) StatewideChange'!$B$5:$C$19,2,FALSE)/VLOOKUP(2026,'(F) StatewideChange'!$B$5:$C$19,2,FALSE),IF(B$16='(I) OptionLists'!$D$8,1,IF(B$16='(I) OptionLists'!$D$6,(2040-VALUE(LEFT(E12,4)))/(2040-2026),IF(B$16='(I) OptionLists'!$D$7,(1+C$16)^(VALUE(LEFT(E12,4))-2026),1))))),2)),IF(B$15='(I) OptionLists'!$C$8,IF(L12="","Populate Column L",ROUND(L12,2)),IF(AND(B$16='(I) OptionLists'!$D$7,C$16=""),"Populate Cell C16",IFERROR(ROUND(VLOOKUP($B$11,EDU_CI_Lookup,2,FALSE)*(IF(B$16='(I) OptionLists'!$D$5,VLOOKUP(E12,'(F) StatewideChange'!$B$5:$C$19,2,FALSE)/VLOOKUP(2026,'(F) StatewideChange'!$B$5:$C$19,2,FALSE),IF(B$16='(I) OptionLists'!$D$8,1,IF(B$16='(I) OptionLists'!$D$6,(2040-VALUE(LEFT(E12,4)))/(2040-2026),IF(B$16='(I) OptionLists'!$D$7,(1+C$16)^(VALUE(LEFT(E12,4))-2026),1))))),2),"Select valid EDU option"))))))) -> 34.41 | H12: =IF(LEFT(F12,3)="Pop",F12,IF(LEFT(G12,3)="Pop",G12,IF(AND(Calculator!$B$22='(I) OptionLists'!$E$8,Calculator!$C$22=""),"Populate Cell C22",IFERROR(IF(E12="","",ROUND(F12*1000*3.6*(1-0.35*IF(Calculator!$B$22='(I) OptionLists'!$E$8,$C$22,VALUE(RIGHT($B$22,LEN($B$22)-FIND("-",$B$22,1)-1))))*(3.4*VLOOKUP(E12,'(D) CI Standard'!$B$5:$C$19,2,FALSE)-G12)/1000000,0)),"")))) -> 931686 | I12: {=IF(E12="","",_xlfn.IFNA(IF(B$19='(I) OptionLists'!$B$7,IF(C$19="","Populate cell C20",ROUND(C$19*IF($B$20="Nominal",1,INDEX('(H) Inflation'!$C$12:$N$16,MATCH($B$21,'(H) Inflation'!$B$12:$B$16,0),MATCH($C$20,'(G) Credit Price_nom'!$C$5:$Q$5,0))/INDEX('(H) Inflation'!$C$12:$N$16,MATCH($B$21,'(H) Inflation'!$B$12:$B$16,0),MATCH(E12,'(G) Credit Price_nom'!$C$5:$Q$5,0))),2)),IF(B$19='(I) OptionLists'!$B$8,IF(K11="","Populate Column M",K11),ROUND(INDEX('(G) Credit Price_nom'!$C$6:$Q$7,MATCH($B$19,'(G) Credit Price_nom'!$B$6:$B$7,0),MATCH(E12,'(G) Credit Price_nom'!$C$5:$Q$5,0))*IF($B$20="Nominal",1,INDEX('(H) Inflation'!$C$12:$N$16,MATCH($B$21,'(H) Inflation'!$B$12:$B$16,0),MATCH($C$20,'(G) Credit Price_nom'!$C$5:$Q$5,0))/INDEX('(H) Inflation'!$C$12:$R$16,MATCH($B$21,'(H) Inflation'!$B$12:$B$16,0),MATCH(E12,'(H) Inflation'!$C$11:$R$11,0))),2))),IF(AND($B$18="single year",$C$18=""),"Populate cell C19",IF(AND($B$20="Real (input dollar year in Column C)",$C$20=""),"Populate cell C21","Check cells C18:C22"))))} -> 56.43 | J12: =IF(LEFT(H12,3)="Pop",H12,IF(LEFT(I12,3)="Pop",I12,IFERROR(IF(H12="","",IF(I12="","",H12*I12)),""))) -> 52575041 | L12: 50
A13: Residential charging fuel share (% of fuel quantity)C,I | B13: Medium (Oregon) - 64% | C13: 0.5 | E13: {=IF(B$18="All Years",INDEX(Years,ROW()-6),"")} -> 2032 | F13: =IF(AND($B$12="Manual",$C$12=""),"Populate Cell C12",IF(AND($B$13='(I) OptionLists'!$F$8,$C$13=""),"Populate Cell C13",IF(AND($B$14='(I) OptionLists'!$G$7,$C$14=""),"Populate Cell C14",IF(AND(VALUE(LEFT(E13,4))>2026,$B$14='(I) OptionLists'!$G$8,K13=""),"Populate Column K",IF($B$12="Manual",$C$12,'(A) ElectricityProj_MWh'!$D$12*IF($B$11="Statewide",1,IFERROR(VLOOKUP($B$11,'(B) EDU_EVs'!$B$5:$D$24,3,FALSE)/SUM('(B) EDU_EVs'!$D$5:$D$24),'(B) EDU_EVs'!$D$24/SUM('(B) EDU_EVs'!$D$5:$D$24))))*IF($B$13="Manual",$C$13,VALUE(RIGHT($B$13,3)))*IF($B$14='(I) OptionLists'!$G$5,VLOOKUP(E13,'(A) ElectricityProj_MWh'!$A$6:$D$26,4,FALSE)/'(A) ElectricityProj_MWh'!$D$12,IF($B$14='(I) OptionLists'!$G$6,VLOOKUP(E13,'(A) ElectricityProj_MWh'!$F$6:$I$26,4,FALSE)/'(A) ElectricityProj_MWh'!$D$12,IF($B$14='(I) OptionLists'!$G$7,(1+$C$14)^(VALUE(LEFT(E13,4))-2026),1+IF($B$14='(I) OptionLists'!$G$8,K13)))))))) -> 1503474.1 | G13: =IF(E13="","",IF(AND($B$15='(I) OptionLists'!$C$7,$C$15=""),"Populate Cell C15",IF($B$15='(I) OptionLists'!$C$6,IF(AND(B$16='(I) OptionLists'!$D$7,C$16=""),"Populate Cell C16",ROUND(Statewide2026*(IF(B$16='(I) OptionLists'!$D$5,VLOOKUP(E13,'(F) StatewideChange'!$B$5:$C$19,2,FALSE)/VLOOKUP(2026,'(F) StatewideChange'!$B$5:$C$19,2,FALSE),IF(B$16='(I) OptionLists'!$D$8,1,IF(B$16='(I) OptionLists'!$D$6,VLOOKUP(2026,'(F) StatewideChange'!$B$5:$C$19,2,FALSE)/VLOOKUP(E13,'(F) StatewideChange'!$B$5:$C$19,2,FALSE)*(2040-VALUE(LEFT(E13,4)))/(2040-2026),IF(B$16='(I) OptionLists'!$D$7,(1+C$16)^(VALUE(LEFT(E13,4))-2026),1))))),2)),IF($B$15='(I) OptionLists'!$C$7,IF(AND(B$16='(I) OptionLists'!$D$7,C$16=""),"Populate Cell C16",ROUND($C$15*(IF(B$16='(I) OptionLists'!$D$5,VLOOKUP(E13,'(F) StatewideChange'!$B$5:$C$19,2,FALSE)/VLOOKUP(2026,'(F) StatewideChange'!$B$5:$C$19,2,FALSE),IF(B$16='(I) OptionLists'!$D$8,1,IF(B$16='(I) OptionLists'!$D$6,(2040-VALUE(LEFT(E13,4)))/(2040-2026),IF(B$16='(I) OptionLists'!$D$7,(1+C$16)^(VALUE(LEFT(E13,4))-2026),1))))),2)),IF(B$15='(I) OptionLists'!$C$8,IF(L13="","Populate Column L",ROUND(L13,2)),IF(AND(B$16='(I) OptionLists'!$D$7,C$16=""),"Populate Cell C16",IFERROR(ROUND(VLOOKUP($B$11,EDU_CI_Lookup,2,FALSE)*(IF(B$16='(I) OptionLists'!$D$5,VLOOKUP(E13,'(F) StatewideChange'!$B$5:$C$19,2,FALSE)/VLOOKUP(2026,'(F) StatewideChange'!$B$5:$C$19,2,FALSE),IF(B$16='(I) OptionLists'!$D$8,1,IF(B$16='(I) OptionLists'!$D$6,(2040-VALUE(LEFT(E13,4)))/(2040-2026),IF(B$16='(I) OptionLists'!$D$7,(1+C$16)^(VALUE(LEFT(E13,4))-2026),1))))),2),"Select valid EDU option"))))))) -> 24.29 | H13: =IF(LEFT(F13,3)="Pop",F13,IF(LEFT(G13,3)="Pop",G13,IF(AND(Calculator!$B$22='(I) OptionLists'!$E$8,Calculator!$C$22=""),"Populate Cell C22",IFERROR(IF(E13="","",ROUND(F13*1000*3.6*(1-0.35*IF(Calculator!$B$22='(I) OptionLists'!$E$8,$C$22,VALUE(RIGHT($B$22,LEN($B$22)-FIND("-",$B$22,1)-1))))*(3.4*VLOOKUP(E13,'(D) CI Standard'!$B$5:$C$19,2,FALSE)-G13)/1000000,0)),"")))) -> 1240990 | I13: {=IF(E13="","",_xlfn.IFNA(IF(B$19='(I) OptionLists'!$B$7,IF(C$19="","Populate cell C20",ROUND(C$19*IF($B$20="Nominal",1,INDEX('(H) Inflation'!$C$12:$N$16,MATCH($B$21,'(H) Inflation'!$B$12:$B$16,0),MATCH($C$20,'(G) Credit Price_nom'!$C$5:$Q$5,0))/INDEX('(H) Inflation'!$C$12:$N$16,MATCH($B$21,'(H) Inflation'!$B$12:$B$16,0),MATCH(E13,'(G) Credit Price_nom'!$C$5:$Q$5,0))),2)),IF(B$19='(I) OptionLists'!$B$8,IF(K12="","Populate Column M",K12),ROUND(INDEX('(G) Credit Price_nom'!$C$6:$Q$7,MATCH($B$19,'(G) Credit Price_nom'!$B$6:$B$7,0),MATCH(E13,'(G) Credit Price_nom'!$C$5:$Q$5,0))*IF($B$20="Nominal",1,INDEX('(H) Inflation'!$C$12:$N$16,MATCH($B$21,'(H) Inflation'!$B$12:$B$16,0),MATCH($C$20,'(G) Credit Price_nom'!$C$5:$Q$5,0))/INDEX('(H) Inflation'!$C$12:$R$16,MATCH($B$21,'(H) Inflation'!$B$12:$B$16,0),MATCH(E13,'(H) Inflation'!$C$11:$R$11,0))),2))),IF(AND($B$18="single year",$C$18=""),"Populate cell C19",IF(AND($B$20="Real (input dollar year in Column C)",$C$20=""),"Populate cell C21","Check cells C18:C22"))))} -> 44.34 | J13: =IF(LEFT(H13,3)="Pop",H13,IF(LEFT(I13,3)="Pop",I13,IFERROR(IF(H13="","",IF(I13="","",H13*I13)),""))) -> 55025497
A14: Projected charging fuel change (annual % change)A,I | B14: Benefit-Cost Analysis | C14: 0.05 | E14: {=IF(B$18="All Years",INDEX(Years,ROW()-6),"")} -> 2033 | F14: =IF(AND($B$12="Manual",$C$12=""),"Populate Cell C12",IF(AND($B$13='(I) OptionLists'!$F$8,$C$13=""),"Populate Cell C13",IF(AND($B$14='(I) OptionLists'!$G$7,$C$14=""),"Populate Cell C14",IF(AND(VALUE(LEFT(E14,4))>2026,$B$14='(I) OptionLists'!$G$8,K14=""),"Populate Column K",IF($B$12="Manual",$C$12,'(A) ElectricityProj_MWh'!$D$12*IF($B$11="Statewide",1,IFERROR(VLOOKUP($B$11,'(B) EDU_EVs'!$B$5:$D$24,3,FALSE)/SUM('(B) EDU_EVs'!$D$5:$D$24),'(B) EDU_EVs'!$D$24/SUM('(B) EDU_EVs'!$D$5:$D$24))))*IF($B$13="Manual",$C$13,VALUE(RIGHT($B$13,3)))*IF($B$14='(I) OptionLists'!$G$5,VLOOKUP(E14,'(A) ElectricityProj_MWh'!$A$6:$D$26,4,FALSE)/'(A) ElectricityProj_MWh'!$D$12,IF($B$14='(I) OptionLists'!$G$6,VLOOKUP(E14,'(A) ElectricityProj_MWh'!$F$6:$I$26,4,FALSE)/'(A) ElectricityProj_MWh'!$D$12,IF($B$14='(I) OptionLists'!$G$7,(1+$C$14)^(VALUE(LEFT(E14,4))-2026),1+IF($B$14='(I) OptionLists'!$G$8,K14)))))))) -> 1861325 | G14: =IF(E14="","",IF(AND($B$15='(I) OptionLists'!$C$7,$C$15=""),"Populate Cell C15",IF($B$15='(I) OptionLists'!$C$6,IF(AND(B$16='(I) OptionLists'!$D$7,C$16=""),"Populate Cell C16",ROUND(Statewide2026*(IF(B$16='(I) OptionLists'!$D$5,VLOOKUP(E14,'(F) StatewideChange'!$B$5:$C$19,2,FALSE)/VLOOKUP(2026,'(F) StatewideChange'!$B$5:$C$19,2,FALSE),IF(B$16='(I) OptionLists'!$D$8,1,IF(B$16='(I) OptionLists'!$D$6,VLOOKUP(2026,'(F) StatewideChange'!$B$5:$C$19,2,FALSE)/VLOOKUP(E14,'(F) StatewideChange'!$B$5:$C$19,2,FALSE)*(2040-VALUE(LEFT(E14,4)))/(2040-2026),IF(B$16='(I) OptionLists'!$D$7,(1+C$16)^(VALUE(LEFT(E14,4))-2026),1))))),2)),IF($B$15='(I) OptionLists'!$C$7,IF(AND(B$16='(I) OptionLists'!$D$7,C$16=""),"Populate Cell C16",ROUND($C$15*(IF(B$16='(I) OptionLists'!$D$5,VLOOKUP(E14,'(F) StatewideChange'!$B$5:$C$19,2,FALSE)/VLOOKUP(2026,'(F) StatewideChange'!$B$5:$C$19,2,FALSE),IF(B$16='(I) OptionLists'!$D$8,1,IF(B$16='(I) OptionLists'!$D$6,(2040-VALUE(LEFT(E14,4)))/(2040-2026),IF(B$16='(I) OptionLists'!$D$7,(1+C$16)^(VALUE(LEFT(E14,4))-2026),1))))),2)),IF(B$15='(I) OptionLists'!$C$8,IF(L14="","Populate Column L",ROUND(L14,2)),IF(AND(B$16='(I) OptionLists'!$D$7,C$16=""),"Populate Cell C16",IFERROR(ROUND(VLOOKUP($B$11,EDU_CI_Lookup,2,FALSE)*(IF(B$16='(I) OptionLists'!$D$5,VLOOKUP(E14,'(F) StatewideChange'!$B$5:$C$19,2,FALSE)/VLOOKUP(2026,'(F) StatewideChange'!$B$5:$C$19,2,FALSE),IF(B$16='(I) OptionLists'!$D$8,1,IF(B$16='(I) OptionLists'!$D$6,(2040-VALUE(LEFT(E14,4)))/(2040-2026),IF(B$16='(I) OptionLists'!$D$7,(1+C$16)^(VALUE(LEFT(E14,4))-2026),1))))),2),"Select valid EDU option"))))))) -> 22.61 | H14: =IF(LEFT(F14,3)="Pop",F14,IF(LEFT(G14,3)="Pop",G14,IF(AND(Calculator!$B$22='(I) OptionLists'!$E$8,Calculator!$C$22=""),"Populate Cell C22",IFERROR(IF(E14="","",ROUND(F14*1000*3.6*(1-0.35*IF(Calculator!$B$22='(I) OptionLists'!$E$8,$C$22,VALUE(RIGHT($B$22,LEN($B$22)-FIND("-",$B$22,1)-1))))*(3.4*VLOOKUP(E14,'(D) CI Standard'!$B$5:$C$19,2,FALSE)-G14)/1000000,0)),"")))) -> 1525752 | I14: {=IF(E14="","",_xlfn.IFNA(IF(B$19='(I) OptionLists'!$B$7,IF(C$19="","Populate cell C20",ROUND(C$19*IF($B$20="Nominal",1,INDEX('(H) Inflation'!$C$12:$N$16,MATCH($B$21,'(H) Inflation'!$B$12:$B$16,0),MATCH($C$20,'(G) Credit Price_nom'!$C$5:$Q$5,0))/INDEX('(H) Inflation'!$C$12:$N$16,MATCH($B$21,'(H) Inflation'!$B$12:$B$16,0),MATCH(E14,'(G) Credit Price_nom'!$C$5:$Q$5,0))),2)),IF(B$19='(I) OptionLists'!$B$8,IF(K13="","Populate Column M",K13),ROUND(INDEX('(G) Credit Price_nom'!$C$6:$Q$7,MATCH($B$19,'(G) Credit Price_nom'!$B$6:$B$7,0),MATCH(E14,'(G) Credit Price_nom'!$C$5:$Q$5,0))*IF($B$20="Nominal",1,INDEX('(H) Inflation'!$C$12:$N$16,MATCH($B$21,'(H) Inflation'!$B$12:$B$16,0),MATCH($C$20,'(G) Credit Price_nom'!$C$5:$Q$5,0))/INDEX('(H) Inflation'!$C$12:$R$16,MATCH($B$21,'(H) Inflation'!$B$12:$B$16,0),MATCH(E14,'(H) Inflation'!$C$11:$R$11,0))),2))),IF(AND($B$18="single year",$C$18=""),"Populate cell C19",IF(AND($B$20="Real (input dollar year in Column C)",$C$20=""),"Populate cell C21","Check cells C18:C22"))))} -> 35.41 | J14: =IF(LEFT(H14,3)="Pop",H14,IF(LEFT(I14,3)="Pop",I14,IFERROR(IF(H14="","",IF(I14="","",H14*I14)),""))) -> 54026878
A15: 2026 Grid/EDU carbon intensity (CI) (gCO2e/MJ)3,E,I | B15: EDU-based estimate | C15: 80 | E15: {=IF(B$18="All Years",INDEX(Years,ROW()-6),"")} -> 2034 | F15: =IF(AND($B$12="Manual",$C$12=""),"Populate Cell C12",IF(AND($B$13='(I) OptionLists'!$F$8,$C$13=""),"Populate Cell C13",IF(AND($B$14='(I) OptionLists'!$G$7,$C$14=""),"Populate Cell C14",IF(AND(VALUE(LEFT(E15,4))>2026,$B$14='(I) OptionLists'!$G$8,K15=""),"Populate Column K",IF($B$12="Manual",$C$12,'(A) ElectricityProj_MWh'!$D$12*IF($B$11="Statewide",1,IFERROR(VLOOKUP($B$11,'(B) EDU_EVs'!$B$5:$D$24,3,FALSE)/SUM('(B) EDU_EVs'!$D$5:$D$24),'(B) EDU_EVs'!$D$24/SUM('(B) EDU_EVs'!$D$5:$D$24))))*IF($B$13="Manual",$C$13,VALUE(RIGHT($B$13,3)))*IF($B$14='(I) OptionLists'!$G$5,VLOOKUP(E15,'(A) ElectricityProj_MWh'!$A$6:$D$26,4,FALSE)/'(A) ElectricityProj_MWh'!$D$12,IF($B$14='(I) OptionLists'!$G$6,VLOOKUP(E15,'(A) ElectricityProj_MWh'!$F$6:$I$26,4,FALSE)/'(A) ElectricityProj_MWh'!$D$12,IF($B$14='(I) OptionLists'!$G$7,(1+$C$14)^(VALUE(LEFT(E15,4))-2026),1+IF($B$14='(I) OptionLists'!$G$8,K15)))))))) -> 2205511.9 | G15: =IF(E15="","",IF(AND($B$15='(I) OptionLists'!$C$7,$C$15=""),"Populate Cell C15",IF($B$15='(I) OptionLists'!$C$6,IF(AND(B$16='(I) OptionLists'!$D$7,C$16=""),"Populate Cell C16",ROUND(Statewide2026*(IF(B$16='(I) OptionLists'!$D$5,VLOOKUP(E15,'(F) StatewideChange'!$B$5:$C$19,2,FALSE)/VLOOKUP(2026,'(F) StatewideChange'!$B$5:$C$19,2,FALSE),IF(B$16='(I) OptionLists'!$D$8,1,IF(B$16='(I) OptionLists'!$D$6,VLOOKUP(2026,'(F) StatewideChange'!$B$5:$C$19,2,FALSE)/VLOOKUP(E15,'(F) StatewideChange'!$B$5:$C$19,2,FALSE)*(2040-VALUE(LEFT(E15,4)))/(2040-2026),IF(B$16='(I) OptionLists'!$D$7,(1+C$16)^(VALUE(LEFT(E15,4))-2026),1))))),2)),IF($B$15='(I) OptionLists'!$C$7,IF(AND(B$16='(I) OptionLists'!$D$7,C$16=""),"Populate Cell C16",ROUND($C$15*(IF(B$16='(I) OptionLists'!$D$5,VLOOKUP(E15,'(F) StatewideChange'!$B$5:$C$19,2,FALSE)/VLOOKUP(2026,'(F) StatewideChange'!$B$5:$C$19,2,FALSE),IF(B$16='(I) OptionLists'!$D$8,1,IF(B$16='(I) OptionLists'!$D$6,(2040-VALUE(LEFT(E15,4)))/(2040-2026),IF(B$16='(I) OptionLists'!$D$7,(1+C$16)^(VALUE(LEFT(E15,4))-2026),1))))),2)),IF(B$15='(I) OptionLists'!$C$8,IF(L15="","Populate Column L",ROUND(L15,2)),IF(AND(B$16='(I) OptionLists'!$D$7,C$16=""),"Populate Cell C16",IFERROR(ROUND(VLOOKUP($B$11,EDU_CI_Lookup,2,FALSE)*(IF(B$16='(I) OptionLists'!$D$5,VLOOKUP(E15,'(F) StatewideChange'!$B$5:$C$19,2,FALSE)/VLOOKUP(2026,'(F) StatewideChange'!$B$5:$C$19,2,FALSE),IF(B$16='(I) OptionLists'!$D$8,1,IF(B$16='(I) OptionLists'!$D$6,(2040-VALUE(LEFT(E15,4)))/(2040-2026),IF(B$16='(I) OptionLists'!$D$7,(1+C$16)^(VALUE(LEFT(E15,4))-2026),1))))),2),"Select valid EDU option"))))))) -> 22.29 | H15: =IF(LEFT(F15,3)="Pop",F15,IF(LEFT(G15,3)="Pop",G15,IF(AND(Calculator!$B$22='(I) OptionLists'!$E$8,Calculator!$C$22=""),"Populate Cell C22",IFERROR(IF(E15="","",ROUND(F15*1000*3.6*(1-0.35*IF(Calculator!$B$22='(I) OptionLists'!$E$8,$C$22,VALUE(RIGHT($B$22,LEN($B$22)-FIND("-",$B$22,1)-1))))*(3.4*VLOOKUP(E15,'(D) CI Standard'!$B$5:$C$19,2,FALSE)-G15)/1000000,0)),"")))) -> 1784511 | I15: {=IF(E15="","",_xlfn.IFNA(IF(B$19='(I) OptionLists'!$B$7,IF(C$19="","Populate cell C20",ROUND(C$19*IF($B$20="Nominal",1,INDEX('(H) Inflation'!$C$12:$N$16,MATCH($B$21,'(H) Inflation'!$B$12:$B$16,0),MATCH($C$20,'(G) Credit Price_nom'!$C$5:$Q$5,0))/INDEX('(H) Inflation'!$C$12:$N$16,MATCH($B$21,'(H) Inflation'!$B$12:$B$16,0),MATCH(E15,'(G) Credit Price_nom'!$C$5:$Q$5,0))),2)),IF(B$19='(I) OptionLists'!$B$8,IF(K14="","Populate Column M",K14),ROUND(INDEX('(G) Credit Price_nom'!$C$6:$Q$7,MATCH($B$19,'(G) Credit Price_nom'!$B$6:$B$7,0),MATCH(E15,'(G) Credit Price_nom'!$C$5:$Q$5,0))*IF($B$20="Nominal",1,INDEX('(H) Inflation'!$C$12:$N$16,MATCH($B$21,'(H) Inflation'!$B$12:$B$16,0),MATCH($C$20,'(G) Credit Price_nom'!$C$5:$Q$5,0))/INDEX('(H) Inflation'!$C$12:$R$16,MATCH($B$21,'(H) Inflation'!$B$12:$B$16,0),MATCH(E15,'(H) Inflation'!$C$11:$R$11,0))),2))),IF(AND($B$18="single year",$C$18=""),"Populate cell C19",IF(AND($B$20="Real (input dollar year in Column C)",$C$20=""),"Populate cell C21","Check cells C18:C22"))))} -> 34.79 | J15: =IF(LEFT(H15,3)="Pop",H15,IF(LEFT(I15,3)="Pop",I15,IFERROR(IF(H15="","",IF(I15="","",H15*I15)),""))) -> 62083138
A16: Projected Grid/EDU CI change (annual % change)F,I | B16: Statewide change | C16: -0.05 | E16: {=IF(B$18="All Years",INDEX(Years,ROW()-6),"")} -> 2035 | F16: =IF(AND($B$12="Manual",$C$12=""),"Populate Cell C12",IF(AND($B$13='(I) OptionLists'!$F$8,$C$13=""),"Populate Cell C13",IF(AND($B$14='(I) OptionLists'!$G$7,$C$14=""),"Populate Cell C14",IF(AND(VALUE(LEFT(E16,4))>2026,$B$14='(I) OptionLists'!$G$8,K16=""),"Populate Column K",IF($B$12="Manual",$C$12,'(A) ElectricityProj_MWh'!$D$12*IF($B$11="Statewide",1,IFERROR(VLOOKUP($B$11,'(B) EDU_EVs'!$B$5:$D$24,3,FALSE)/SUM('(B) EDU_EVs'!$D$5:$D$24),'(B) EDU_EVs'!$D$24/SUM('(B) EDU_EVs'!$D$5:$D$24))))*IF($B$13="Manual",$C$13,VALUE(RIGHT($B$13,3)))*IF($B$14='(I) OptionLists'!$G$5,VLOOKUP(E16,'(A) ElectricityProj_MWh'!$A$6:$D$26,4,FALSE)/'(A) ElectricityProj_MWh'!$D$12,IF($B$14='(I) OptionLists'!$G$6,VLOOKUP(E16,'(A) ElectricityProj_MWh'!$F$6:$I$26,4,FALSE)/'(A) ElectricityProj_MWh'!$D$12,IF($B$14='(I) OptionLists'!$G$7,(1+$C$14)^(VALUE(LEFT(E16,4))-2026),1+IF($B$14='(I) OptionLists'!$G$8,K16)))))))) -> 2493358.5 | G16: =IF(E16="","",IF(AND($B$15='(I) OptionLists'!$C$7,$C$15=""),"Populate Cell C15",IF($B$15='(I) OptionLists'!$C$6,IF(AND(B$16='(I) OptionLists'!$D$7,C$16=""),"Populate Cell C16",ROUND(Statewide2026*(IF(B$16='(I) OptionLists'!$D$5,VLOOKUP(E16,'(F) StatewideChange'!$B$5:$C$19,2,FALSE)/VLOOKUP(2026,'(F) StatewideChange'!$B$5:$C$19,2,FALSE),IF(B$16='(I) OptionLists'!$D$8,1,IF(B$16='(I) OptionLists'!$D$6,VLOOKUP(2026,'(F) StatewideChange'!$B$5:$C$19,2,FALSE)/VLOOKUP(E16,'(F) StatewideChange'!$B$5:$C$19,2,FALSE)*(2040-VALUE(LEFT(E16,4)))/(2040-2026),IF(B$16='(I) OptionLists'!$D$7,(1+C$16)^(VALUE(LEFT(E16,4))-2026),1))))),2)),IF($B$15='(I) OptionLists'!$C$7,IF(AND(B$16='(I) OptionLists'!$D$7,C$16=""),"Populate Cell C16",ROUND($C$15*(IF(B$16='(I) OptionLists'!$D$5,VLOOKUP(E16,'(F) StatewideChange'!$B$5:$C$19,2,FALSE)/VLOOKUP(2026,'(F) StatewideChange'!$B$5:$C$19,2,FALSE),IF(B$16='(I) OptionLists'!$D$8,1,IF(B$16='(I) OptionLists'!$D$6,(2040-VALUE(LEFT(E16,4)))/(2040-2026),IF(B$16='(I) OptionLists'!$D$7,(1+C$16)^(VALUE(LEFT(E16,4))-2026),1))))),2)),IF(B$15='(I) OptionLists'!$C$8,IF(L16="","Populate Column L",ROUND(L16,2)),IF(AND(B$16='(I) OptionLists'!$D$7,C$16=""),"Populate Cell C16",IFERROR(ROUND(VLOOKUP($B$11,EDU_CI_Lookup,2,FALSE)*(IF(B$16='(I) OptionLists'!$D$5,VLOOKUP(E16,'(F) StatewideChange'!$B$5:$C$19,2,FALSE)/VLOOKUP(2026,'(F) StatewideChange'!$B$5:$C$19,2,FALSE),IF(B$16='(I) OptionLists'!$D$8,1,IF(B$16='(I) OptionLists'!$D$6,(2040-VALUE(LEFT(E16,4)))/(2040-2026),IF(B$16='(I) OptionLists'!$D$7,(1+C$16)^(VALUE(LEFT(E16,4))-2026),1))))),2),"Select valid EDU option"))))))) -> 19.77 | H16: =IF(LEFT(F16,3)="Pop",F16,IF(LEFT(G16,3)="Pop",G16,IF(AND(Calculator!$B$22='(I) OptionLists'!$E$8,Calculator!$C$22=""),"Populate Cell C22",IFERROR(IF(E16="","",ROUND(F16*1000*3.6*(1-0.35*IF(Calculator!$B$22='(I) OptionLists'!$E$8,$C$22,VALUE(RIGHT($B$22,LEN($B$22)-FIND("-",$B$22,1)-1))))*(3.4*VLOOKUP(E16,'(D) CI Standard'!$B$5:$C$19,2,FALSE)-G16)/1000000,0)),"")))) -> 2011039 | I16: {=IF(E16="","",_xlfn.IFNA(IF(B$19='(I) OptionLists'!$B$7,IF(C$19="","Populate cell C20",ROUND(C$19*IF($B$20="Nominal",1,INDEX('(H) Inflation'!$C$12:$N$16,MATCH($B$21,'(H) Inflation'!$B$12:$B$16,0),MATCH($C$20,'(G) Credit Price_nom'!$C$5:$Q$5,0))/INDEX('(H) Inflation'!$C$12:$N$16,MATCH($B$21,'(H) Inflation'!$B$12:$B$16,0),MATCH(E16,'(G) Credit Price_nom'!$C$5:$Q$5,0))),2)),IF(B$19='(I) OptionLists'!$B$8,IF(K15="","Populate Column M",K15),ROUND(INDEX('(G) Credit Price_nom'!$C$6:$Q$7,MATCH($B$19,'(G) Credit Price_nom'!$B$6:$B$7,0),MATCH(E16,'(G) Credit Price_nom'!$C$5:$Q$5,0))*IF($B$20="Nominal",1,INDEX('(H) Inflation'!$C$12:$N$16,MATCH($B$21,'(H) Inflation'!$B$12:$B$16,0),MATCH($C$20,'(G) Credit Price_nom'!$C$5:$Q$5,0))/INDEX('(H) Inflation'!$C$12:$R$16,MATCH($B$21,'(H) Inflation'!$B$12:$B$16,0),MATCH(E16,'(H) Inflation'!$C$11:$R$11,0))),2))),IF(AND($B$18="single year",$C$18=""),"Populate cell C19",IF(AND($B$20="Real (input dollar year in Column C)",$C$20=""),"Populate cell C21","Check cells C18:C22"))))} -> 34.3 | J16: =IF(LEFT(H16,3)="Pop",H16,IF(LEFT(I16,3)="Pop",I16,IFERROR(IF(H16="","",IF(I16="","",H16*I16)),""))) -> 68978638
A17: Financial info | C17: Input value if orange | E17: {=IF(B$18="All Years",INDEX(Years,ROW()-6),"")} -> 2036 | F17: =IF(AND($B$12="Manual",$C$12=""),"Populate Cell C12",IF(AND($B$13='(I) OptionLists'!$F$8,$C$13=""),"Populate Cell C13",IF(AND($B$14='(I) OptionLists'!$G$7,$C$14=""),"Populate Cell C14",IF(AND(VALUE(LEFT(E17,4))>2026,$B$14='(I) OptionLists'!$G$8,K17=""),"Populate Column K",IF($B$12="Manual",$C$12,'(A) ElectricityProj_MWh'!$D$12*IF($B$11="Statewide",1,IFERROR(VLOOKUP($B$11,'(B) EDU_EVs'!$B$5:$D$24,3,FALSE)/SUM('(B) EDU_EVs'!$D$5:$D$24),'(B) EDU_EVs'!$D$24/SUM('(B) EDU_EVs'!$D$5:$D$24))))*IF($B$13="Manual",$C$13,VALUE(RIGHT($B$13,3)))*IF($B$14='(I) OptionLists'!$G$5,VLOOKUP(E17,'(A) ElectricityProj_MWh'!$A$6:$D$26,4,FALSE)/'(A) ElectricityProj_MWh'!$D$12,IF($B$14='(I) OptionLists'!$G$6,VLOOKUP(E17,'(A) ElectricityProj_MWh'!$F$6:$I$26,4,FALSE)/'(A) ElectricityProj_MWh'!$D$12,IF($B$14='(I) OptionLists'!$G$7,(1+$C$14)^(VALUE(LEFT(E17,4))-2026),1+IF($B$14='(I) OptionLists'!$G$8,K17)))))))) -> 2824992.6 | G17: =IF(E17="","",IF(AND($B$15='(I) OptionLists'!$C$7,$C$15=""),"Populate Cell C15",IF($B$15='(I) OptionLists'!$C$6,IF(AND(B$16='(I) OptionLists'!$D$7,C$16=""),"Populate Cell C16",ROUND(Statewide2026*(IF(B$16='(I) OptionLists'!$D$5,VLOOKUP(E17,'(F) StatewideChange'!$B$5:$C$19,2,FALSE)/VLOOKUP(2026,'(F) StatewideChange'!$B$5:$C$19,2,FALSE),IF(B$16='(I) OptionLists'!$D$8,1,IF(B$16='(I) OptionLists'!$D$6,VLOOKUP(2026,'(F) StatewideChange'!$B$5:$C$19,2,FALSE)/VLOOKUP(E17,'(F) StatewideChange'!$B$5:$C$19,2,FALSE)*(2040-VALUE(LEFT(E17,4)))/(2040-2026),IF(B$16='(I) OptionLists'!$D$7,(1+C$16)^(VALUE(LEFT(E17,4))-2026),1))))),2)),IF($B$15='(I) OptionLists'!$C$7,IF(AND(B$16='(I) OptionLists'!$D$7,C$16=""),"Populate Cell C16",ROUND($C$15*(IF(B$16='(I) OptionLists'!$D$5,VLOOKUP(E17,'(F) StatewideChange'!$B$5:$C$19,2,FALSE)/VLOOKUP(2026,'(F) StatewideChange'!$B$5:$C$19,2,FALSE),IF(B$16='(I) OptionLists'!$D$8,1,IF(B$16='(I) OptionLists'!$D$6,(2040-VALUE(LEFT(E17,4)))/(2040-2026),IF(B$16='(I) OptionLists'!$D$7,(1+C$16)^(VALUE(LEFT(E17,4))-2026),1))))),2)),IF(B$15='(I) OptionLists'!$C$8,IF(L17="","Populate Column L",ROUND(L17,2)),IF(AND(B$16='(I) OptionLists'!$D$7,C$16=""),"Populate Cell C16",IFERROR(ROUND(VLOOKUP($B$11,EDU_CI_Lookup,2,FALSE)*(IF(B$16='(I) OptionLists'!$D$5,VLOOKUP(E17,'(F) StatewideChange'!$B$5:$C$19,2,FALSE)/VLOOKUP(2026,'(F) StatewideChange'!$B$5:$C$19,2,FALSE),IF(B$16='(I) OptionLists'!$D$8,1,IF(B$16='(I) OptionLists'!$D$6,(2040-VALUE(LEFT(E17,4)))/(2040-2026),IF(B$16='(I) OptionLists'!$D$7,(1+C$16)^(VALUE(LEFT(E17,4))-2026),1))))),2),"Select valid EDU option"))))))) -> 18.44 | H17: =IF(LEFT(F17,3)="Pop",F17,IF(LEFT(G17,3)="Pop",G17,IF(AND(Calculator!$B$22='(I) OptionLists'!$E$8,Calculator!$C$22=""),"Populate Cell C22",IFERROR(IF(E17="","",ROUND(F17*1000*3.6*(1-0.35*IF(Calculator!$B$22='(I) OptionLists'!$E$8,$C$22,VALUE(RIGHT($B$22,LEN($B$22)-FIND("-",$B$22,1)-1))))*(3.4*VLOOKUP(E17,'(D) CI Standard'!$B$5:$C$19,2,FALSE)-G17)/1000000,0)),"")))) -> 2258853 | I17: {=IF(E17="","",_xlfn.IFNA(IF(B$19='(I) OptionLists'!$B$7,IF(C$19="","Populate cell C20",ROUND(C$19*IF($B$20="Nominal",1,INDEX('(H) Inflation'!$C$12:$N$16,MATCH($B$21,'(H) Inflation'!$B$12:$B$16,0),MATCH($C$20,'(G) Credit Price_nom'!$C$5:$Q$5,0))/INDEX('(H) Inflation'!$C$12:$N$16,MATCH($B$21,'(H) Inflation'!$B$12:$B$16,0),MATCH(E17,'(G) Credit Price_nom'!$C$5:$Q$5,0))),2)),IF(B$19='(I) OptionLists'!$B$8,IF(K16="","Populate Column M",K16),ROUND(INDEX('(G) Credit Price_nom'!$C$6:$Q$7,MATCH($B$19,'(G) Credit Price_nom'!$B$6:$B$7,0),MATCH(E17,'(G) Credit Price_nom'!$C$5:$Q$5,0))*IF($B$20="Nominal",1,INDEX('(H) Inflation'!$C$12:$N$16,MATCH($B$21,'(H) Inflation'!$B$12:$B$16,0),MATCH($C$20,'(G) Credit Price_nom'!$C$5:$Q$5,0))/INDEX('(H) Inflation'!$C$12:$R$16,MATCH($B$21,'(H) Inflation'!$B$12:$B$16,0),MATCH(E17,'(H) Inflation'!$C$11:$R$11,0))),2))),IF(AND($B$18="single year",$C$18=""),"Populate cell C19",IF(AND($B$20="Real (input dollar year in Column C)",$C$20=""),"Populate cell C21","Check cells C18:C22"))))} -> 0 | J17: =IF(LEFT(H17,3)="Pop",H17,IF(LEFT(I17,3)="Pop",I17,IFERROR(IF(H17="","",IF(I17="","",H17*I17)),""))) -> 0
A18: Output results year(s) | B18: All years | C18: 2037 | E18: {=IF(B$18="All Years",INDEX(Years,ROW()-6),"")} -> 2037 | F18: =IF(AND($B$12="Manual",$C$12=""),"Populate Cell C12",IF(AND($B$13='(I) OptionLists'!$F$8,$C$13=""),"Populate Cell C13",IF(AND($B$14='(I) OptionLists'!$G$7,$C$14=""),"Populate Cell C14",IF(AND(VALUE(LEFT(E18,4))>2026,$B$14='(I) OptionLists'!$G$8,K18=""),"Populate Column K",IF($B$12="Manual",$C$12,'(A) ElectricityProj_MWh'!$D$12*IF($B$11="Statewide",1,IFERROR(VLOOKUP($B$11,'(B) EDU_EVs'!$B$5:$D$24,3,FALSE)/SUM('(B) EDU_EVs'!$D$5:$D$24),'(B) EDU_EVs'!$D$24/SUM('(B) EDU_EVs'!$D$5:$D$24))))*IF($B$13="Manual",$C$13,VALUE(RIGHT($B$13,3)))*IF($B$14='(I) OptionLists'!$G$5,VLOOKUP(E18,'(A) ElectricityProj_MWh'!$A$6:$D$26,4,FALSE)/'(A) ElectricityProj_MWh'!$D$12,IF($B$14='(I) OptionLists'!$G$6,VLOOKUP(E18,'(A) ElectricityProj_MWh'!$F$6:$I$26,4,FALSE)/'(A) ElectricityProj_MWh'!$D$12,IF($B$14='(I) OptionLists'!$G$7,(1+$C$14)^(VALUE(LEFT(E18,4))-2026),1+IF($B$14='(I) OptionLists'!$G$8,K18)))))))) -> 3153127.8 | G18: =IF(E18="","",IF(AND($B$15='(I) OptionLists'!$C$7,$C$15=""),"Populate Cell C15",IF($B$15='(I) OptionLists'!$C$6,IF(AND(B$16='(I) OptionLists'!$D$7,C$16=""),"Populate Cell C16",ROUND(Statewide2026*(IF(B$16='(I) OptionLists'!$D$5,VLOOKUP(E18,'(F) StatewideChange'!$B$5:$C$19,2,FALSE)/VLOOKUP(2026,'(F) StatewideChange'!$B$5:$C$19,2,FALSE),IF(B$16='(I) OptionLists'!$D$8,1,IF(B$16='(I) OptionLists'!$D$6,VLOOKUP(2026,'(F) StatewideChange'!$B$5:$C$19,2,FALSE)/VLOOKUP(E18,'(F) StatewideChange'!$B$5:$C$19,2,FALSE)*(2040-VALUE(LEFT(E18,4)))/(2040-2026),IF(B$16='(I) OptionLists'!$D$7,(1+C$16)^(VALUE(LEFT(E18,4))-2026),1))))),2)),IF($B$15='(I) OptionLists'!$C$7,IF(AND(B$16='(I) OptionLists'!$D$7,C$16=""),"Populate Cell C16",ROUND($C$15*(IF(B$16='(I) OptionLists'!$D$5,VLOOKUP(E18,'(F) StatewideChange'!$B$5:$C$19,2,FALSE)/VLOOKUP(2026,'(F) StatewideChange'!$B$5:$C$19,2,FALSE),IF(B$16='(I) OptionLists'!$D$8,1,IF(B$16='(I) OptionLists'!$D$6,(2040-VALUE(LEFT(E18,4)))/(2040-2026),IF(B$16='(I) OptionLists'!$D$7,(1+C$16)^(VALUE(LEFT(E18,4))-2026),1))))),2)),IF(B$15='(I) OptionLists'!$C$8,IF(L18="","Populate Column L",ROUND(L18,2)),IF(AND(B$16='(I) OptionLists'!$D$7,C$16=""),"Populate Cell C16",IFERROR(ROUND(VLOOKUP($B$11,EDU_CI_Lookup,2,FALSE)*(IF(B$16='(I) OptionLists'!$D$5,VLOOKUP(E18,'(F) StatewideChange'!$B$5:$C$19,2,FALSE)/VLOOKUP(2026,'(F) StatewideChange'!$B$5:$C$19,2,FALSE),IF(B$16='(I) OptionLists'!$D$8,1,IF(B$16='(I) OptionLists'!$D$6,(2040-VALUE(LEFT(E18,4)))/(2040-2026),IF(B$16='(I) OptionLists'!$D$7,(1+C$16)^(VALUE(LEFT(E18,4))-2026),1))))),2),"Select valid EDU option"))))))) -> 16.7 | H18: =IF(LEFT(F18,3)="Pop",F18,IF(LEFT(G18,3)="Pop",G18,IF(AND(Calculator!$B$22='(I) OptionLists'!$E$8,Calculator!$C$22=""),"Populate Cell C22",IFERROR(IF(E18="","",ROUND(F18*1000*3.6*(1-0.35*IF(Calculator!$B$22='(I) OptionLists'!$E$8,$C$22,VALUE(RIGHT($B$22,LEN($B$22)-FIND("-",$B$22,1)-1))))*(3.4*VLOOKUP(E18,'(D) CI Standard'!$B$5:$C$19,2,FALSE)-G18)/1000000,0)),"")))) -> 2504315 | I18: {=IF(E18="","",_xlfn.IFNA(IF(B$19='(I) OptionLists'!$B$7,IF(C$19="","Populate cell C20",ROUND(C$19*IF($B$20="Nominal",1,INDEX('(H) Inflation'!$C$12:$N$16,MATCH($B$21,'(H) Inflation'!$B$12:$B$16,0),MATCH($C$20,'(G) Credit Price_nom'!$C$5:$Q$5,0))/INDEX('(H) Inflation'!$C$12:$N$16,MATCH($B$21,'(H) Inflation'!$B$12:$B$16,0),MATCH(E18,'(G) Credit Price_nom'!$C$5:$Q$5,0))),2)),IF(B$19='(I) OptionLists'!$B$8,IF(K17="","Populate Column M",K17),ROUND(INDEX('(G) Credit Price_nom'!$C$6:$Q$7,MATCH($B$19,'(G) Credit Price_nom'!$B$6:$B$7,0),MATCH(E18,'(G) Credit Price_nom'!$C$5:$Q$5,0))*IF($B$20="Nominal",1,INDEX('(H) Inflation'!$C$12:$N$16,MATCH($B$21,'(H) Inflation'!$B$12:$B$16,0),MATCH($C$20,'(G) Credit Price_nom'!$C$5:$Q$5,0))/INDEX('(H) Inflation'!$C$12:$R$16,MATCH($B$21,'(H) Inflation'!$B$12:$B$16,0),MATCH(E18,'(H) Inflation'!$C$11:$R$11,0))),2))),IF(AND($B$18="single year",$C$18=""),"Populate cell C19",IF(AND($B$20="Real (input dollar year in Column C)",$C$20=""),"Populate cell C21","Check cells C18:C22"))))} -> 0 | J18: =IF(LEFT(H18,3)="Pop",H18,IF(LEFT(I18,3)="Pop",I18,IFERROR(IF(H18="","",IF(I18="","",H18*I18)),""))) -> 0
