Workbook

Sheet Nonpoint Reductions
A1: SCC | B1: SCC Level One | C1: SCC Level Two | D1: SCC Level Three | E1: SCC Level Four | F1: Pre-Rule NOx (tons/year) | G1: Pre-Rule VOC (tons/year) | H1: Source Type | I1: Rule Section | J1: NOx Reduction (%) | K1: VOC Reduction (%) | L1: Post-Rule NOx (tons/year) | M1: Post-Rule VOC (tons/year) | N1: NOx Reductions (tons/year) | O1: VOC Reductions (tons/year)
A2: 2310011600 | B2: Industrial Processes | C2: Oil and Gas Exploration and Production | D2: On-Shore Oil Production | E2: Artificial Lift Engines | F2: 10030.561 | G2: 3231.7385 | H2: Engines and Turbines | I2: 113 | J2: 0 | K2: 0 | L2: 10030.561 | M2: 3231.7385 | N2: 0 | O2: 0
A3: 2310020600 | B3: Industrial Processes | C3: Oil and Gas Exploration and Production | D3: Natural Gas | E3: Compressor Engines | F3: 24163.284 | G3: 12014.071 | H3: Engines and Turbines | I3: 113 | J3: 0.28877262 | K3: 0.075364069 | L3: 17185.589 | M3: 11108.641 | N3: 6977.6947 | O3: 905.42925
A4: 2310021351 | B4: Industrial Processes | C4: Oil and Gas Exploration and Production | D4: On-Shore Gas Production | E4: Lateral Compressors 4 Cycle Rich Burn | F4: 761.44514 | G4: 380.72257 | H4: Engines and Turbines | I4: 113 | J4: 0.1086 | K4: 0.036136873 | L4: 678.7522 | M4: 366.96445 | N4: 82.692939 | O4: 13.758123
A5: 2310023000 | B5: Industrial Processes | C5: Oil and Gas Exploration and Production | D5: Coal Bed Methane Natural Gas | E5: Dewatering Pump Engines | F5: 1984.6288 | G5: 109.99022 | H5: Engines and Turbines | I5: 113 | J5: 0 | K5: 0 | L5: 1984.6288 | M5: 109.99022 | N5: 0 | O5: 0
A6: 2310023302 | B6: Industrial Processes | C6: Oil and Gas Exploration and Production | D6: Coal Bed Methane Natural Gas | E6: CBM Fired 4Cycle Rich Burn Compressor Engines 50 To 499 HP | F6: 7167.7802 | G6: 3583.8901 | H6: Engines and Turbines | I6: 113 | J6: 0 | K6: 0 | L6: 7167.7802 | M6: 3583.8901 | N6: 0 | O6: 0
A7: 2310023351 | B7: Industrial Processes | C7: Oil and Gas Exploration and Production | D7: Coal Bed Methane Natural Gas | E7: Lateral Compressors 4 Cycle Rich Burn | F7: 367.24109 | G7: 183.62054 | H7: Engines and Turbines | I7: 113 | J7: 0.1086 | K7: 0.036136873 | L7: 327.35871 | M7: 176.98507 | N7: 39.882381 | O7: 6.6354723
A8: 2310010700 | B8: Industrial Processes | C8: Oil and Gas Exploration and Production | D8: Crude Petroleum | E8: Oil Well Fugitives | F8: 0 | G8: 5479.2382 | H8: Equipment Leaks | I8: 116 | J8: 0 | K8: 0.75119553 | L8: 0 | M8: 1363.2589 | N8: 0 | O8: 4115.9793
A9: 2310021509 | B9: Industrial Processes | C9: Oil and Gas Exploration and Production | D9: On-Shore Gas Production | E9: Fugitives: All Processes | F9: 0 | G9: 12902.918 | H9: Equipment Leaks | I9: 116 | J9: 0 | K9: 0.75119553 | L9: 0 | M9: 3210.3036 | N9: 0 | O9: 9692.6141
A10: 2310023509 | B10: Industrial Processes | C10: Oil and Gas Exploration and Production | D10: Coal Bed Methane Natural Gas | E10: Fugitives | F10: 0 | G10: 511.41205 | H10: Equipment Leaks | I10: 116 | J10: 0 | K10: 0.75119553 | L10: 0 | M10: 127.2416 | N10: 0 | O10: 384.17045
A11: 2310021603 | B11: Industrial Processes | C11: Oil and Gas Exploration and Production | D11: On-Shore Gas Production | E11: Gas Well Venting - Blowdowns | F11: 0 | G11: 13020.363 | H11: Gas Well Liquids Unloading | I11: 117 | J11: 0 | K11: 0.5 | L11: 0 | M11: 6510.1814 | N11: 0 | O11: 6510.1814
A12: 2310011000 | B12: Industrial Processes | C12: Oil and Gas Exploration and Production | D12: On-Shore Oil Production | E12: Total: All Processes | F12: 10676.367 | G12: 2076.4216 | H12: Glycol Dehydrators | I12: 118 | J12: 0 | K12: 0.20791752 | L12: 10676.367 | M12: 1644.6971 | N12: 0 | O12: 431.72441
A13: 2310021400 | B13: Industrial Processes | C13: Oil and Gas Exploration and Production | D13: On-Shore Gas Production | E13: Gas Well Dehydrators | F13: 4.4440888 | G13: 7077.4274 | H13: Glycol Dehydrators | I13: 118 | J13: 0 | K13: 0.46203893 | L13: 4.4440888 | M13: 3807.3805 | N13: 0 | O13: 3270.047
... A27: 2310030220 | B27: Industrial Processes | C27: Oil and Gas Exploration and Production | D27: Natural Gas Liquids | E27: Gas Well Tanks - Flashing & Standing/Working/Breathing, Controlled | F27: 0 | G27: 7288.7002 | H27: Storage Tanks | I27: 123 | J27: 0 | K27: 0.53147606 | L27: 0 | M27: 3668.8929 | N27: 0 | O27: 3619.8073
A28: 2310000220 | B28: Industrial Processes | C28: Oil and Gas Exploration and Production | D28: All Processes | E28: Drill Rigs | F28: 2579.8493 | G28: 433.92331 | H28: #N/A | I28: #N/A | J28: #N/A | K28: #N/A | L28: 2579.8493 | M28: 433.92331 | N28: 0 | O28: 0
A29: 2310000230 | B29: Industrial Processes | C29: Oil and Gas Exploration and Production | D29: All Processes | E29: Workover Rigs | F29: 88.712391 | G29: 5.8062544 | H29: #N/A | I29: #N/A | J29: #N/A | K29: #N/A | L29: 88.712391 | M29: 5.8062544 | N29: 0 | O29: 0
A30: 2310000660 | B30: Industrial Processes | C30: Oil and Gas Exploration and Production | D30: All Processes | E30: Hydraulic Fracturing Engines | F30: 51.890438 | G30: 3.5726745 | H30: #N/A | I30: #N/A | J30: #N/A | K30: #N/A | L30: 51.890438 | M30: 3.5726745 | N30: 0 | O30: 0
A31: 2310011001 | B31: Industrial Processes | C31: Oil and Gas Exploration and Production | D31: On-Shore Oil Production | E31: Associated Gas Venting | F31: 499.61565 | G31: 3198.3944 | H31: #N/A | I31: #N/A | J31: #N/A | K31: #N/A | L31: 499.61565 | M31: 3198.3944 | N31: 0 | O31: 0
A32: 2310021011 | B32: Industrial Processes | C32: Oil and Gas Exploration and Production | D32: On-Shore Gas Production | E32: Condensate Tank Flaring | F32: 11.835958 | G32: 0 | H32: #N/A | I32: #N/A | J32: #N/A | K32: #N/A | L32: 11.835958 | M32: 0 | N32: 0 | O32: 0
A33: 2310021411 | B33: Industrial Processes | C33: Oil and Gas Exploration and Production | D33: On-Shore Gas Production | E33: Gas Well Dehydrators - Flaring | F33: 2.1995184 | G33: 0 | H33: #N/A | I33: #N/A | J33: #N/A | K33: #N/A | L33: 2.1995184 | M33: 0 | N33: 0 | O33: 0
A34: 2310021601 | B34: Industrial Processes | C34: Oil and Gas Exploration and Production | D34: On-Shore Gas Production | E34: Gas Well Venting - Initial Completions | F34: 0 | G34: 24.985318 | H34: #N/A | I34: #N/A | J34: #N/A | K34: #N/A | L34: 0 | M34: 24.985318 | N34: 0 | O34: 0
A35: 2310023601 | B35: Industrial Processes | C35: Oil and Gas Exploration and Production | D35: Coal Bed Methane Natural Gas | E35: Venting - Initial Completions | F35: 1.2070667 | G35: 0.5045339 | H35: #N/A | I35: #N/A | J35: #N/A | K35: #N/A | L35: 1.2070667 | M35: 0.5045339 | N35: 0 | O35: 0
A36: 2310023603 | B36: Industrial Processes | C36: Oil and Gas Exploration and Production | D36: Coal Bed Methane Natural Gas | E36: CBM Well Venting - Blowdowns | F36: 0 | G36: 13.287071 | H36: #N/A | I36: #N/A | J36: #N/A | K36: #N/A | L36: 0 | M36: 13.287071 | N36: 0 | O36: 0
A37: 2310111100 | B37: Industrial Processes | C37: Oil and Gas Exploration and Production | D37: On-Shore Oil Exploration | E37: Mud Degassing | F37: 0 | G37: 1596.1064 | H37: #N/A | I37: #N/A | J37: #N/A | K37: #N/A | L37: 0 | M37: 1596.1064 | N37: 0 | O37: 0
A38: 2310111701 | B38: Industrial Processes | C38: Oil and Gas Exploration and Production | D38: On-Shore Oil Exploration | E38: Oil Well Completion: Flaring | F38: 29.034387 | G38: 0 | H38: #N/A | I38: #N/A | J38: #N/A | K38: #N/A | L38: 29.034387 | M38: 0 | N38: 0 | O38: 0
A39: 2310111702 | B39: Industrial Processes | C39: Oil and Gas Exploration and Production | D39: On-Shore Oil Exploration | E39: Oil Well Completion: Venting | F39: 0 | G39: 160.85341 | H39: #N/A | I39: #N/A | J39: #N/A | K39: #N/A | L39: 0 | M39: 160.85341 | N39: 0 | O39: 0
... A41: 2310121701 | B41: Industrial Processes | C41: Oil and Gas Exploration and Production | D41: On-Shore Gas Exploration | E41: Gas Well Completion: Flaring | F41: 3.5839611 | G41: 0 | H41: #N/A | I41: #N/A | J41: #N/A | K41: #N/A | L41: 3.5839611 | M41: 0 | N41: 0 | O41: 0
E42: Total: | F42: =SUM(F2:F41) -> 61245.226 | G42: =SUM(G2:G41) -> 181252.25 | L42: =SUM(L2:L41) -> 53835.663 | M42: =SUM(M2:M41) -> 78366.619 | N42: =SUM(N2:N41) -> 7409.5637 | O42: =SUM(O2:O41) -> 102885.63

Sheet Point Reductions
A1: SCC | B1: SCC Level One | C1: SCC Level Two | D1: SCC Level Three | E1: SCC Level Four | F1: Pre-Rule NOx (tons/year) | G1: Pre-Rule VOC (tons/year) | H1: Source Type | I1: Rule Section | J1: NOx Reduction (%) | K1: VOC Reduction (%) | L1: Post-Rule NOx (tons/year) | M1: Post-Rule VOC (tons/year) | N1: NOx Reductions (tons/year) | O1: VOC Reductions (tons/year)
A2: 31000309 | B2: Industrial Processes | C2: Oil and Gas Production | D2: Natural Gas Processing | E2: Compressor Seals | F2: 21.859803 | G2: 12.555643 | H2: Compressor Seals | I2: 114 | J2: 0 | K2: 0.513 | L2: 21.859803 | M2: 6.1145982 | N2: 0 | O2: 6.4410449
A3: 20100102 | B3: Internal Combustion Engines | C3: Electric Generation | D3: Distillate Oil (Diesel) | E3: Reciprocating | F3: 1.9925922 | G3: 0.88715261 | H3: Engines and Turbines | I3: 113 | J3: 0 | K3: 0 | L3: 1.9925922 | M3: 0.88715261 | N3: 0 | O3: 0
A4: 20100201 | B4: Internal Combustion Engines | C4: Electric Generation | D4: Natural Gas | E4: Turbine | F4: 37.1 | G4: 3.5 | H4: Engines and Turbines | I4: 113 | J4: 0.67690631 | K4: 0.078160755 | L4: 11.986776 | M4: 3.2264374 | N4: 25.113224 | O4: 0.27356264
A5: 20100202 | B5: Internal Combustion Engines | C5: Electric Generation | D5: Natural Gas | E5: Reciprocating | F5: 82.885989 | G5: 18.491145 | H5: Engines and Turbines | I5: 113 | J5: 0.069829765 | K5: 0.16953681 | L5: 77.09808 | M5: 15.356216 | N5: 5.7879091 | O5: 3.1349297
A6: 20200102 | B6: Internal Combustion Engines | C6: Industrial | D6: Distillate Oil (Diesel) | E6: Reciprocating | F6: 218.80593 | G6: 4.1170984 | H6: Engines and Turbines | I6: 113 | J6: 0 | K6: 0 | L6: 218.80593 | M6: 4.1170984 | N6: 0 | O6: 0
A7: 20200201 | B7: Internal Combustion Engines | C7: Industrial | D7: Natural Gas | E7: Turbine | F7: 6473.8107 | G7: 642.43526 | H7: Engines and Turbines | I7: 113 | J7: 0.29483757 | K7: 0.5096458 | L7: 4565.0881 | M7: 315.02083 | N7: 1908.7226 | O7: 327.41444
A8: 20200202 | B8: Internal Combustion Engines | C8: Industrial | D8: Natural Gas | E8: Reciprocating | F8: 5170.2917 | G8: 1438.8349 | H8: Engines and Turbines | I8: 113 | J8: 0.069829765 | K8: 0.16953681 | L8: 4809.2515 | M8: 1194.8995 | N8: 361.04025 | O8: 243.93548
A9: 20200252 | B9: Internal Combustion Engines | C9: Industrial | D9: Natural Gas | E9: 2-cycle Lean Burn | F9: 4521.6241 | G9: 470.02711 | H9: Engines and Turbines | I9: 113 | J9: 0.47331918 | K9: 0.048988479 | L9: 2381.4527 | M9: 447.0012 | N9: 2140.1714 | O9: 23.025913
A10: 20200253 | B10: Internal Combustion Engines | C10: Industrial | D10: Natural Gas | E10: 4-cycle Rich Burn | F10: 8253.8586 | G10: 2876.6816 | H10: Engines and Turbines | I10: 113 | J10: 0.1086 | K10: 0.036136873 | L10: 7357.4896 | M10: 2772.7273 | N10: 896.36901 | O10: 103.95428
A11: 20200254 | B11: Internal Combustion Engines | C11: Industrial | D11: Natural Gas | E11: 4-cycle Lean Burn | F11: 12161.664 | G11: 6814.5367 | H11: Engines and Turbines | I11: 113 | J11: 0.39976146 | K11: 0.077527153 | L11: 7299.8992 | M11: 6286.2251 | N11: 4861.7643 | O11: 528.31163
A12: 20200255 | B12: Internal Combustion Engines | C12: Industrial | D12: Natural Gas | E12: 2-cycle Clean Burn | F12: 66.885 | G12: 48.405 | H12: Engines and Turbines | I12: 113 | J12: 0.69568541 | K12: 0 | L12: 20.354081 | M12: 48.405 | N12: 46.530919 | O12: 0
A13: 20200256 | B13: Internal Combustion Engines | C13: Industrial | D13: Natural Gas | E13: 4-cycle Clean Burn | F13: 140.16567 | G13: 78.065587 | H13: Engines and Turbines | I13: 113 | J13: 0.39891112 | K13: 0.074276478 | L13: 84.252025 | M13: 72.267151 | N13: 55.913645 | O13: 5.7984369
... A94: 2501050030 | B94: Storage and Transport | C94: Petroleum and Petroleum Product Storage | D94: Bulk Terminals: All Evaporative Losses | E94: Crude Oil | F94: 0 | G94: 46.413482 | H94: Storage Tanks | I94: 123 | J94: 0 | K94: 0.53147606 | L94: 0 | M94: 27.912741 | N94: 0 | O94: 18.500741
A95: 10200603 | B95: External Combustion Boilers | C95: Industrial | D95: Natural Gas | E95: < 10 Million BTU/hr | F95: 13.962786 | G95: 40.819741 | H95: #N/A | I95: #N/A | J95: #N/A | K95: #N/A | L95: 13.962786 | M95: 40.819741 | N95: 0 | O95: 0
A96: 10300603 | B96: External Combustion Boilers | C96: Commercial/Institutional | D96: Natural Gas | E96: < 10 Million BTU/hr | F96: 23.170972 | G96: 2.5059144 | H96: #N/A | I96: #N/A | J96: #N/A | K96: #N/A | L96: 23.170972 | M96: 2.5059144 | N96: 0 | O96: 0
A97: 30600401 | B97: Industrial Processes | C97: Petroleum Industry | D97: Blowdown Systems | E97: Blowdown System with Vapor Recovery System with Flaring | F97: 0 | G97: 26.240838 | H97: #N/A | I97: #N/A | J97: #N/A | K97: #N/A | L97: 0 | M97: 26.240838 | N97: 0 | O97: 0
A98: 30600402 | B98: Industrial Processes | C98: Petroleum Industry | D98: Blowdown Systems | E98: Blowdown System w/o Controls | F98: 0 | G98: 30.011347 | H98: #N/A | I98: #N/A | J98: #N/A | K98: #N/A | L98: 0 | M98: 30.011347 | N98: 0 | O98: 0
A99: 30603301 | B99: Industrial Processes | C99: Petroleum Industry | D99: Desulfurization | E99: Sulfur Recovery Unit | F99: 5.1077399 | G99: 0.28116 | H99: #N/A | I99: #N/A | J99: #N/A | K99: #N/A | L99: 5.1077399 | M99: 0.28116 | N99: 0 | O99: 0
A100: 30622201 | B100: Industrial Processes | C100: Petroleum Industry | D100: Underground Storage Remediation & Other Remediation | E100: Vapor Extract | F100: 0.2 | G100: 3.1 | H100: #N/A | I100: #N/A | J100: #N/A | K100: #N/A | L100: 0.2 | M100: 3.1 | N100: 0 | O100: 0
A101: 31000201 | B101: Industrial Processes | C101: Oil and Gas Production | D101: Natural Gas Production | E101: Amine Process | F101: 28.115217 | G101: 133.53653 | H101: #N/A | I101: #N/A | J101: #N/A | K101: #N/A | L101: 28.115217 | M101: 133.53653 | N101: 0 | O101: 0
A102: 31000202 | B102: Industrial Processes | C102: Oil and Gas Production | D102: Natural Gas Production | E102: Gas Stripping Operations | F102: 0 | G102: 74.458378 | H102: #N/A | I102: #N/A | J102: #N/A | K102: #N/A | L102: 0 | M102: 74.458378 | N102: 0 | O102: 0
A103: 31000208 | B103: Industrial Processes | C103: Oil and Gas Production | D103: Natural Gas Production | E103: Sulfur Recovery Unit | F103: 17.5 | G103: 1.1 | H103: #N/A | I103: #N/A | J103: #N/A | K103: #N/A | L103: 17.5 | M103: 1.1 | N103: 0 | O103: 0
A104: 31000305 | B104: Industrial Processes | C104: Oil and Gas Production | D104: Natural Gas Processing | E104: Amine Process | F104: 74.216577 | G104: 202.04493 | H104: #N/A | I104: #N/A | J104: #N/A | K104: #N/A | L104: 74.216577 | M104: 202.04493 | N104: 0 | O104: 0
A105: 39090003 | B105: Industrial Processes | C105: In-process Fuel Use | D105: Fuel Storage - Fixed Roof Tanks | E105: Distillate Oil (No. 2): Breathing Loss | F105: 0 | G105: 5.78721 | H105: #N/A | I105: #N/A | J105: #N/A | K105: #N/A | L105: 0 | M105: 5.78721 | N105: 0 | O105: 0
A106: 40600502 | B106: Chemical Evaporation | C106: Transportation and Marketing of Petroleum Products | D106: Pipeline Petroleum Transport - General - All Products | E106: Pipeline Venting | F106: 0 | G106: 48.006676 | H106: #N/A | I106: #N/A | J106: #N/A | K106: #N/A | L106: 0 | M106: 48.006676 | N106: 0 | O106: 0
A107: 2501010120 | B107: Storage and Transport | C107: Petroleum and Petroleum Product Storage | D107: Commercial/Industrial: Breathing Loss | E107: Gasoline | F107: 0 | G107: 38.424084 | H107: #N/A | I107: #N/A | J107: #N/A | K107: #N/A | L107: 0 | M107: 38.424084 | N107: 0 | O107: 0
E108: Total: | F108: =SUM(F2:F107) -> 41066.192 | G108: =SUM(G2:G107) -> 30340.156 | L108: =SUM(L2:L107) -> 30467.651 | M108: =SUM(M2:M107) -> 20310.506 | N108: =SUM(N2:N107) -> 10598.54 | O108: =SUM(O2:O107) -> 10029.65

Sheet Reduction Summaries
A1: Source Type | B1: Rule Section | C1: Nonpoint | G1: Point | K1: NOx Summary | O1: VOC Summary
C2: Pre-Rule NOx (tons/year) | D2: Post-Rule NOx (tons/year) | E2: Pre-Rule VOC (tons/year) | F2: Post-Rule VOC (tons/year) | G2: Pre-Rule NOx (tons/year) | H2: Post-Rule NOx (tons/year) | I2: Pre-Rule VOC (tons/year) | J2: Post-Rule VOC (tons/year) | K2: Pre-Rule NOx (tons/year) | L2: Post-Rule NOx (tons/year) | M2: NOx Reduction (tons/year) | N2: NOx Reduction (%) | O2: Pre-Rule VOC (tons/year) | P2: Post-Rule VOC (tons/year) | Q2: VOC Reduction (tons/year) | R2: VOC Reduction (%)
A3: Engines and Turbines | B3: 113 | C3: =SUMIF('Nonpoint Reductions'!$H$2:$H$27,'Reduction Summaries'!$A3,'Nonpoint Reductions'!F$2:F$27) -> 44474.94 | D3: =SUMIF('Nonpoint Reductions'!$H$2:$H$27,'Reduction Summaries'!$A3,'Nonpoint Reductions'!L$2:L$27) -> 37374.67 | E3: =SUMIF('Nonpoint Reductions'!$H$2:$H$27,'Reduction Summaries'!$A3,'Nonpoint Reductions'!G$2:G$27) -> 19504.033 | F3: =SUMIF('Nonpoint Reductions'!$H$2:$H$27,'Reduction Summaries'!$A3,'Nonpoint Reductions'!M$2:M$27) -> 18578.21 | G3: =SUMIF('Point Reductions'!$H$2:$H$94,'Reduction Summaries'!$A3,'Point Reductions'!F$2:F$94) -> 37536.96 | H3: =SUMIF('Point Reductions'!$H$2:$H$94,'Reduction Summaries'!$A3,'Point Reductions'!L$2:L$94) -> 27137.309 | I3: =SUMIF('Point Reductions'!$H$2:$H$94,'Reduction Summaries'!$A3,'Point Reductions'!G$2:G$94) -> 12557.27 | J3: =SUMIF('Point Reductions'!$H$2:$H$94,'Reduction Summaries'!$A3,'Point Reductions'!M$2:M$94) -> 11307.89 | K3: =C3+G3 -> 82011.9 | L3: =D3+H3 -> 64511.979 | M3: =+K3-L3 -> 17499.921 | N3: =+(K3-L3)/K3 -> 0.21338271 | O3: =E3+I3 -> 32061.302 | P3: =F3+J3 -> 29886.099 | Q3: =+O3-P3 -> 2175.203 | R3: =+(O3-P3)/O3 -> 0.067845122
A4: Compressor Seals | B4: 114 | C4: =SUMIF('Nonpoint Reductions'!H$2:H$27,'Reduction Summaries'!$A4,'Nonpoint Reductions'!F$2:F$27) -> 0 | D4: =SUMIF('Nonpoint Reductions'!$H$2:$H$27,'Reduction Summaries'!$A4,'Nonpoint Reductions'!L$2:L$27) -> 0 | E4: =SUMIF('Nonpoint Reductions'!$H$2:$H$27,'Reduction Summaries'!$A4,'Nonpoint Reductions'!G$2:G$27) -> 0 | F4: =SUMIF('Nonpoint Reductions'!$H$2:$H$27,'Reduction Summaries'!$A4,'Nonpoint Reductions'!M$2:M$27) -> 0 | G4: =SUMIF('Point Reductions'!$H$2:$H$94,'Reduction Summaries'!$A4,'Point Reductions'!F$2:F$94) -> 21.859803 | H4: =SUMIF('Point Reductions'!$H$2:$H$94,'Reduction Summaries'!$A4,'Point Reductions'!L$2:L$94) -> 21.859803 | I4: =SUMIF('Point Reductions'!$H$2:$H$94,'Reduction Summaries'!$A4,'Point Reductions'!G$2:G$94) -> 12.555643 | J4: =SUMIF('Point Reductions'!$H$2:$H$94,'Reduction Summaries'!$A4,'Point Reductions'!M$2:M$94) -> 6.1145982 | K4: =C4+G4 -> 21.859803 | L4: =D4+H4 -> 21.859803 | M4: =+K4-L4 -> 0 | N4: - | O4: =E4+I4 -> 12.555643 | P4: =F4+J4 -> 6.1145982 | Q4: =+O4-P4 -> 6.4410449 | R4: =+(O4-P4)/O4 -> 0.513
A5: Equipment Leaks | B5: 116 | C5: =SUMIF('Nonpoint Reductions'!H$2:H$27,'Reduction Summaries'!$A5,'Nonpoint Reductions'!F$2:F$27) -> 0 | D5: =SUMIF('Nonpoint Reductions'!$H$2:$H$27,'Reduction Summaries'!$A5,'Nonpoint Reductions'!L$2:L$27) -> 0 | E5: =SUMIF('Nonpoint Reductions'!$H$2:$H$27,'Reduction Summaries'!$A5,'Nonpoint Reductions'!G$2:G$27) -> 18893.568 | F5: =SUMIF('Nonpoint Reductions'!$H$2:$H$27,'Reduction Summaries'!$A5,'Nonpoint Reductions'!M$2:M$27) -> 4700.8041 | G5: =SUMIF('Point Reductions'!$H$2:$H$94,'Reduction Summaries'!$A5,'Point Reductions'!F$2:F$94) -> 957.87529 | H5: =SUMIF('Point Reductions'!$H$2:$H$94,'Reduction Summaries'!$A5,'Point Reductions'!L$2:L$94) -> 957.87529 | I5: =SUMIF('Point Reductions'!$H$2:$H$94,'Reduction Summaries'!$A5,'Point Reductions'!G$2:G$94) -> 7131.1325 | J5: =SUMIF('Point Reductions'!$H$2:$H$94,'Reduction Summaries'!$A5,'Point Reductions'!M$2:M$94) -> 1774.2576 | K5: =C5+G5 -> 957.87529 | L5: =D5+H5 -> 957.87529 | M5: =+K5-L5 -> 0 | N5: - | O5: =E5+I5 -> 26024.7 | P5: =F5+J5 -> 6475.0617 | Q5: =+O5-P5 -> 19549.639 | R5: =+(O5-P5)/O5 -> 0.75119553
A6: Gas Well Liquids Unloading | B6: 117 | C6: =SUMIF('Nonpoint Reductions'!H$2:H$27,'Reduction Summaries'!$A6,'Nonpoint Reductions'!F$2:F$27) -> 0 | D6: =SUMIF('Nonpoint Reductions'!$H$2:$H$27,'Reduction Summaries'!$A6,'Nonpoint Reductions'!L$2:L$27) -> 0 | E6: =SUMIF('Nonpoint Reductions'!$H$2:$H$27,'Reduction Summaries'!$A6,'Nonpoint Reductions'!G$2:G$27) -> 13020.363 | F6: =SUMIF('Nonpoint Reductions'!$H$2:$H$27,'Reduction Summaries'!$A6,'Nonpoint Reductions'!M$2:M$27) -> 6510.1814 | G6: =SUMIF('Point Reductions'!$H$2:$H$94,'Reduction Summaries'!$A6,'Point Reductions'!F$2:F$94) -> 0 | H6: =SUMIF('Point Reductions'!$H$2:$H$94,'Reduction Summaries'!$A6,'Point Reductions'!L$2:L$94) -> 0 | I6: =SUMIF('Point Reductions'!$H$2:$H$94,'Reduction Summaries'!$A6,'Point Reductions'!G$2:G$94) -> 0 | J6: =SUMIF('Point Reductions'!$H$2:$H$94,'Reduction Summaries'!$A6,'Point Reductions'!M$2:M$94) -> 0 | K6: =C6+G6 -> 0 | L6: =D6+H6 -> 0 | M6: =+K6-L6 -> 0 | N6: - | O6: =E6+I6 -> 13020.363 | P6: =F6+J6 -> 6510.1814 | Q6: =+O6-P6 -> 6510.1814 | R6: =+(O6-P6)/O6 -> 0.5
A7: Glycol Dehydrators | B7: 118 | C7: =SUMIF('Nonpoint Reductions'!H$2:H$27,'Reduction Summaries'!$A7,'Nonpoint Reductions'!F$2:F$27) -> 10680.811 | D7: =SUMIF('Nonpoint Reductions'!$H$2:$H$27,'Reduction Summaries'!$A7,'Nonpoint Reductions'!L$2:L$27) -> 10680.811 | E7: =SUMIF('Nonpoint Reductions'!$H$2:$H$27,'Reduction Summaries'!$A7,'Nonpoint Reductions'!G$2:G$27) -> 13945.989 | F7: =SUMIF('Nonpoint Reductions'!$H$2:$H$27,'Reduction Summaries'!$A7,'Nonpoint Reductions'!M$2:M$27) -> 8030.0624 | G7: =SUMIF('Point Reductions'!$H$2:$H$94,'Reduction Summaries'!$A7,'Point Reductions'!F$2:F$94) -> 18.391218 | H7: =SUMIF('Point Reductions'!$H$2:$H$94,'Reduction Summaries'!$A7,'Point Reductions'!L$2:L$94) -> 18.391218 | I7: =SUMIF('Point Reductions'!$H$2:$H$94,'Reduction Summaries'!$A7,'Point Reductions'!G$2:G$94) -> 1390.9232 | J7: =SUMIF('Point Reductions'!$H$2:$H$94,'Reduction Summaries'!$A7,'Point Reductions'!M$2:M$94) -> 748.26251 | K7: =C7+G7 -> 10699.203 | L7: =D7+H7 -> 10699.203 | M7: =+K7-L7 -> 0 | N7: - | O7: =E7+I7 -> 15336.912 | P7: =F7+J7 -> 8778.3249 | Q7: =+O7-P7 -> 6558.5872 | R7: =+(O7-P7)/O7 -> 0.42763414
A8: Heaters | B8: 119 | C8: =SUMIF('Nonpoint Reductions'!H$2:H$27,'Reduction Summaries'!$A8,'Nonpoint Reductions'!F$2:F$27) -> 1936.559 | D8: =SUMIF('Nonpoint Reductions'!$H$2:$H$27,'Reduction Summaries'!$A8,'Nonpoint Reductions'!L$2:L$27) -> 1627.2654 | E8: =SUMIF('Nonpoint Reductions'!$H$2:$H$27,'Reduction Summaries'!$A8,'Nonpoint Reductions'!G$2:G$27) -> 106.51075 | F8: =SUMIF('Nonpoint Reductions'!$H$2:$H$27,'Reduction Summaries'!$A8,'Nonpoint Reductions'!M$2:M$27) -> 106.51075 | G8: =SUMIF('Point Reductions'!$H$2:$H$94,'Reduction Summaries'!$A8,'Point Reductions'!F$2:F$94) -> 1245.2908 | H8: =SUMIF('Point Reductions'!$H$2:$H$94,'Reduction Summaries'!$A8,'Point Reductions'!L$2:L$94) -> 1046.4016 | I8: =SUMIF('Point Reductions'!$H$2:$H$94,'Reduction Summaries'!$A8,'Point Reductions'!G$2:G$94) -> 512.47766 | J8: =SUMIF('Point Reductions'!$H$2:$H$94,'Reduction Summaries'!$A8,'Point Reductions'!M$2:M$94) -> 512.47766 | K8: =C8+G8 -> 3181.8498 | L8: =D8+H8 -> 2673.667 | M8: =+K8-L8 -> 508.18274 | N8: =+(K8-L8)/K8 -> 0.15971299 | O8: =E8+I8 -> 618.98841 | P8: =F8+J8 -> 618.98841 | Q8: =+O8-P8 -> 0 | R8: -
A9: Hydrocarbon Liquids Transfers | B9: 120 | C9: =SUMIF('Nonpoint Reductions'!H$2:H$27,'Reduction Summaries'!$A9,'Nonpoint Reductions'!F$2:F$27) -> 0 | D9: =SUMIF('Nonpoint Reductions'!$H$2:$H$27,'Reduction Summaries'!$A9,'Nonpoint Reductions'!L$2:L$27) -> 0 | E9: =SUMIF('Nonpoint Reductions'!$H$2:$H$27,'Reduction Summaries'!$A9,'Nonpoint Reductions'!G$2:G$27) -> 10644.71 | F9: =SUMIF('Nonpoint Reductions'!$H$2:$H$27,'Reduction Summaries'!$A9,'Nonpoint Reductions'!M$2:M$27) -> 1404.8697 | G9: =SUMIF('Point Reductions'!$H$2:$H$94,'Reduction Summaries'!$A9,'Point Reductions'!F$2:F$94) -> 3.0458115 | H9: =SUMIF('Point Reductions'!$H$2:$H$94,'Reduction Summaries'!$A9,'Point Reductions'!L$2:L$94) -> 3.0458115 | I9: =SUMIF('Point Reductions'!$H$2:$H$94,'Reduction Summaries'!$A9,'Point Reductions'!G$2:G$94) -> 1036.3738 | J9: =SUMIF('Point Reductions'!$H$2:$H$94,'Reduction Summaries'!$A9,'Point Reductions'!M$2:M$94) -> 136.77876 | K9: =C9+G9 -> 3.0458115 | L9: =D9+H9 -> 3.0458115 | M9: =+K9-L9 -> 0 | N9: - | O9: =E9+I9 -> 11681.084 | P9: =F9+J9 -> 1541.6485 | Q9: =+O9-P9 -> 10139.435 | R9: =+(O9-P9)/O9 -> 0.86802179
A10: Pig Launching and Receiving | B10: 121 | C10: =SUMIF('Nonpoint Reductions'!H$2:H$27,'Reduction Summaries'!$A10,'Nonpoint Reductions'!F$2:F$27) -> 0 | D10: =SUMIF('Nonpoint Reductions'!$H$2:$H$27,'Reduction Summaries'!$A10,'Nonpoint Reductions'!L$2:L$27) -> 0 | E10: =SUMIF('Nonpoint Reductions'!$H$2:$H$27,'Reduction Summaries'!$A10,'Nonpoint Reductions'!G$2:G$27) -> 0 | F10: =SUMIF('Nonpoint Reductions'!$H$2:$H$27,'Reduction Summaries'!$A10,'Nonpoint Reductions'!M$2:M$27) -> 0 | G10: =SUMIF('Point Reductions'!$H$2:$H$94,'Reduction Summaries'!$A10,'Point Reductions'!F$2:F$94) -> 0 | H10: =SUMIF('Point Reductions'!$H$2:$H$94,'Reduction Summaries'!$A10,'Point Reductions'!L$2:L$94) -> 0 | I10: =SUMIF('Point Reductions'!$H$2:$H$94,'Reduction Summaries'!$A10,'Point Reductions'!G$2:G$94) -> 0.23657403 | J10: =SUMIF('Point Reductions'!$H$2:$H$94,'Reduction Summaries'!$A10,'Point Reductions'!M$2:M$94) -> 0.23657403 | K10: =C10+G10 -> 0 | L10: =D10+H10 -> 0 | M10: =+K10-L10 -> 0 | N10: - | O10: =E10+I10 -> 0.23657403 | P10: =F10+J10 -> 0.23657403 | Q10: =+O10-P10 -> 0 | R10: -
A11: Pneumatic Controllers and Pumps | B11: 122 | C11: =SUMIF('Nonpoint Reductions'!H$2:H$27,'Reduction Summaries'!$A11,'Nonpoint Reductions'!F$2:F$27) -> 0 | D11: =SUMIF('Nonpoint Reductions'!$H$2:$H$27,'Reduction Summaries'!$A11,'Nonpoint Reductions'!L$2:L$27) -> 0 | E11: =SUMIF('Nonpoint Reductions'!$H$2:$H$27,'Reduction Summaries'!$A11,'Nonpoint Reductions'!G$2:G$27) -> 49643.456 | F11: =SUMIF('Nonpoint Reductions'!$H$2:$H$27,'Reduction Summaries'!$A11,'Nonpoint Reductions'!M$2:M$27) -> 4676.9183 | G11: =SUMIF('Point Reductions'!$H$2:$H$94,'Reduction Summaries'!$A11,'Point Reductions'!F$2:F$94) -> 1.5229058 | H11: =SUMIF('Point Reductions'!$H$2:$H$94,'Reduction Summaries'!$A11,'Point Reductions'!L$2:L$94) -> 1.5229058 | I11: =SUMIF('Point Reductions'!$H$2:$H$94,'Reduction Summaries'!$A11,'Point Reductions'!G$2:G$94) -> 15.463351 | J11: =SUMIF('Point Reductions'!$H$2:$H$94,'Reduction Summaries'!$A11,'Point Reductions'!M$2:M$94) -> 1.4568049 | K11: =C11+G11 -> 1.5229058 | L11: =D11+H11 -> 1.5229058 | M11: =+K11-L11 -> 0 | N11: - | O11: =E11+I11 -> 49658.919 | P11: =F11+J11 -> 4678.3751 | Q11: =+O11-P11 -> 44980.544 | R11: =+(O11-P11)/O11 -> 0.90578983
A12: Storage Tanks | B12: 123 | C12: =SUMIF('Nonpoint Reductions'!H$2:H$27,'Reduction Summaries'!$A12,'Nonpoint Reductions'!F$2:F$27) -> 884.98725 | D12: =SUMIF('Nonpoint Reductions'!$H$2:$H$27,'Reduction Summaries'!$A12,'Nonpoint Reductions'!L$2:L$27) -> 884.98725 | E12: =SUMIF('Nonpoint Reductions'!$H$2:$H$27,'Reduction Summaries'!$A12,'Nonpoint Reductions'!G$2:G$27) -> 50030.021 | F12: =SUMIF('Nonpoint Reductions'!$H$2:$H$27,'Reduction Summaries'!$A12,'Nonpoint Reductions'!M$2:M$27) -> 28895.462 | G12: =SUMIF('Point Reductions'!$H$2:$H$94,'Reduction Summaries'!$A12,'Point Reductions'!F$2:F$94) -> 0.81294442 | H12: =SUMIF('Point Reductions'!$H$2:$H$94,'Reduction Summaries'!$A12,'Point Reductions'!L$2:L$94) -> 0.81294442 | I12: =SUMIF('Point Reductions'!$H$2:$H$94,'Reduction Summaries'!$A12,'Point Reductions'!G$2:G$94) -> 4393.9776 | J12: =SUMIF('Point Reductions'!$H$2:$H$94,'Reduction Summaries'!$A12,'Point Reductions'!M$2:M$94) -> 2533.2859 | K12: =C12+G12 -> 885.80019 | L12: =D12+H12 -> 885.80019 | M12: =+K12-L12 -> 0 | N12: - | O12: =E12+I12 -> 54423.999 | P12: =F12+J12 -> 31428.748 | Q12: =+O12-P12 -> 22995.25 | R12: =+(O12-P12)/O12 -> 0.42252042
J13: Total | K13: =SUM(K3:K12) -> 97763.057 | L13: =SUM(L3:L12) -> 79754.952 | M13: =+K13-L13 -> 18008.104 | N13: =+(K13-L13)/K13 -> 0.18420153 | O13: =SUM(O3:O12) -> 202839.06 | P13: =SUM(P3:P12) -> 89923.779 | Q13: =SUM(Q3:Q12) -> 112915.28 | R13: =+(O13-P13)/O13 -> 0.55667425
