Workbook
Name AsphaltCC: [1]Control!$D$18
Name AsphaltStore: [1]Control!$D$50
Name AvBlendCC: [1]Control!$D$44
Name C_CO2: '[1]List Data'!$K$6
Name CoalCoeffBlock: '[1]Coal CC'!$E$6:$AJ$527
Name CoalEff: [1]Control!$D$11
Name CokeCoalCC: [1]Control!$D$40
Name CokeCoalStore: [1]Control!$D$63
Name ConsumeBlock1: '[1]Default State Energy Data Table'!$A$6:$AH$67
Name CrudeCC: [1]Control!$D$46
Name DistillCC: [1]Control!$D$20
Name DistillStore: [1]Control!$D$51
Name KeroCC: [1]Control!$D$23
Name lbs_shortt: '[1]List Data'!$K$5
Name LPGCC: [1]Control!$D$24
Name LPGEff: [1]Control!$D$14
Name LPGEUCC: [1]Control!$D$25
Name LPGStore: [1]Control!$D$52
Name LubeCC: [1]Control!$D$26
Name LubeStore: [1]Control!$D$53
Name MiscCC: [1]Control!$D$29
Name MiscStore: [1]Control!$D$57
Name MoBlendCC: [1]Control!$D$45
Name MotorGasCC: [1]Control!$D$27
Name NaphCC: [1]Control!$D$30
Name NaphStore: [1]Control!$D$55
Name NGCC: [1]Control!$D$43
Name NGEff: [1]Control!$D$12
Name NGStore: [1]Control!$D$64
Name NonEPercent: '[1]Non-Energy Consump.'!$A$63:$AF$88
Name OtherCoalCC: [1]Control!$D$41
Name OtherOilCC: [1]Control!$D$31
Name OtherOilStore: [1]Control!$D$56
Name pentanesCC: [1]Control!$D$32
Name PentanesStore: [1]Control!$D$58
Name PetCokeCC: [1]Control!$D$33
Name PetCokeStore: [1]Control!$D$59
Name PetroEff: [1]Control!$D$13
Name Renewable_and_Non_Renewable_Generation: [2]Contents!#REF!
Name ResCoalCC: [1]Control!$D$38
Name ResidCC: [1]Control!$D$28
Name ResidStore: [1]Control!$D$54
Name Short_Metric: '[1]List Data'!$K$4
Name SpecialCC: [1]Control!$D$35
Name SpecialStore: [1]Control!$D$61
Name StateName: [3]Factors!$J$3
Name StillCC: [1]Control!$D$34
Name StillStore: [1]Control!$D$60
Name StorageFactor: '[1]List Data'!$E$19:$F$49
Name SyntheticNG: [1]SNG!$A$7:$AF$59
Name UFactor: [3]Factors!$C$15
Name UnfinCC: [1]Control!$D$36
Name VariableCCs: '[1]Variable CC''s'!$A$8:$AF$17
Name WaxesCC: [1]Control!$D$37
Name WaxesStore: [1]Control!$D$62

Sheet Directory
B2: Tab Name | C2: Tab Contents
B3: Summary | C3: Summary of 2005 and 2018 emissions by category
B4: Electricity Summary | C4: Summary of 2005 and 2018 electricity generation, retail sales, and emissions according to inventory accounting methodology
B5: 2005 Generation (EIA) | C5: Plant-level generation data for 2005
B6: 2018 Generation (EIA) | C6: Plant-level generation data for 2018
B7: 2005 Emissions (eGrid) | C7: Plant-level electricity emissions data for 2005
B8: 2018 Emissions (eGrid) | C8: Plant-level electricity emissions data for 2018
B9: 2005 Ownership (EIA) | C9: Ownership shares for out-of-state plants with NM utility ownership for 2005
B10: 2018 Ownership (EIA) | C10: Ownership shares for out-of-state plants with NM utility ownership for 2018
B11: 2005 Retail Sales (EIA) | C11: Electricity retail sales for 2005
B12: 2018 Retail Sales (EIA) | C12: Electricity retail sales for 2018
B13: CO2FFC | C13: EPA SIT CO2 emissions for fossil fuel combustion
... B34: Constants | C34: Various constants used throughout workbook

Sheet Summary
B2: New Mexico Greenhouse Gas Emissions Summary Table (MMT CO2e) | G2: Light Duty Vehciles
B3: Sector | C3: 2005 | D3: 2018 | E3: 2005 Calculation Method | F3: 2018 Calculation Method | H3: MMT CO2e | I3: 2030 reduction goal
B4: Electricity Generation | C4: ='Electricity Summary'!$D$15 -> 16.32869 | D4: ='Electricity Summary'!$E$15 -> 12.075555 | E4: E3 calculation based on EIA/EPA data for net generation and emissions | F4: E3 calculation based on EIA/EPA data for net generation and emissions
B5: Transportation | C5: =SUM(CO2FFC!$R$19,'Mobile Combustion'!$R$100/10^6) -> 16.529224 | D5: ='2018 SEDS Benchmarking'!$L$55 -> 15.848591 | E5: Direct SIT outputs | F5: Input EIA SEDS energy into LEAP with EPA SIT emission factors | G5: ='Mobile Combustion'!AJ6 -> 0.77731829 | H5: =D5*G5 -> 12.3194 | I5: 0.25 | J5: =I5*H5 -> 3.0798499
B6: Residential | C6: =SUM(CO2FFC!$R$4,Stationary!$R$22) -> 2.3632784 | D6: ='2018 SEDS Benchmarking'!$L$19 -> 2.182961 | E6: Direct SIT outputs | F6: Input EIA SEDS energy into LEAP with EPA SIT emission factors
B7: Commercial | C7: =SUM(CO2FFC!$R$9,Stationary!$R$25) -> 1.7145764 | D7: ='2018 SEDS Benchmarking'!$L$35 -> 1.709016 | E7: Direct SIT outputs | F7: Input EIA SEDS energy into LEAP with EPA SIT emission factors
B8: Industrial | C8: =SUM(CO2FFC!$R$15,CO2FFC!$R$16*(1-CO2FFC!$R$40),CO2FFC!$R$17*(1-CO2FFC!$R$39),Stationary!$R$28) -> 2.8027126 | D8: ='2018 SEDS Benchmarking'!$L$86 -> 2.12952 | E8: Direct SIT outputs net fossil fuel industry fuel consumption | F8: Input EIA SEDS energy into LEAP with EPA SIT emission factors after removing fossil fuel industry energy consumption
B9: Industrial Processes (Non-Combustion Emissions) | C9: =IP!$R$23/10^6 -> 1.6585618 | D9: =IP!$AE$23/10^6 -> 2.7458327 | E9: Direct SIT outputs | F9: Direct SIT outputs (2018 data not available, assume same as 2017)
B10: Agriculture | C10: =Agriculture!$R$23 -> 7.346729 | D10: =Agriculture!$AE$23 -> 7.7032508 | E10: Direct SIT outputs | F10: Direct SIT outputs (2018 data not available, assume same as 2017)
B11: Coal Mining & Abandoned Mines | C11: =SUM(Coal!$R$13,Coal!$R$14)/10^6 -> 1.6090437 | D11: =SUM(Coal!$AE$13:$AE$14)/10^6 -> 0.94637381 | E11: Direct SIT outputs | F11: Direct SIT outputs
B12: Waste | C12: =SUM(Waste!$R$14,Wastewater!$R$21) -> 1.5819243 | D12: =SUM(Waste!$AE$14,Wastewater!$AE$21) -> 1.8311663 | E12: Direct SIT outputs | F12: Direct SIT outputs
B13: Natural & Working Lands | C13: ='Forest Management'!$R$23 -> 4.7797128 | D13: ='Forest Management'!$AE$23 -> 6.0588048 | E13: Direct SIT outputs | F13: Direct SIT outputs (2018 data not available, assume same as 2017)
B14: Oil & Gas (Fugitive Emissions) | C14: ='Oil & Gas Summary'!$C$11 -> 9.5559903 | D14: ='Oil & Gas Summary'!$D$11 -> 32.741485 | E14: WESTAR 2014-2016 basline emissions scaled by oil production + natural gas transmission and distribution emissions from SIT | F14: WESTAR 2014-2016 basline emissions scaled by oil production + natural gas transmission and distribution emissions from SIT
B15: Oil & Gas (Fuel Combustion) | C15: ='Oil & Gas Summary'!$C$6 -> 9.2743243 | D15: ='Oil & Gas Summary'!$D$6 -> 27.65678 | E15: WESTAR 2014-2016 basline emissions scaled by oil production + downstream fossil fuel industry combustion emissions identified from SEDS | F15: WESTAR 2014-2016 basline emissions scaled by oil production + downstream fossil fuel industry combustion emissions identified from SEDS
B16: Total | C16: =SUM(C4:C15) -> 75.544768 | D16: =SUM(D4:D15) -> 113.62934
B17: Total (Net Oil & Gas) | C17: =SUM(C4:C13) -> 56.714453 | D17: =SUM(D4:D13) -> 53.231071 | E17: =D14+D15 -> 60.398265 | F17: =SUM(D4:D8,D10:D12,37.95,D13) -> 88.435238

Sheet 2050Net Zero
B2: =Summary!B2 -> New Mexico Greenhouse Gas Emissions Summary Table (MMT CO2e)
B3: =Summary!B3 -> Sector | C3: =Summary!C3 -> 2005 | D3: Percent of Total | E3: =Summary!D3 -> 2018
B4: =Summary!B4 -> Electricity Generation | C4: =Summary!C4 -> 16.32869 | D4: =C4/$C$16 -> 0.21614588 | E4: =Summary!D4 -> 12.075555 | F4: 12.1 | G4: =F4/$F$16 -> 0.10648949
B5: =Summary!B5 -> Transportation | C5: =Summary!C5 -> 16.529224 | D5: =C5/$C$16 -> 0.21880038 | E5: =Summary!D5 -> 15.848591 | F5: =E5 -> 15.848591 | G5: =F5/$F$16 -> 0.13948003 | I5: 4.65
B6: =Summary!B6 -> Residential | C6: =Summary!C6 -> 2.3632784 | D6: =C6/$C$16 -> 0.031283151 | E6: =Summary!D6 -> 2.182961 | F6: =E6+E7 -> 3.891977 | G6: =F6/$F$16 -> 0.034252449
B7: =Summary!B7 -> Commercial | C7: =Summary!C7 -> 1.7145764 | D7: =C7/$C$16 -> 0.022696163 | E7: =Summary!D7 -> 1.709016
B8: =Summary!B8 -> Industrial | C8: =Summary!C8 -> 2.8027126 | D8: =C8/$C$16 -> 0.037100022 | E8: =Summary!D8 -> 2.12952 | F8: =E8+E9 -> 4.8753527 | G8: =F8/$F$16 -> 0.042906926
B9: =Summary!B9 -> Industrial Processes (Non-Combustion Emissions) | C9: =Summary!C9 -> 1.6585618 | D9: =C9/$C$16 -> 0.021954688 | E9: =Summary!D9 -> 2.7458327
B10: =Summary!B10 -> Agriculture | C10: =Summary!C10 -> 7.346729 | D10: =C10/$C$16 -> 0.097250005 | E10: =Summary!D10 -> 7.7032508 | F10: =E10+E13 -> 13.762056 | G10: =F10/$F$16 -> 0.12111688
B11: =Summary!B11 -> Coal Mining & Abandoned Mines | C11: =Summary!C11 -> 1.6090437 | D11: =C11/$C$16 -> 0.021299207 | E11: =Summary!D11 -> 0.94637381 | F11: 0.95 | G11: =F11/$F$16 -> 0.0083607448
B12: =Summary!B12 -> Waste | C12: =Summary!C12 -> 1.5819243 | D12: =C12/$C$16 -> 0.020940223 | E12: =Summary!D12 -> 1.8311663 | F12: 1.8 | G12: =F12/$F$16 -> 0.015841411
B13: =Summary!B13 -> Natural & Working Lands | C13: =Summary!C13 -> 4.7797128 | D13: =C13/$C$16 -> 0.063269939 | E13: =Summary!D13 -> 6.0588048
B14: =Summary!B14 -> Oil & Gas (Fugitive Emissions) | C14: =Summary!C14 -> 9.5559903 | D14: =C14/$C$16 -> 0.1264944 | E14: =Summary!D14 -> 32.741485 | F14: =E14+E15 -> 60.398265 | G14: =F14/$F$16 -> 0.53155208
B15: =Summary!B15 -> Oil & Gas (Fuel Combustion) | C15: =Summary!C15 -> 9.2743243 | D15: =C15/$C$16 -> 0.12276594 | E15: =Summary!D15 -> 27.65678
B16: =Summary!B16 -> Total | C16: =Summary!C16 -> 75.544768 | E16: =Summary!D16 -> 113.62934 | F16: =SUM(F4:F14) -> 113.62624
B17: 90% of 2005 | C17: =C16*0.9 -> 67.990291
B18: 10% of 2005 | C18: =C16*0.1 -> 7.5544768

Sheet Electricity Summary
B2: Include Specified Imports in Total? | C2: Yes
B3: Specified imports are defined for this inventory as out of state power plants with partial ownership by New Mexico utilities.
B6: Electricity Summary
B7: Category | C7: Units | D7: 2005 | E7: 2018
B8: EIA In-State Generation | C8: GWh | D8: =SUM('2005 Generation (EIA)'!$X$4:$X$5,'2005 Generation (EIA)'!$X$9:$X$60)/1000 -> 35135.642 | E8: =SUM('2018 Generation (EIA)'!$AA$5:$AA$6,'2018 Generation (EIA)'!$AA$11:$AA$143)/1000 -> 32673.682
B9: In-State Generation | C9: GWh | D9: =SUMIFS('2005 Generation (EIA)'!$AA$4:$AA$60,'2005 Generation (EIA)'!$AB$4:$AB$60,'Electricity Summary'!$B9)/1000 -> 19519.602 | E9: =SUMIFS('2018 Generation (EIA)'!$AD$5:$AD$143,'2018 Generation (EIA)'!$AE$5:$AE$143,$B9)/1000 -> 25028.17
B10: Imported Generation | C10: GWh | D10: =IF($C$2="Yes",SUMIFS('2005 Generation (EIA)'!$AA$4:$AA$60,'2005 Generation (EIA)'!$AB$4:$AB$60,'Electricity Summary'!$B10)/1000,0) -> 4083.0567 | E10: =IF($C$2="Yes",SUMIFS('2018 Generation (EIA)'!$AD$5:$AD$143,'2018 Generation (EIA)'!$AE$5:$AE$143,$B10)/1000,0) -> 6065.8653
B11: NM-Associated Generation | C11: GWh | D11: =SUM(D9:D10) -> 23602.659 | E11: =SUM(E9:E10) -> 31094.035
B12: Exported Generation (San Juan) | C12: GWh | D12: =SUM('2005 Generation (EIA)'!AA18:AA19)*(1-0.54)/10^3 -> 5732.6746 | E12: =SUM('2018 Generation (EIA)'!AD21:AD23)*(1-0.65)/10^3 -> 1635.9868
B13: Retail Sales | C13: GWh | D13: =SUM('2005 Retail Sales (EIA)'!$F$7:$F$40)/1000 -> 20638.951 | E13: =SUM('2018 Retail Sales (EIA)'!$E$4:$E$34)/1000 -> 24029.637
B14: EIA In-State Emissions | C14: MMT CO2e | D14: =SUM('2005 Emissions (eGrid)'!AW5:$AW$37)/10^6 -> 30.861729 | E14: =(SUM('2018 Emissions (eGrid)'!$AG$5:$AG$218)-'2018 Emissions (eGrid)'!$AG$7)/10^6 -> 19.745879
B15: In-State Emissions | C15: MMT CO2e | D15: =SUMIFS('2005 Emissions (eGrid)'!$AY$5:$AY$37,'2005 Emissions (eGrid)'!$AZ$5:$AZ$37,'Electricity Summary'!$B15)/10^6 -> 16.32869 | E15: =SUMIFS('2018 Emissions (eGrid)'!$AI$5:$AI$218,'2018 Emissions (eGrid)'!$AJ$5:$AJ$218,'Electricity Summary'!$B15)/10^6 -> 12.075555
B16: Imported Emissions | C16: MMT CO2e | D16: =IF($C$2="Yes",SUMIFS('2005 Emissions (eGrid)'!$AY$5:$AY$37,'2005 Emissions (eGrid)'!$AZ$5:$AZ$37,'Electricity Summary'!$B16)/10^6,0) -> 1.3500886 | E16: =IF($C$2="Yes",SUMIFS('2018 Emissions (eGrid)'!$AI$5:$AI$218,'2018 Emissions (eGrid)'!$AJ$5:$AJ$218,'Electricity Summary'!$B16)/10^6,0) -> 2.9163212
B17: NM-Associated Emissions | C17: MMT CO2e | D17: =SUM(D15:D16) -> 17.678779 | E17: =SUM(E15:E16) -> 14.991876
B18: Exported Emissions (San Juan) | C18: MMT CO2e | D18: ='2005 Emissions (eGrid)'!AY33*(1-0.54)/10^6 -> 5.4671585 | E18: =SUM('2018 Emissions (eGrid)'!AI177:AI178)*(1-0.65)/10^6 -> 1.8940006

Sheet 2005 Generation (EIA)
A1: Sources: EIA-906/920, EIA-860 | T1: YEAR-TO-DATE
AE2: Four Corners weighted ownership calculation (unit gen source: eGrid)
A3: Plant ID | B3: Combined Heat & Power Plant | C3: Nuclear Unit I.D. | D3: Plant Name | E3: Operator Name | F3: Operator ID | G3: State | H3: Census Region | I3: NERC Region | J3: Reserved | K3: NAICS Code | L3: EIA Sector Number | M3: Sector Name | N3: Reported Prime Mover | O3: Reported Fuel Type Code | P3: AER Fuel Type Code | Q3: Reserved | R3: Reserved | S3: Physical Unit Label | T3: TOTAL FUEL CONSUMPTION QUANTITY | U3: ELECTRIC FUEL CONSUMPTION QUANTITY | V3: TOTAL FUEL CONSUMPTION MMBTUS | W3: ELEC FUEL CONSUMPTION MMBTUS | X3: NET GENERATION (megawatthours) | Y3: Year | Z3: NM-Associated Share (%) | AA3: NM-Associated Net Generation (MWh) | AB3: Category | AE3: Plant name | AF3: Generator ID | AG3: Generator annual net generation (MWh) | AH3: NM Ownership | AI3: NM Net Gen (MWh)
A4: 2442 | B4: N | D4: Four Corners | E4: Arizona Public Service Co | F4: 803 | G4: NM | H4: MTN | I4: WECC | K4: 22 | L4: 1 | M4: Electric Utility | N4: ST | O4: NG | P4: NG | S4: mcf | T4: 361140 | U4: 361140 | V4: 364510.72 | W4: 364510.72 | X4: 36277 | Y4: 2005 | Z4: =$AI$10 -> 0.09289789 | AA4: =Z4*X4 -> 3370.0568 | AB4: Imported Generation | AE4: Four Corners | AF4: 1 | AG4: 1271533 | AH4: 0 | AI4: =AH4*AG4 -> 0
A5: 2442 | B5: N | D5: Four Corners | E5: Arizona Public Service Co | F5: 803 | G5: NM | H5: MTN | I5: WECC | K5: 22 | L5: 1 | M5: Electric Utility | N5: ST | O5: SUB | P5: COL | S5: tons | T5: 8854360 | U5: 8854360 | V5: 1.5802311e+08 | W5: 1.5802311e+08 | X5: 15579763 | Y5: 2005 | Z5: =$AI$10 -> 0.09289789 | AA5: =Z5*X5 -> 1447327.1 | AB5: Imported Generation | AE5: Four Corners | AF5: 2 | AG5: 1417014 | AH5: 0 | AI5: =AH5*AG5 -> 0
A6: 6008 | B6: N | C6: 1 | D6: Palo Verde | E6: Arizona Public Service Co | F6: 803 | G6: AZ | H6: MTN | I6: WECC | K6: 22 | L6: 1 | M6: Electric Utility | N6: ST | O6: NUC | P6: NUC | T6: 0 | U6: 0 | V6: 75301433 | W6: 75301433 | X6: 7216237 | Y6: 2005 | Z6: 0.102 | AA6: =Z6*X6 -> 736056.17 | AB6: Imported Generation | AE6: Four Corners | AF6: 3 | AG6: 1768284 | AH6: 0 | AI6: =AH6*AG6 -> 0
A7: 6008 | B7: N | C7: 2 | D7: Palo Verde | E7: Arizona Public Service Co | F7: 803 | G7: AZ | H7: MTN | I7: WECC | K7: 22 | L7: 1 | M7: Electric Utility | N7: ST | O7: NUC | P7: NUC | T7: 0 | U7: 0 | V7: 98373260 | W7: 98373260 | X7: 9427241 | Y7: 2005 | Z7: 0.102 | AA7: =Z7*X7 -> 961578.58 | AB7: Imported Generation | AE7: Four Corners | AF7: 4 | AG7: 5769742 | AH7: 0.13 | AI7: =AH7*AG7 -> 750066.46
A8: 6008 | B8: N | C8: 3 | D8: Palo Verde | E8: Arizona Public Service Co | F8: 803 | G8: AZ | H8: MTN | I8: WECC | K8: 22 | L8: 1 | M8: Electric Utility | N8: ST | O8: NUC | P8: NUC | T8: 0 | U8: 0 | V8: 95626006 | W8: 95626006 | X8: 9163968 | Y8: 2005 | Z8: 0.102 | AA8: =Z8*X8 -> 934724.74 | AB8: Imported Generation | AE8: Four Corners | AF8: 5 | AG8: 5389467 | AH8: 0.13 | AI8: =AH8*AG8 -> 700630.71
A9: 87 | B9: N | D9: Escalante | E9: Tri-State G & T Assn, Inc | F9: 30151 | G9: NM | H9: MTN | I9: WECC | K9: 22 | L9: 1 | M9: Electric Utility | N9: ST | O9: NG | P9: NG | S9: mcf | T9: 10644 | U9: 10644 | V9: 10952.51 | W9: 10952.51 | X9: 979 | Y9: 2005 | Z9: 1 | AA9: =Z9*X9 -> 979 | AB9: In-State Generation
A10: 87 | B10: N | D10: Escalante | E10: Tri-State G & T Assn, Inc | F10: 30151 | G10: NM | H10: MTN | I10: WECC | K10: 22 | L10: 1 | M10: Electric Utility | N10: ST | O10: SUB | P10: COL | S10: tons | T10: 1154375 | U10: 1154375 | V10: 21272499 | W10: 21272499 | X10: 1909198 | Y10: 2005 | Z10: 1 | AA10: =Z10*X10 -> 1909198 | AB10: In-State Generation | AH10: Weighted NM Share of Four Corners Total Gen | AI10: =SUM(AI4:AI8)/SUM(AG4:AG8) -> 0.09289789
A11: 584 | B11: N | D11: Navajo Dam | E11: City of Farmington | F11: 6204 | G11: NM | H11: MTN | I11: WECC | K11: 22 | L11: 1 | M11: Electric Utility | N11: HY | O11: WAT | P11: HYC | T11: 0 | U11: 0 | V11: 650814.92 | W11: 650814.92 | X11: 65088 | Y11: 2005 | Z11: 1 | AA11: =Z11*X11 -> 65088 | AB11: In-State Generation
A12: 2444 | B12: N | D12: Rio Grande | E12: El Paso Electric Co | F12: 5701 | G12: NM | H12: MTN | I12: WECC | K12: 22 | L12: 1 | M12: Electric Utility | N12: ST | O12: DFO | P12: DFO | S12: barrels | T12: 563 | U12: 563 | V12: 3195.03 | W12: 3195.03 | X12: 277 | Y12: 2005 | Z12: 1 | AA12: =Z12*X12 -> 277 | AB12: In-State Generation
A13: 2444 | B13: N | D13: Rio Grande | E13: El Paso Electric Co | F13: 5701 | G13: NM | H13: MTN | I13: WECC | K13: 22 | L13: 1 | M13: Electric Utility | N13: ST | O13: NG | P13: NG | S13: mcf | T13: 7867842 | U13: 7867842 | V13: 8058812.7 | W13: 8058812.7 | X13: 688607 | Y13: 2005 | Z13: 1 | AA13: =Z13*X13 -> 688607 | AB13: In-State Generation
A14: 2446 | B14: N | D14: Maddox | E14: Southwestern Public Service Co | F14: 17718 | G14: NM | H14: MTN | I14: SPP | K14: 22 | L14: 1 | M14: Electric Utility | N14: GT | O14: NG | P14: NG | S14: mcf | T14: 663076 | U14: 663076 | V14: 671994.03 | W14: 671994.03 | X14: 48512 | Y14: 2005 | Z14: 1 | AA14: =Z14*X14 -> 48512 | AB14: In-State Generation
A15: 2446 | B15: N | D15: Maddox | E15: Southwestern Public Service Co | F15: 17718 | G15: NM | H15: MTN | I15: SPP | K15: 22 | L15: 1 | M15: Electric Utility | N15: ST | O15: NG | P15: NG | S15: mcf | T15: 4692382 | U15: 4692382 | V15: 4760350 | W15: 4760350 | X15: 461525 | Y15: 2005 | Z15: 1 | AA15: =Z15*X15 -> 461525 | AB15: In-State Generation
A16: 2447 | B16: N | D16: Las Vegas | E16: Public Service Co of NM | F16: 15473 | G16: NM | H16: MTN | I16: WECC | K16: 22 | L16: 1 | M16: Electric Utility | N16: GT | O16: DFO | P16: DFO | S16: barrels | T16: 0 | U16: 0 | V16: 0 | W16: 0 | X16: 0 | Y16: 2005 | Z16: 1 | AA16: =Z16*X16 -> 0 | AB16: In-State Generation
A17: 2450 | B17: N | D17: Reeves | E17: Public Service Co of NM | F17: 15473 | G17: NM | H17: MTN | I17: WECC | K17: 22 | L17: 1 | M17: Electric Utility | N17: ST | O17: NG | P17: NG | S17: mcf | T17: 1250597 | U17: 1250597 | V17: 1314377.5 | W17: 1314377.5 | X17: 100992 | Y17: 2005 | Z17: 1 | AA17: =Z17*X17 -> 100992 | AB17: In-State Generation
A18: 2451 | B18: N | D18: San Juan | E18: Public Service Co of NM | F18: 15473 | G18: NM | H18: MTN | I18: WECC | K18: 22 | L18: 1 | M18: Electric Utility | N18: ST | O18: DFO | P18: DFO | S18: barrels | T18: 54431 | U18: 54431 | V18: 308079.46 | W18: 308079.46 | X18: 31026 | Y18: 2005 | Z18: 1 | AA18: =Z18*X18 -> 31026 | AB18: In-State Generation
A19: 2451 | B19: N | D19: San Juan | E19: Public Service Co of NM | F19: 15473 | G19: NM | H19: MTN | I19: WECC | K19: 22 | L19: 1 | M19: Electric Utility | N19: ST | O19: SUB | P19: COL | S19: tons | T19: 7004508 | U19: 7004508 | V19: 1.360268e+08 | W19: 1.360268e+08 | X19: 12431310 | Y19: 2005 | Z19: 1 | AA19: =Z19*X19 -> 12431310 | AB19: In-State Generation
A20: 2453 | B20: N | D20: Carlsbad | E20: Southwestern Public Service Co | F20: 17718 | G20: NM | H20: MTN | I20: SPP | K20: 22 | L20: 1 | M20: Electric Utility | N20: GT | O20: NG | P20: NG | S20: mcf | T20: 22312.01 | U20: 22312.01 | V20: 22624.36 | W20: 22624.36 | X20: 1211.999 | Y20: 2005 | Z20: 1 | AA20: =Z20*X20 -> 1211.999 | AB20: In-State Generation
A21: 2454 | B21: N | D21: Cunningham | E21: Southwestern Public Service Co | F21: 17718 | G21: NM | H21: MTN | I21: SPP | K21: 22 | L21: 1 | M21: Electric Utility | N21: GT | O21: NG | P21: NG | S21: mcf | T21: 2155106 | U21: 2155106 | V21: 2191344 | W21: 2191344 | X21: 183473 | Y21: 2005 | Z21: 1 | AA21: =Z21*X21 -> 183473 | AB21: In-State Generation
A22: 2454 | B22: N | D22: Cunningham | E22: Southwestern Public Service Co | F22: 17718 | G22: NM | H22: MTN | I22: SPP | K22: 22 | L22: 1 | M22: Electric Utility | N22: ST | O22: NG | P22: NG | S22: mcf | T22: 12778705 | U22: 12778705 | V22: 12962026 | W22: 12962026 | X22: 1222079 | Y22: 2005 | Z22: 1 | AA22: =Z22*X22 -> 1222079 | AB22: In-State Generation
A23: 2465 | B23: N | D23: Animas | E23: City of Farmington | F23: 6204 | G23: NM | H23: MTN | I23: WECC | K23: 22 | L23: 1 | M23: Electric Utility | N23: CA | O23: NG | P23: NG | S23: mcf | T23: 0 | U23: 0 | V23: 0 | W23: 0 | X23: 46430.001 | Y23: 2005 | Z23: 1 | AA23: =Z23*X23 -> 46430.001 | AB23: In-State Generation
A24: 2465 | B24: N | D24: Animas | E24: City of Farmington | F24: 6204 | G24: NM | H24: MTN | I24: WECC | K24: 22 | L24: 1 | M24: Electric Utility | N24: CT | O24: NG | P24: NG | S24: mcf | T24: 937355.01 | U24: 937355.01 | V24: 984222.76 | W24: 984222.76 | X24: 132357 | Y24: 2005 | Z24: 1 | AA24: =Z24*X24 -> 132357 | AB24: In-State Generation
A25: 2465 | B25: N | D25: Animas | E25: City of Farmington | F25: 6204 | G25: NM | H25: MTN | I25: WECC | K25: 22 | L25: 1 | M25: Electric Utility | N25: HY | O25: WAT | P25: HYC | T25: 0 | U25: 0 | V25: 0 | W25: 0 | X25: 0 | Y25: 2005 | Z25: 1 | AA25: =Z25*X25 -> 0 | AB25: In-State Generation
A26: 2465 | B26: N | D26: Animas | E26: City of Farmington | F26: 6204 | G26: NM | H26: MTN | I26: WECC | K26: 22 | L26: 1 | M26: Electric Utility | N26: ST | O26: NG | P26: NG | S26: mcf | T26: 0 | U26: 0 | V26: 0 | W26: 0 | X26: 0 | Y26: 2005 | Z26: 1 | AA26: =Z26*X26 -> 0 | AB26: In-State Generation
A27: 2468 | B27: N | D27: Raton | E27: Raton Public Service Company | F27: 15698 | G27: NM | H27: MTN | I27: WECC | K27: 22 | L27: 1 | M27: Electric Utility | N27: IC | O27: NG | P27: NG | S27: mcf | T27: 5918 | U27: 5918 | V27: 6509.81 | W27: 6509.81 | X27: 401.999 | Y27: 2005 | Z27: 1 | AA27: =Z27*X27 -> 401.999 | AB27: In-State Generation
A28: 2468 | B28: N | D28: Raton | E28: Raton Public Service Company | F28: 15698 | G28: NM | H28: MTN | I28: WECC | K28: 22 | L28: 1 | M28: Electric Utility | N28: ST | O28: BIT | P28: COL | S28: tons | T28: 20422.02 | U28: 20422.02 | V28: 592237.98 | W28: 592237.98 | X28: 26977.001 | Y28: 2005 | Z28: 1 | AA28: =Z28*X28 -> 26977.001 | AB28: In-State Generation
A29: 2469 | B29: N | D29: Tucumcari | E29: Southwestern Public Service Co | F29: 17718 | G29: NM | H29: MTN | I29: SPP | K29: 22 | L29: 1 | M29: Electric Utility | N29: IC | O29: DFO | P29: DFO | S29: barrels | T29: 136.01 | U29: 136.01 | V29: 789.07 | W29: 789.07 | X29: 70 | Y29: 2005 | Z29: 1 | AA29: =Z29*X29 -> 70 | AB29: In-State Generation
A30: 6402 | B30: N | D30: Elephant Butte | E30: U S Bureau of Reclamation | F30: 2518 | G30: NM | H30: MTN | I30: WECC | K30: 22 | L30: 1 | M30: Electric Utility | N30: HY | O30: WAT | P30: HYC | T30: 0 | U30: 0 | V30: 459524.05 | W30: 459524.05 | X30: 45956.999 | Y30: 2005 | Z30: 1 | AA30: =Z30*X30 -> 45956.999 | AB30: In-State Generation
A31: 7593 | B31: N | D31: El Vado Dam | E31: Los Alamos County | F31: 11204 | G31: NM | H31: MTN | I31: WECC | K31: 22 | L31: 1 | M31: Electric Utility | N31: HY | O31: WAT | P31: HYC | T31: 0 | U31: 0 | V31: 216738.34 | W31: 216738.34 | X31: 21676.002 | Y31: 2005 | Z31: 1 | AA31: =Z31*X31 -> 21676.002 | AB31: In-State Generation
A32: 7789 | B32: N | D32: Abiquiu Dam | E32: Los Alamos County | F32: 11204 | G32: NM | H32: MTN | I32: WECC | K32: 22 | L32: 1 | M32: Electric Utility | N32: HY | O32: WAT | P32: HYC | T32: 0 | U32: 0 | V32: 322687.74 | W32: 322687.74 | X32: 32271.999 | Y32: 2005 | Z32: 1 | AA32: =Z32*X32 -> 32271.999 | AB32: In-State Generation
A33: 7967 | B33: N | D33: Lordsburg Generating | E33: Public Service Co of NM | F33: 15473 | G33: NM | H33: MTN | I33: WECC | K33: 22 | L33: 1 | M33: Electric Utility | N33: GT | O33: NG | P33: NG | S33: mcf | T33: 1091051 | U33: 1091051 | V33: 1119418.3 | W33: 1119418.3 | X33: 83141 | Y33: 2005 | Z33: 1 | AA33: =Z33*X33 -> 83141 | AB33: In-State Generation
A34: 7975 | B34: N | D34: Pyramid | E34: Tri-State G & T Assn, Inc | F34: 30151 | G34: NM | H34: MTN | I34: WECC | K34: 22 | L34: 1 | M34: Electric Utility | N34: GT | O34: DFO | P34: DFO | S34: barrels | T34: 2007.01 | U34: 2007.01 | V34: 11038.53 | W34: 11038.53 | X34: 1155.001 | Y34: 2005 | Z34: 1 | AA34: =Z34*X34 -> 1155.001 | AB34: In-State Generation
A35: 7975 | B35: N | D35: Pyramid | E35: Tri-State G & T Assn, Inc | F35: 30151 | G35: NM | H35: MTN | I35: WECC | K35: 22 | L35: 1 | M35: Electric Utility | N35: GT | O35: NG | P35: NG | S35: mcf | T35: 530112.01 | U35: 530112.01 | V35: 546015.36 | W35: 546015.36 | X35: 55456 | Y35: 2005 | Z35: 1 | AA35: =Z35*X35 -> 55456 | AB35: In-State Generation
A36: 10339 | B36: Y | D36: Southside Water Reclamation Plant | E36: Albuquerque City of | F36: 194 | G36: NM | H36: MTN | I36: WECC | K36: 22 | L36: 3 | M36: NAICS-22 Cogen | N36: IC | O36: NG | P36: NG | S36: mcf | T36: 142904 | U36: 108441.1 | V36: 142904 | W36: 108441.1 | X36: 15251.68 | Y36: 2005 | Z36: 1 | AA36: =Z36*X36 -> 15251.68 | AB36: In-State Generation
A37: 10339 | B37: Y | D37: Southside Water Reclamation Plant | E37: Albuquerque City of | F37: 194 | G37: NM | H37: MTN | I37: WECC | K37: 22 | L37: 3 | M37: NAICS-22 Cogen | N37: IC | O37: OBG | P37: ORW | S37: Mcf | T37: 65974.99 | U37: 50064 | V37: 43543.49 | W37: 33042.24 | X37: 4647.2194 | Y37: 2005 | Z37: 1 | AA37: =Z37*X37 -> 4647.2194 | AB37: In-State Generation
A38: 50905 | B38: Y | D38: Univ New Mexico Cogen Plant | E38: University of New Mexico | F38: 21964 | G38: NM | H38: MTN | I38: WECC | K38: 611 | L38: 5 | M38: Commercial NAICS Cogen | N38: GT | O38: NG | P38: NG | S38: mcf | T38: 5384 | U38: 2683.36 | V38: 5384 | W38: 2683.36 | X38: 571.341 | Y38: 2005 | Z38: 1 | AA38: =Z38*X38 -> 571.341 | AB38: In-State Generation
A39: 50906 | B39: Y | D39: Ford Utilities Center | E39: University of New Mexico | F39: 21964 | G39: NM | H39: MTN | I39: WECC | K39: 611 | L39: 5 | M39: Commercial NAICS Cogen | N39: GT | O39: NG | P39: NG | S39: mcf | T39: 538380 | U39: 341026.4 | V39: 538380 | W39: 341026.4 | X39: 21463.959 | Y39: 2005 | Z39: 1 | AA39: =Z39*X39 -> 21463.959 | AB39: In-State Generation
A40: 50997 | B40: Y | D40: Gallup Refinery | E40: Western Refining Southwest Inc | F40: 6996 | G40: NM | H40: MTN | I40: WECC | K40: 32411 | L40: 7 | M40: Industrial NAICS Cogen | N40: GT | O40: NG | P40: NG | S40: mcf | T40: 11638.01 | U40: 4682.14 | V40: 11638.01 | W40: 4682.14 | X40: 865.339 | Y40: 2005 | Z40: 1 | AA40: =Z40*X40 -> 865.339 | AB40: In-State Generation
...

Sheet 2018 Generation (EIA)
A1: Sources: EIA Form 860, EIA Form 923
O3: Net Generation (MWh)
A4: Plant Id | B4: Combined Heat And Power Plant | C4: Plant Name | D4: Operator Name | E4: Operator Id | F4: Plant State | G4: Census Region | H4: NERC Region | I4: NAICS Code | J4: Sector Number | K4: Sector Name | L4: Generator Id | M4: Reported Prime Mover | N4: Reported Fuel Type Code | O4: Net Generation January | P4: Net Generation February | Q4: Net Generation March | R4: Net Generation April | S4: Net Generation May | T4: Net Generation June | U4: Net Generation July | V4: Net Generation August | W4: Net Generation September | X4: Net Generation October | Y4: Net Generation November | Z4: Net Generation December | AA4: Net Generation Year To Date | AB4: YEAR | AC4: NM-Associated Share (%) | AD4: NM-Associated Net Generation (MWh) | AE4: Category
A5: 2442 | B5: N | C5: Four Corners | D5: Arizona Public Service Co | E5: 803 | F5: NM | G5: MTN | H5: WECC | I5: 22 | J5: 1 | K5: Electric Utility | L5: 4 | M5: ST | N5: SUB | O5: 241256 | P5: 0 | Q5: 0 | R5: 0 | S5: 0 | T5: 243430 | U5: 511653 | V5: 507578 | W5: 272791 | X5: 510764 | Y5: 501471 | Z5: 381476 | AA5: 3170419 | AB5: 2018 | AC5: 0.13 | AD5: =AC5*AA5 -> 412154.47 | AE5: Imported Generation
A6: 2442 | B6: N | C6: Four Corners | D6: Arizona Public Service Co | E6: 803 | F6: NM | G6: MTN | H6: WECC | I6: 22 | J6: 1 | K6: Electric Utility | L6: 5 | M6: ST | N6: SUB | O6: 0 | P6: -9057 | Q6: 322706 | R6: 486194 | S6: 482562 | T6: 378962 | U6: 487798 | V6: 302446 | W6: 517242 | X6: 428829 | Y6: 478657 | Z6: 462087 | AA6: 4338426 | AB6: 2018 | AC6: 0.13 | AD6: =AC6*AA6 -> 563995.38 | AE6: Imported Generation
A7: 8223 | B7: N | C7: Springerville | D7: Tucson Electric Power Co | E7: 24211 | F7: AZ | G7: MTN | H7: WECC | I7: 22 | J7: 1 | K7: Electric Utility | L7: 3 | M7: ST | N7: SUB | O7: 269068 | P7: 205225 | Q7: 217415 | R7: 221400 | S7: 106924 | T7: 136241 | U7: 204365 | V7: 263232 | W7: 230656 | X7: 237814 | Y7: 219593 | Z7: 245127 | AA7: 2557060 | AB7: 2018 | AC7: 0.75 | AD7: =AC7*AA7 -> 1917795 | AE7: Imported Generation
A8: 6008 | B8: N | C8: Palo Verde | D8: Arizona Public Service Co | E8: 803 | F8: AZ | G8: MTN | H8: WECC | I8: 22 | J8: 1 | K8: Electric Utility | L8: 1 | M8: ST | N8: NUC | O8: 995290 | P8: 759808 | Q8: 992318 | R8: 821590 | S8: 990348 | T8: 951142 | U8: 839992 | V8: 976824 | W8: 950843 | X8: 986855 | Y8: 961142 | Z8: 994727 | AA8: 11220879 | AB8: 2018 | AC8: 0.102 | AD8: =AC8*AA8 -> 1144529.7 | AE8: Imported Generation
A9: 6008 | B9: N | C9: Palo Verde | D9: Arizona Public Service Co | E9: 803 | F9: AZ | G9: MTN | H9: WECC | I9: 22 | J9: 1 | K9: Electric Utility | L9: 2 | M9: ST | N9: NUC | O9: 999093 | P9: 902468 | Q9: 996445 | R9: 959690 | S9: 852902 | T9: 951789 | U9: 978809 | V9: 977195 | W9: 914349 | X9: 135991 | Y9: -9095 | Z9: 789296 | AA9: 9448932 | AB9: 2018 | AC9: 0.102 | AD9: =AC9*AA9 -> 963791.06 | AE9: Imported Generation
A10: 6008 | B10: N | C10: Palo Verde | D10: Arizona Public Service Co | E10: 803 | F10: AZ | G10: MTN | H10: WECC | I10: 22 | J10: 1 | K10: Electric Utility | L10: 3 | M10: ST | N10: NUC | O10: 989648 | P10: 893775 | Q10: 988663 | R10: 181326 | S10: 787003 | T10: 847368 | U10: 911508 | V10: 969365 | W10: 942363 | X10: 978791 | Y10: 952142 | Z10: 985496 | AA10: 10427448 | AB10: 2018 | AC10: 0.102 | AD10: =AC10*AA10 -> 1063599.7 | AE10: Imported Generation
A11: 87 | B11: N | C11: Escalante | D11: Tri-State G & T Assn, Inc | E11: 30151 | F11: NM | G11: MTN | H11: WECC | I11: 22 | J11: 1 | K11: Electric Utility | M11: ST | N11: NG | O11: 64.655 | P11: 34.468 | Q11: 357.881 | R11: 480.373 | S11: 469.918 | T11: 485.97 | U11: 443.001 | V11: 503.268 | W11: 8.352 | X11: 3.482 | Y11: 6988.383 | Z11: 60.392 | AA11: 9900.143 | AB11: 2018 | AC11: 1 | AD11: =AC11*AA11 -> 9900.143 | AE11: In-State Generation
A12: 87 | B12: N | C12: Escalante | D12: Tri-State G & T Assn, Inc | E12: 30151 | F12: NM | G12: MTN | H12: WECC | I12: 22 | J12: 1 | K12: Electric Utility | M12: ST | N12: SUB | O12: 124568.35 | P12: 110538.53 | Q12: 103347.12 | R12: 72788.627 | S12: 112875.08 | T12: 102321.03 | U12: 119927 | V12: 58032.732 | W12: 115158.65 | X12: 127052.52 | Y12: 105436.62 | Z12: 127964.61 | AA12: 1280010.9 | AB12: 2018 | AC12: 1 | AD12: =AC12*AA12 -> 1280010.9 | AE12: In-State Generation
A13: 584 | B13: N | C13: Navajo Dam | D13: City of Farmington - (NM) | E13: 6204 | F13: NM | G13: MTN | H13: WECC | I13: 22 | J13: 1 | K13: Electric Utility | M13: HY | N13: WAT | O13: 6036.493 | P13: 6518.424 | Q13: 7473.929 | R13: 7738.933 | S13: 7867.232 | T13: 7735.372 | U13: 7414.368 | V13: 7283.368 | W13: 5966.886 | X13: 5506.076 | Y13: 5284.239 | Z13: 5174.68 | AA13: 80000 | AB13: 2018 | AC13: 1 | AD13: =AC13*AA13 -> 80000 | AE13: In-State Generation
A14: 2444 | B14: N | C14: Rio Grande | D14: El Paso Electric Co | E14: 5701 | F14: NM | G14: MTN | H14: WECC | I14: 22 | J14: 1 | K14: Electric Utility | M14: GT | N14: NG | O14: 5294 | P14: 1929 | Q14: 86 | R14: 2628 | S14: 3677 | T14: 13249 | U14: 18716 | V14: 22027 | W14: 9679 | X14: 1259 | Y14: 2984 | Z14: 5052 | AA14: 86580 | AB14: 2018 | AC14: 1 | AD14: =AC14*AA14 -> 86580 | AE14: In-State Generation
A15: 2444 | B15: N | C15: Rio Grande | D15: El Paso Electric Co | E15: 5701 | F15: NM | G15: MTN | H15: WECC | I15: 22 | J15: 1 | K15: Electric Utility | M15: ST | N15: NG | O15: 10317 | P15: 6401 | Q15: -201 | R15: 4863 | S15: 25068 | T15: 81178 | U15: 94668 | V15: 81725 | W15: 62809 | X15: 63928 | Y15: 66879 | Z15: 57807 | AA15: 555442 | AB15: 2018 | AC15: 1 | AD15: =AC15*AA15 -> 555442 | AE15: In-State Generation
A16: 2446 | B16: N | C16: Maddox | D16: Southwestern Public Service Co | E16: 17718 | F16: NM | G16: MTN | H16: MRO | I16: 22 | J16: 1 | K16: Electric Utility | M16: GT | N16: NG | O16: 1592 | P16: 1389 | Q16: 3328 | R16: 19086 | S16: 39894 | T16: 15080 | U16: 12438 | V16: 12929 | W16: 15590 | X16: 32470 | Y16: 21894 | Z16: 17012 | AA16: 192702 | AB16: 2018 | AC16: 1 | AD16: =AC16*AA16 -> 192702 | AE16: In-State Generation
A17: 2446 | B17: N | C17: Maddox | D17: Southwestern Public Service Co | E17: 17718 | F17: NM | G17: MTN | H17: MRO | I17: 22 | J17: 1 | K17: Electric Utility | M17: ST | N17: NG | O17: 20681 | P17: 33629 | Q17: 33075 | R17: 45624 | S17: 51710 | T17: 40011 | U17: 47329 | V17: 46004 | W17: 28605 | X17: 0 | Y17: 0 | Z17: 15826 | AA17: 362494 | AB17: 2018 | AC17: 1 | AD17: =AC17*AA17 -> 362494 | AE17: In-State Generation
A18: 2450 | B18: N | C18: Reeves | D18: Public Service Co of NM | E18: 15473 | F18: NM | G18: MTN | H18: WECC | I18: 22 | J18: 1 | K18: Electric Utility | M18: ST | N18: BIT | O18: 0 | P18: 0 | Q18: 0 | R18: 0 | S18: 0 | T18: 0 | U18: 0 | V18: 0 | W18: 0 | X18: 0 | Y18: 0 | Z18: 0 | AA18: 0 | AB18: 2018 | AC18: 1 | AD18: =AC18*AA18 -> 0 | AE18: In-State Generation
A19: 2450 | B19: N | C19: Reeves | D19: Public Service Co of NM | E19: 15473 | F19: NM | G19: MTN | H19: WECC | I19: 22 | J19: 1 | K19: Electric Utility | M19: ST | N19: DFO | O19: 0 | P19: 0 | Q19: 0 | R19: 0 | S19: 0 | T19: 0 | U19: 0 | V19: 0 | W19: 0 | X19: 0 | Y19: 0 | Z19: 0 | AA19: 0 | AB19: 2018 | AC19: 1 | AD19: =AC19*AA19 -> 0 | AE19: In-State Generation
A20: 2450 | B20: N | C20: Reeves | D20: Public Service Co of NM | E20: 15473 | F20: NM | G20: MTN | H20: WECC | I20: 22 | J20: 1 | K20: Electric Utility | M20: ST | N20: NG | O20: 0 | P20: 11152 | Q20: 8594 | R20: 19505 | S20: 25673 | T20: 29935 | U20: 35330 | V20: 35189 | W20: 13403 | X20: 10956 | Y20: 599 | Z20: 2925 | AA20: 193261 | AB20: 2018 | AC20: 1 | AD20: =AC20*AA20 -> 193261 | AE20: In-State Generation
A21: 2451 | B21: N | C21: San Juan | D21: Public Service Co of NM | E21: 15473 | F21: NM | G21: MTN | H21: WECC | I21: 22 | J21: 1 | K21: Electric Utility | M21: ST | N21: BIT | O21: 0 | P21: 0 | Q21: 0 | R21: 0 | S21: 0 | T21: 0 | U21: 0 | V21: 0 | W21: 0 | X21: 0 | Y21: 0 | Z21: 0 | AA21: 0 | AB21: 2018 | AC21: 1 | AD21: =AC21*AA21 -> 0 | AE21: In-State Generation
A22: 2451 | B22: N | C22: San Juan | D22: Public Service Co of NM | E22: 15473 | F22: NM | G22: MTN | H22: WECC | I22: 22 | J22: 1 | K22: Electric Utility | M22: ST | N22: DFO | O22: 1329.23 | P22: 1235.918 | Q22: 709.819 | R22: 846.66 | S22: 1000.198 | T22: 711.772 | U22: 2299.592 | V22: 1603.447 | W22: 2166.934 | X22: 3318.542 | Y22: 1905.495 | Z22: 1364.832 | AA22: 18492.439 | AB22: 2018 | AC22: 1 | AD22: =AC22*AA22 -> 18492.439 | AE22: In-State Generation
A23: 2451 | B23: N | C23: San Juan | D23: Public Service Co of NM | E23: 15473 | F23: NM | G23: MTN | H23: WECC | I23: 22 | J23: 1 | K23: Electric Utility | M23: ST | N23: RC | O23: 436009.77 | P23: 424539.08 | Q23: 420039.18 | R23: 244316.34 | S23: 279153.8 | T23: 287363.23 | U23: 350551.41 | V23: 519025.55 | W23: 357535.07 | X23: 306514.46 | Y23: 472674.51 | Z23: 558033.17 | AA23: 4655755.6 | AB23: 2018 | AC23: 1 | AD23: =AC23*AA23 -> 4655755.6 | AE23: In-State Generation
A24: 2454 | B24: N | C24: Cunningham | D24: Southwestern Public Service Co | E24: 17718 | F24: NM | G24: MTN | H24: MRO | I24: 22 | J24: 1 | K24: Electric Utility | M24: GT | N24: NG | O24: 8605 | P24: 23445 | Q24: 41083 | R24: 96981 | S24: 118280 | T24: 57576 | U24: . | V24: 39160 | W24: 38038 | X24: 40407 | Y24: 0 | Z24: 10569 | AA24: 474144 | AB24: 2018 | AC24: 1 | AD24: =AC24*AA24 -> 474144 | AE24: In-State Generation
A25: 2454 | B25: N | C25: Cunningham | D25: Southwestern Public Service Co | E25: 17718 | F25: NM | G25: MTN | H25: MRO | I25: 22 | J25: 1 | K25: Electric Utility | M25: ST | N25: NG | O25: 38140 | P25: 29886 | Q25: 22272 | R25: 31804 | S25: 70789 | T25: 88009 | U25: . | V25: 114381 | W25: 97250 | X25: 36200 | Y25: 51296 | Z25: 101971 | AA25: 681998 | AB25: 2018 | AC25: 1 | AD25: =AC25*AA25 -> 681998 | AE25: In-State Generation
A26: 2465 | B26: N | C26: Animas | D26: City of Farmington - (NM) | E26: 6204 | F26: NM | G26: MTN | H26: WECC | I26: 22 | J26: 1 | K26: Electric Utility | M26: GT | N26: NG | O26: -81 | P26: -68 | Q26: 396 | R26: -59 | S26: -55 | T26: 1484 | U26: 2606 | V26: 2468 | W26: 5738 | X26: 13202 | Y26: 8396 | Z26: -65 | AA26: 33962 | AB26: 2018 | AC26: 1 | AD26: =AC26*AA26 -> 33962 | AE26: In-State Generation
A27: 2465 | B27: N | C27: Animas | D27: City of Farmington - (NM) | E27: 6204 | F27: NM | G27: MTN | H27: WECC | I27: 22 | J27: 1 | K27: Electric Utility | M27: HY | N27: WAT | O27: 6 | P27: 7 | Q27: -5 | R27: 9 | S27: 7 | T27: 10 | U27: 8 | V27: 0 | W27: 0 | X27: 0 | Y27: 0 | Z27: 0 | AA27: 42 | AB27: 2018 | AC27: 1 | AD27: =AC27*AA27 -> 42 | AE27: In-State Generation
A28: 6402 | B28: N | C28: Elephant Butte | D28: U S Bureau of Reclamation | E28: 2518 | F28: NM | G28: MTN | H28: WECC | I28: 22 | J28: 1 | K28: Electric Utility | M28: HY | N28: WAT | O28: 2982.33 | P28: 3220.427 | Q28: 3692.494 | R28: 3823.42 | S28: 3886.806 | T28: 3821.661 | U28: 3663.068 | V28: 3598.348 | W28: 2947.94 | X28: 2720.277 | Y28: 2610.678 | Z28: 2556.551 | AA28: 39524 | AB28: 2018 | AC28: 1 | AD28: =AC28*AA28 -> 39524 | AE28: In-State Generation
A29: 7593 | B29: N | C29: El Vado Dam | D29: Los Alamos County | E29: 11204 | F29: NM | G29: MTN | H29: WECC | I29: 22 | J29: 1 | K29: Electric Utility | M29: HY | N29: WAT | O29: 120.578 | P29: 130.206 | Q29: 149.292 | R29: 154.585 | S29: 157.148 | T29: 154.514 | U29: 148.102 | V29: 145.485 | W29: 119.189 | X29: 109.984 | Y29: 105.553 | Z29: 103.364 | AA29: 1598 | AB29: 2018 | AC29: 1 | AD29: =AC29*AA29 -> 1598 | AE29: In-State Generation
A30: 7789 | B30: N | C30: Abiquiu Dam | D30: Los Alamos County | E30: 11204 | F30: NM | G30: MTN | H30: WECC | I30: 22 | J30: 1 | K30: Electric Utility | M30: HY | N30: WAT | O30: 2141.597 | P30: 2312.574 | Q30: 2651.563 | R30: 2745.58 | S30: 2791.097 | T30: 2744.317 | U30: 2630.432 | V30: 2583.957 | W30: 2116.902 | X30: 1953.418 | Y30: 1874.716 | Z30: 1835.847 | AA30: 28382 | AB30: 2018 | AC30: 1 | AD30: =AC30*AA30 -> 28382 | AE30: In-State Generation
A31: 7967 | B31: N | C31: Lordsburg Generating | D31: Public Service Co of NM | E31: 15473 | F31: NM | G31: MTN | H31: WECC | I31: 22 | J31: 1 | K31: Electric Utility | M31: GT | N31: NG | O31: 276.408 | P31: 297.24 | Q31: 342.76 | R31: 404.411 | S31: 448.73 | T31: 511.383 | U31: 490.347 | V31: 546.608 | W31: 484.496 | X31: 345.841 | Y31: 413.779 | Z31: 479.997 | AA31: 5042 | AB31: 2018 | AC31: 1 | AD31: =AC31*AA31 -> 5042 | AE31: In-State Generation
A32: 7975 | B32: N | C32: Pyramid | D32: Tri-State G & T Assn, Inc | E32: 30151 | F32: NM | G32: MTN | H32: WECC | I32: 22 | J32: 1 | K32: Electric Utility | M32: GT | N32: DFO | O32: 127.594 | P32: 116.319 | Q32: 106.57 | R32: 130.542 | S32: 107.281 | T32: 141.474 | U32: 93.435 | V32: 103.588 | W32: 91.337 | X32: 201.924 | Y32: 123.116 | Z32: 78.544 | AA32: 1421.724 | AB32: 2018 | AC32: 1 | AD32: =AC32*AA32 -> 1421.724 | AE32: In-State Generation
A33: 7975 | B33: N | C33: Pyramid | D33: Tri-State G & T Assn, Inc | E33: 30151 | F33: NM | G33: MTN | H33: WECC | I33: 22 | J33: 1 | K33: Electric Utility | M33: GT | N33: NG | O33: 3558.33 | P33: 3826.527 | Q33: 4412.522 | R33: 5206.195 | S33: 5776.738 | T33: 6583.296 | U33: 6312.492 | V33: 7036.77 | W33: 6237.172 | X33: 4452.189 | Y33: 5326.791 | Z33: 6179.254 | AA33: 64908.276 | AB33: 2018 | AC33: 1 | AD33: =AC33*AA33 -> 64908.276 | AE33: In-State Generation
A34: 10339 | B34: Y | C34: Southside Water Reclamation Plant | D34: Albuquerque City of | E34: 194 | F34: NM | G34: MTN | H34: WECC | I34: 22 | J34: 3 | K34: NAICS-22 Cogen | M34: IC | N34: NG | O34: 1797.456 | P34: 1231.502 | Q34: 1451.955 | R34: 1298.07 | S34: 1655.111 | T34: 1047.38 | U34: 1695.71 | V34: 1741.929 | W34: 1564.202 | X34: 1587.61 | Y34: 1416.023 | Z34: 1515.737 | AA34: 18002.685 | AB34: 2018 | AC34: 1 | AD34: =AC34*AA34 -> 18002.685 | AE34: In-State Generation
A35: 10339 | B35: Y | C35: Southside Water Reclamation Plant | D35: Albuquerque City of | E35: 194 | F35: NM | G35: MTN | H35: WECC | I35: 22 | J35: 3 | K35: NAICS-22 Cogen | M35: IC | N35: OBG | O35: 1490.444 | P35: 1478.198 | Q35: 1640.925 | R35: 1592.93 | S35: 1334.869 | T35: 541.2 | U35: 1299.17 | V35: 1316.651 | W35: 1281.718 | X35: 1294.57 | Y35: 1481.837 | Z35: 1448.763 | AA35: 16201.275 | AB35: 2018 | AC35: 1 | AD35: =AC35*AA35 -> 16201.275 | AE35: In-State Generation
A36: 50906 | B36: Y | C36: Ford Utilities Center | D36: University of New Mexico | E36: 21964 | F36: NM | G36: MTN | H36: WECC | I36: 611 | J36: 5 | K36: Commercial NAICS Cogen | M36: GT | N36: NG | O36: 3884.775 | P36: 4177.575 | Q36: 4817.329 | R36: 5683.814 | S36: 6306.699 | T36: 7187.252 | U36: 6891.604 | V36: 7682.327 | W36: 6809.374 | X36: 4860.635 | Y36: 5815.474 | Z36: 6746.142 | AA36: 70863 | AB36: 2018 | AC36: 1 | AD36: =AC36*AA36 -> 70863 | AE36: In-State Generation
A37: 50906 | B37: Y | C37: Ford Utilities Center | D37: University of New Mexico | E37: 21964 | F37: NM | G37: MTN | H37: WECC | I37: 611 | J37: 5 | K37: Commercial NAICS Cogen | M37: ST | N37: NG | O37: 77.079 | P37: 82.888 | Q37: 95.581 | R37: 112.773 | S37: 125.132 | T37: 142.603 | U37: 136.737 | V37: 152.426 | W37: 135.105 | X37: 96.44 | Y37: 115.385 | Z37: 133.851 | AA37: 1406 | AB37: 2018 | AC37: 1 | AD37: =AC37*AA37 -> 1406 | AE37: In-State Generation
... A46: 55210 | B46: N | C46: Afton Generating Station | D46: Public Service Co of NM | E46: 15473 | F46: NM | G46: MTN | H46: WECC | I46: 22 | J46: 1 | K46: Electric Utility | M46: CT | N46: NG | O46: 21326 | P46: 26105 | Q46: 62333 | R46: 27 | S46: 79665 | T46: 92210 | U46: 124038 | V46: 130362 | W46: 77291 | X46: 73344 | Y46: 64740 | Z46: 64431 | AA46: 815872 | AB46: 2018 | AC46: 1 | AD46: =AC46*AA46 -> 815872 | AE46: In-State Generation
A47: 55312 | B47: N | C47: Freeport McMoRan Cobre Mining | D47: FreePort-McMoRan-Corp-Cobre Mines | E47: 23102 | F47: NM | G47: MTN | H47: WECC | I47: 2122 | J47: 6 | K47: Industrial NAICS Non-Cogen | M47: IC | N47: DFO | O47: 0 | P47: 0 | Q47: 0 | R47: 0 | S47: 0 | T47: 0 | U47: 0 | V47: 0 | W47: 0 | X47: 0 | Y47: . | Z47: . | AA47: 0 | AB47: 2018 | AC47: 1 | AD47: =AC47*AA47 -> 0 | AE47: In-State Generation
A48: 55343 | B48: N | C48: Luna Energy Facility | D48: Public Service Co of NM | E48: 15473 | F48: NM | G48: MTN | H48: WECC | I48: 22 | J48: 1 | K48: Electric Utility | M48: CA | N48: NG | O48: 0 | P48: 0 | Q48: 63068 | R48: 94771 | S48: 87799 | T48: 95906 | U48: 100887 | V48: 104448 | W48: 100587 | X48: 41786 | Y48: 96097 | Z48: 102574 | AA48: 887923 | AB48: 2018 | AC48: 1 | AD48: =AC48*AA48 -> 887923 | AE48: In-State Generation
A49: 55343 | B49: N | C49: Luna Energy Facility | D49: Public Service Co of NM | E49: 15473 | F49: NM | G49: MTN | H49: WECC | I49: 22 | J49: 1 | K49: Electric Utility | M49: CT | N49: NG | O49: 148131 | P49: 120169 | Q49: 105765 | R49: 162296 | S49: 152377 | T49: 165664 | U49: 179046 | V49: 182521 | W49: 177762 | X49: 75723 | Y49: 172341 | Z49: 189519 | AA49: 1831314 | AB49: 2018 | AC49: 1 | AD49: =AC49*AA49 -> 1831314 | AE49: In-State Generation
...

Sheet 2005 Emissions (eGrid)
A1: Source: eGRID2005_plant
A3: eGRID2007 2005 file plant sequence number | B3: State abbreviation | C3: Plant name | D3: DOE/EIA ORIS plant or facility code | E3: Plant EPA Facility Registry System (FRS) identification code | F3: Plant operator name | G3: Plant operator ID | H3: Utility service area name | I3: Utility service area ID | J3: Parent company ID associated with the operator | K3: Parent company name associated with the operator | L3: Power control area name | M3: Power control area ID | N3: NERC region acronym | O3: eGRID subregion acronym | P3: eGRID subregion name | Q3: Plant FIPS State code | R3: Plant FIPS county code | S3: Plant county name | T3: Plant latitude | U3: Plant longitude | V3: County centroid flag: 1 = county centroid used | W3: Number of boilers | X3: Number of generators | Y3: Plant combustion status | Z3: Plant emissions source(s) | AA3: Plant primary fuel | AB3: Plant primary coal/oil/gas/ other fossil fuel category | AC3: Flag indicating if the plant used any amount of coal: 1 = Yes | AD3: Plant capacity factor | AE3: Plant nameplate capacity (MW) | AF3: Renewable methane/ biomass plant adjustment flag | AG3: Combined heat and power (CHP) plant adjustment flag: 1 = Yes | AH3: CHP plant useful thermal output (MMBtu) | AI3: CHP plant power to heat ratio | AJ3: CHP plant electric allocation factor | AK3: Plant pumped storage flag: 1 = Yes | AL3: Plant annual heat input (MMBtu) | AM3: Plant ozone season heat input (MMBtu) | AN3: Plant annual net generation (MWh) | AO3: Plant ozone season net generation (MWh) | AP3: Plant annual NOx emissions (tons) | AQ3: Plant ozone season NOx emissions (tons) | AR3: Plant annual SO2 emissions (tons) | AS3: Plant annual CO2 emissions (tons) | AT3: Plant annual CH4 emissions (lbs) | AU3: Plant annual N2O emissions (lbs) | AV3: Plant annual Hg emissions (lbs) | AW3: Unit unadjusted annual CO2 emissions (metric tons) | AX3: NM-Associated Share (%) | AY3: NM-Associated CO2 emissions (metric tons) | AZ3: Category
A4: SEQPLT05 | B4: PSTATABB | C4: PNAME | D4: ORISPL | E4: FRSID | F4: OPRNAME | G4: OPRCODE | H4: UTLSRVNM | I4: UTLSRVID | J4: OPPRNUM | K4: OPPRNAME | L4: PCANAME | M4: PCAID | N4: NERC | O4: SUBRGN | P4: SRNAME | Q4: FIPSST | R4: FIPSCNTY | S4: CNTYNAME | T4: LAT | U4: LON | V4: CCFLAG | W4: NUMBLR | X4: NUMGEN | Y4: COMBUST | Z4: SOURCEM | AA4: PLPRMFL | AB4: PLFUELCT | AC4: COALFLAG | AD4: CAPFAC | AE4: NAMEPCAP | AF4: RMBMFLAG | AG4: CHPFLAG | AH4: USETHRMO | AI4: PWRTOHT | AJ4: ELCALLOC | AK4: PSFLAG | AL4: PLHTIAN | AM4: PLHTIOZ | AN4: PLNGENAN | AO4: PLNGENOZ | AP4: PLNOXAN | AQ4: PLNOXOZ | AR4: PLSO2AN | AS4: PLCO2AN | AT4: PLCH4AN | AU4: PLN2OAN | AV4: PLHGAN
A5: 3258 | B5: NM | C5: Four Corners | D5: 2442 | E5: 110000600859 | F5: Arizona Public Service Co | G5: 803 | I5: 0 | J5: -7042 | K5: Pinnacle West Capital Corp | L5: Arizona Public Service Company | M5: 803 | N5: WECC | O5: AZNM | P5: WECC Southwest | Q5: 35 | R5: 045 | S5: San Juan | T5: 36.69 | U5: -108.4814 | V5: 0 | W5: 5 | X5: 5 | Y5: 1 | Z5: CEM, ICR | AA5: SUB | AB5: COAL | AC5: 1 | AD5: 0.7854 | AE5: 2269.6 | AF5: 0 | AG5: 0 | AH5: 0 | AI5: 0 | AJ5: 0 | AK5: 0 | AL5: 156325650 | AM5: 67096377 | AN5: 15616040 | AO5: 6706424 | AP5: 41743.364 | AQ5: 17966.385 | AR5: 12554.159 | AS5: 16015409 | AT5: 363613.46 | AU5: 545420.19 | AV5: 1146.608 | AW5: =AS5/1.102 -> 14533039 | AX5: ='2005 Generation (EIA)'!$AI$10 -> 0.09289789 | AY5: =AX5*AW5 -> 1350088.6 | AZ5: Imported Emissions
A6: 252 | B6: AZ | C6: Palo Verde | D6: 6008 | E6: 110028036907 | F6: Arizona Public Service Co | G6: 803 | I6: 0 | J6: -7042 | K6: Pinnacle West Capital Corp | L6: Arizona Public Service Company | M6: 803 | N6: WECC | O6: AZNM | P6: WECC Southwest | Q6: 04 | R6: 013 | S6: Maricopa | T6: 33.3596 | U6: -112.4878 | V6: 1 | W6: 0 | X6: 3 | Y6: 0 | AA6: NUC | AC6: 0 | AD6: 0.6999 | AE6: 4209.3 | AF6: 0 | AG6: 0 | AH6: 0 | AI6: 0 | AJ6: 0 | AK6: 0 | AL6: 0 | AM6: 0 | AN6: 25807446 | AO6: 11152866 | AP6: 0 | AQ6: 0 | AR6: 0 | AS6: 0 | AT6: 0 | AU6: 0 | AV6: N/A | AW6: =AS6/1.102 -> 0 | AX6: 0.102 | AY6: =AX6*AW6 -> 0 | AZ6: Imported Emissions
A7: 3243 | B7: NM | C7: Abiquiu Dam | D7: 7789 | E7: 110028023412 | F7: Los Alamos County | G7: 11204 | I7: 0 | J7: 0 | L7: Public Service Company of New Mexico | M7: 15473 | N7: WECC | O7: AZNM | P7: WECC Southwest | Q7: 35 | R7: 039 | S7: Rio Arriba | T7: 36.511 | U7: -106.6885 | V7: 1 | W7: 0 | X7: 2 | Y7: 0 | AA7: WAT | AC7: 0 | AD7: 0.2924 | AE7: 12.6 | AF7: 0 | AG7: 0 | AH7: 0 | AI7: 0 | AJ7: 0 | AK7: 0 | AL7: 0 | AM7: 0 | AN7: 32271.96 | AO7: 14739.82 | AP7: 0 | AQ7: 0 | AR7: 0 | AS7: 0 | AT7: 0 | AU7: 0 | AV7: N/A | AW7: =AS7/1.102 -> 0 | AX7: 1 | AY7: =AX7*AW7 -> 0 | AZ7: In-State Emissions
A8: 3244 | B8: NM | C8: Afton Generating Station | D8: 55210 | E8: 110007007416 | F8: Public Service Co of NM | G8: 15473 | I8: 0 | J8: -7113 | K8: PNM Resources Inc | L8: Public Service Company of New Mexico | M8: 15473 | N8: WECC | O8: AZNM | P8: WECC Southwest | Q8: 35 | R8: 013 | S8: Dona Ana | T8: 32.1134 | U8: -106.848 | V8: 0 | W8: 1 | X8: 1 | Y8: 1 | Z8: CEM, | AA8: NG | AB8: GAS | AC8: 0 | AD8: 0.0343 | AE8: 177 | AF8: 0 | AG8: 0 | AH8: 0 | AI8: 0 | AJ8: 0 | AK8: 0 | AL8: 578856 | AM8: 572647 | AN8: 53202.95 | AO8: 28309.63 | AP8: 9.033 | AQ8: 8.901 | AR8: 0.19 | AS8: 34418.85 | AT8: 1346.419 | AU8: 134.642 | AV8: N/A | AW8: =AS8/1.102 -> 31233.076 | AX8: 1 | AY8: =AX8*AW8 -> 31233.076 | AZ8: In-State Emissions
A9: 3245 | B9: NM | C9: Animas | D9: 2465 | E9: 110001547675 | F9: Farmington City of | G9: 6204 | I9: 0 | J9: 0 | L9: WAPA - Colorado-Missouri | M9: 28503 | N9: WECC | O9: RMPA | P9: WECC Rockies | Q9: 35 | R9: 045 | S9: San Juan | T9: 36.51 | U9: -108.33 | V9: 0 | W9: 0 | X9: 6 | Y9: 1 | Z9: 906, | AA9: NG | AB9: GAS | AC9: 0 | AD9: 0.4058 | AE9: 50.3 | AF9: 0 | AG9: 0 | AH9: 0 | AI9: 0 | AJ9: 0 | AK9: 0 | AL9: 984222.76 | AM9: 523711.1 | AN9: 178786.91 | AO9: 95133.64 | AP9: 75.7852 | AQ9: 40.3258 | AR9: 1.6404 | AS9: 57561.642 | AT9: 2289.3021 | AU9: 228.9302 | AV9: N/A | AW9: =AS9/1.102 -> 52233.795 | AX9: 1 | AY9: =AX9*AW9 -> 52233.795 | AZ9: In-State Emissions
A10: 3246 | B10: NM | C10: Blanco Compressor Station | D10: 54221 | E10: 110028023421 | F10: Enterprise Products Optg LP | G10: 29925 | H10: Farmington City of | I10: 6204 | J10: 0 | L10: WAPA - Colorado-Missouri | M10: 28503 | N10: WECC | O10: RMPA | P10: WECC Rockies | Q10: 35 | R10: 045 | S10: San Juan | T10: 36.5081 | U10: -108.3229 | V10: 1 | W10: 0 | X10: 2 | Y10: 1 | Z10: 906, | AA10: NG | AB10: GAS | AC10: 0 | AD10: 0.7705 | AE10: 3 | AF10: 0 | AG10: 0 | AH10: 0 | AI10: 0 | AJ10: 0 | AK10: 0 | AL10: 3143389.9 | AM10: 1621948.4 | AN10: 20247.95 | AO10: 10447.68 | AP10: 296.841 | AQ10: 153.1661 | AR10: 5.4681 | AS10: 183839.16 | AT10: 7311.5248 | AU10: 731.1525 | AV10: N/A | AW10: =AS10/1.102 -> 166823.19 | AX10: 1 | AY10: =AX10*AW10 -> 166823.19 | AZ10: In-State Emissions
A11: 3247 | B11: NM | C11: Bluffview | D11: 55977 | E11: 110028023430 | F11: Farmington City of | G11: 6204 | I11: 0 | J11: 0 | L11: WAPA - Colorado-Missouri | M11: 28503 | N11: WECC | O11: RMPA | P11: WECC Rockies | Q11: 35 | R11: 045 | S11: San Juan | T11: 36.7164 | U11: -108.2153 | V11: 0 | W11: 1 | X11: 2 | Y11: 1 | Z11: CEM, | AA11: NG | AB11: GAS | AC11: 0 | AD11: 0.5153 | AE11: 67 | AF11: 0 | AG11: 0 | AH11: 0 | AI11: 0 | AJ11: 0 | AK11: 0 | AL11: 2456718 | AM11: 1462959 | AN11: 302460.92 | AO11: 216422.88 | AP11: 58.527 | AQ11: 31.618 | AR11: 0.737 | AS11: 145997.32 | AT11: 5714.326 | AU11: 571.433 | AV11: N/A | AW11: =AS11/1.102 -> 132483.96 | AX11: 1 | AY11: =AX11*AW11 -> 132483.96 | AZ11: In-State Emissions
A12: 3248 | B12: NM | C12: Caprock Wind Farm | D12: 56293 | E12: 110028023449 | F12: Babcock & Brown | G12: -1406 | H12: Southwestern Public Service Co | I12: 17718 | J12: 0 | L12: Southwestern Public Service Company | M12: 17718 | N12: SPP | O12: SPSO | P12: SPP South | Q12: 35 | R12: 037 | S12: Quay | T12: 35.1081 | U12: -103.5359 | V12: 1 | W12: 0 | X12: 2 | Y12: 0 | AA12: WND | AC12: 0 | AD12: 0.3808 | AE12: 80 | AF12: 0 | AG12: 0 | AH12: 0 | AI12: 0 | AJ12: 0 | AK12: 0 | AL12: 0 | AM12: 0 | AN12: 266856.94 | AO12: 126249.33 | AP12: 0 | AQ12: 0 | AR12: 0 | AS12: 0 | AT12: 0 | AU12: 0 | AV12: N/A | AW12: =AS12/1.102 -> 0 | AX12: 1 | AY12: =AX12*AW12 -> 0 | AZ12: In-State Emissions
A13: 3249 | B13: NM | C13: Carlsbad | D13: 2453 | E13: 110028023458 | F13: Southwestern Public Service Co | G13: 17718 | I13: 0 | J13: -7067 | K13: Xcel Energy Inc | L13: Southwestern Public Service Company | M13: 17718 | N13: SPP | O13: SPSO | P13: SPP South | Q13: 35 | R13: 015 | S13: Eddy | T13: 32.4743 | U13: -104.2934 | V13: 1 | W13: 0 | X13: 1 | Y13: 1 | Z13: 906, | AA13: NG | AB13: GAS | AC13: 0 | AD13: 0.0085 | AE13: 16.3 | AF13: 0 | AG13: 0 | AH13: 0 | AI13: 0 | AJ13: 0 | AK13: 0 | AL13: 22624.36 | AM13: 12038.57 | AN13: 1211.97 | AO13: 644.9 | AP13: 3.1222 | AQ13: 1.6613 | AR13: 0.039 | AS13: 1323.1713 | AT13: 52.6243 | AU13: 5.2624 | AV13: N/A | AW13: =AS13/1.102 -> 1200.6999 | AX13: 1 | AY13: =AX13*AW13 -> 1200.6999 | AZ13: In-State Emissions
A14: 3250 | B14: NM | C14: Chino Mines | D14: 54667 | E14: 110028023467 | F14: Phelps Dodge Corp | G14: -1118 | H14: Texas-New Mexico Power Co-NM | I14: 40051.1 | J14: 0 | L14: Public Service Company of New Mexico | M14: 15473 | N14: WECC | O14: AZNM | P14: WECC Southwest | Q14: 35 | R14: 017 | S14: Grant | T14: 32.6994 | U14: -108.1225 | V14: 0 | W14: 0 | X14: 4 | Y14: 1 | Z14: 906, | AA14: NG | AB14: GAS | AC14: 0 | AD14: 0.2605 | AE14: 94 | AF14: 0 | AG14: 1 | AH14: 0 | AI14: N/A | AJ14: 0.817882 | AK14: 0 | AL14: 2204348.3 | AM14: 1137415.1 | AN14: 214508.95 | AO14: 110683.84 | AP14: 169.7348 | AQ14: 87.581 | AR14: 3.7562 | AS14: 128919.91 | AT14: 5127.3141 | AU14: 512.7314 | AV14: N/A | AW14: =AS14/1.102 -> 116987.21 | AX14: 1 | AY14: =AX14*AW14 -> 116987.21 | AZ14: In-State Emissions
A15: 3251 | B15: NM | C15: Ciniza Refinery | D15: 50997 | E15: 110028023476 | F15: Giant Industries Arizona Inc | G15: 6996 | H15: Continental Divide El Coop Inc | I15: 4265 | J15: 0 | L15: Public Service Company of New Mexico | M15: 15473 | N15: WECC | O15: AZNM | P15: WECC Southwest | Q15: 35 | R15: 031 | S15: McKinley | T15: 35.5804 | U15: -108.2599 | V15: 1 | W15: 0 | X15: 2 | Y15: 1 | Z15: 906, | AA15: NG | AB15: GAS | AC15: 0 | AD15: 0.0165 | AE15: 6 | AF15: 0 | AG15: 1 | AH15: 81.608 | AI15: 36.1881 | AJ15: 0.979696 | AK15: 0 | AL15: 11401.709 | AM15: 5883.1317 | AN15: 865.29 | AO15: 446.48 | AP15: 1.5734 | AQ15: 0.8119 | AR15: 0.02 | AS15: 666.8217 | AT15: 26.5204 | AU15: 2.652 | AV15: N/A | AW15: =AS15/1.102 -> 605.10136 | AX15: 1 | AY15: =AX15*AW15 -> 605.10136 | AZ15: In-State Emissions
A16: 3252 | B16: NM | C16: Cunningham | D16: 2454 | E16: 110002468375 | F16: Southwestern Public Service Co | G16: 17718 | I16: 0 | J16: -7067 | K16: Xcel Energy Inc | L16: Southwestern Public Service Company | M16: 17718 | N16: SPP | O16: SPSO | P16: SPP South | Q16: 35 | R16: 025 | S16: Lea | T16: 32.7131 | U16: -103.3533 | V16: 0 | W16: 4 | X16: 4 | Y16: 1 | Z16: CEM, | AA16: NG | AB16: GAS | AC16: 0 | AD16: 0.309 | AE16: 519.2 | AF16: 0 | AG16: 0 | AH16: 0 | AI16: 0 | AJ16: 0 | AK16: 0 | AL16: 15089422 | AM16: 7869751 | AN16: 1405552 | AO16: 729108 | AP16: 1377.982 | AQ16: 706.815 | AR16: 4.528 | AS16: 896690 | AT16: 35097.995 | AU16: 3509.8 | AV16: N/A | AW16: =AS16/1.102 -> 813693.28 | AX16: 1 | AY16: =AX16*AW16 -> 813693.28 | AZ16: In-State Emissions
A17: 3253 | B17: NM | C17: Delta Person LLC | D17: 55039 | E17: 110007145179 | F17: Arroyo Energy | G17: -1514 | H17: Public Service Co of NM | I17: 15473 | J17: 0 | L17: Public Service Company of New Mexico | M17: 15473 | N17: WECC | O17: AZNM | P17: WECC Southwest | Q17: 35 | R17: 001 | S17: Bernalillo | T17: 35.026 | U17: -106.644 | V17: 0 | W17: 1 | X17: 1 | Y17: 1 | Z17: CEM, | AA17: NG | AB17: GAS | AC17: 0 | AD17: 0.0078 | AE17: 150 | AF17: 0 | AG17: 0 | AH17: 0 | AI17: 0 | AJ17: 0 | AK17: 0 | AL17: 73706 | AM17: 36559 | AN17: 10292.91 | AO17: 5172.68 | AP17: 3.634 | AQ17: 1.863 | AR17: 0.14 | AS17: 4491.675 | AT17: 171.44 | AU17: 17.144 | AV17: N/A | AW17: =AS17/1.102 -> 4075.9301 | AX17: 1 | AY17: =AX17*AW17 -> 4075.9301 | AZ17: In-State Emissions
A18: 3254 | B18: NM | C18: El Vado Dam | D18: 7593 | E18: 110028023485 | F18: Los Alamos County | G18: 11204 | I18: 0 | J18: 0 | L18: Public Service Company of New Mexico | M18: 15473 | N18: WECC | O18: AZNM | P18: WECC Southwest | Q18: 35 | R18: 039 | S18: Rio Arriba | T18: 36.511 | U18: -106.6885 | V18: 1 | W18: 0 | X18: 1 | Y18: 0 | AA18: WAT | AC18: 0 | AD18: 0.3093 | AE18: 8 | AF18: 0 | AG18: 0 | AH18: 0 | AI18: 0 | AJ18: 0 | AK18: 0 | AL18: 0 | AM18: 0 | AN18: 21675.93 | AO18: 9900.21 | AP18: 0 | AQ18: 0 | AR18: 0 | AS18: 0 | AT18: 0 | AU18: 0 | AV18: N/A | AW18: =AS18/1.102 -> 0 | AX18: 1 | AY18: =AX18*AW18 -> 0 | AZ18: In-State Emissions
A19: 3255 | B19: NM | C19: Elephant Butte | D19: 6402 | E19: 110028023494 | F19: USBR-Upper Colorado Region | G19: 25472 | I19: 0 | J19: -7061 | K19: US Bureau Of Reclamation | L19: WAPA - Colorado-Missouri | M19: 28503 | N19: WECC | O19: RMPA | P19: WECC Rockies | Q19: 35 | R19: 051 | S19: Sierra | T19: 33.1335 | U19: -107.1819 | V19: 1 | W19: 0 | X19: 3 | Y19: 0 | AA19: WAT | AC19: 0 | AD19: 0.188 | AE19: 27.9 | AF19: 0 | AG19: 0 | AH19: 0 | AI19: 0 | AJ19: 0 | AK19: 0 | AL19: 0 | AM19: 0 | AN19: 45956.95 | AO19: 20990.27 | AP19: 0 | AQ19: 0 | AR19: 0 | AS19: 0 | AT19: 0 | AU19: 0 | AV19: N/A | AW19: =AS19/1.102 -> 0 | AX19: 1 | AY19: =AX19*AW19 -> 0 | AZ19: In-State Emissions
A20: 3256 | B20: NM | C20: Escalante | D20: 87 | E20: 110000758797 | F20: Tri-State G & T Assn, Inc | G20: 30151 | I20: 0 | J20: 0 | L20: Public Service Company of Colorado | M20: 15466 | N20: WECC | O20: RMPA | P20: WECC Rockies | Q20: 35 | R20: 031 | S20: McKinley | T20: 35.4159 | U20: -108.082 | V20: 0 | W20: 1 | X20: 1 | Y20: 1 | Z20: CEM, ICR | AA20: SUB | AB20: COAL | AC20: 1 | AD20: 0.8485 | AE20: 257 | AF20: 0 | AG20: 0 | AH20: 0 | AI20: 0 | AJ20: 0 | AK20: 0 | AL20: 20053106 | AM20: 8327841 | AN20: 1910177 | AO20: 785757 | AP20: 3797.138 | AQ20: 1599.728 | AR20: 1293.216 | AS20: 2057449.2 | AT20: 46643.525 | AU20: 69965.287 | AV20: 3.5331 | AW20: =AS20/1.102 -> 1867013.8 | AX20: 1 | AY20: =AX20*AW20 -> 1867013.8 | AZ20: In-State Emissions
A21: 3257 | B21: NM | C21: Ford Utilities Center | D21: 50906 | E21: 110028023500 | F21: University of New Mexico | G21: 21964 | H21: Public Service Co of NM | I21: 15473 | J21: 0 | L21: Public Service Company of New Mexico | M21: 15473 | N21: WECC | O21: AZNM | P21: WECC Southwest | Q21: 35 | R21: 001 | S21: Bernalillo | T21: 35.057 | U21: -106.6575 | V21: 1 | W21: 0 | X21: 1 | Y21: 1 | Z21: 906, | AA21: NG | AB21: GAS | AC21: 0 | AD21: 0.35 | AE21: 7 | AF21: 0 | AG21: 1 | AH21: 0 | AI21: N/A | AJ21: 0.338875 | AK21: 0 | AL21: 182443.32 | AM21: 108452.52 | AN21: 21463.92 | AO21: 12759.12 | AP21: 25.1772 | AQ21: 14.9664 | AR21: 0.3193 | AS21: 10670.082 | AT21: 424.3632 | AU21: 42.4363 | AV21: N/A | AW21: =AS21/1.102 -> 9682.4696 | AX21: 1 | AY21: =AX21*AW21 -> 9682.4696 | AZ21: In-State Emissions
A22: 3259 | B22: NM | C22: Lordsburg Generating | D22: 7967 | E22: 110007020883 | F22: Public Service Co of NM | G22: 15473 | I22: 0 | J22: -7113 | K22: PNM Resources Inc | L22: Public Service Company of New Mexico | M22: 15473 | N22: WECC | O22: AZNM | P22: WECC Southwest | Q22: 35 | R22: 023 | S22: Hidalgo | T22: 32.3511 | U22: -108.6983 | V22: 0 | W22: 2 | X22: 2 | Y22: 1 | Z22: CEM, | AA22: NG | AB22: GAS | AC22: 0 | AD22: 0.1079 | AE22: 88 | AF22: 0 | AG22: 0 | AH22: 0 | AI22: 0 | AJ22: 0 | AK22: 0 | AL22: 1090684 | AM22: 417517 | AN22: 83140.96 | AO22: 44239.83 | AP22: 58.353 | AQ22: 20.108 | AR22: 0.327 | AS22: 64817.575 | AT22: 2536.931 | AU22: 253.693 | AV22: N/A | AW22: =AS22/1.102 -> 58818.126 | AX22: 1 | AY22: =AX22*AW22 -> 58818.126 | AZ22: In-State Emissions
A23: 3260 | B23: NM | C23: Maddox | D23: 2446 | E23: 110006091059 | F23: Southwestern Public Service Co | G23: 17718 | I23: 0 | J23: -7067 | K23: Xcel Energy Inc | L23: Southwestern Public Service Company | M23: 17718 | N23: SPP | O23: SPSO | P23: SPP South | Q23: 35 | R23: 025 | S23: Lea | T23: 32.7131 | U23: -103.31 | V23: 0 | W23: 1 | X23: 3 | Y23: 1 | Z23: CEM, ,906, | AA23: NG | AB23: GAS | AC23: 0 | AD23: 0.2733 | AE23: 213 | AF23: 0 | AG23: 0 | AH23: 0 | AI23: 0 | AJ23: 0 | AK23: 0 | AL23: 5759004 | AM23: 3310466.2 | AN23: 510037 | AO23: 286645 | AP23: 514.8262 | AQ23: 287.8924 | AR23: 2.6864 | AS23: 341598 | AT23: 13395.443 | AU23: 1339.5448 | AV23: N/A | AW23: =AS23/1.102 -> 309980.04 | AX23: 1 | AY23: =AX23*AW23 -> 309980.04 | AZ23: In-State Emissions
